{"text_format":"1","workbook":"xlsx","n_sheets":45,"sheets":["Inicio","DescriptivosVarCuanti","Muestra","EscalaLikert","Muestra2","ProcesamientoEncuesta","Resultados","Hoja19","Datos","Muestreo Aleatorio","Muestreo Proporc.","Proporcion","Hoja3","Hoja6","Hoja9","Histogramas","MedidasDispersión","Hoja14","Prueba Z","Prueba Hipótesis","PruebaChiCuadrado","Hoja4","Regr_Lineal","Cálculo Ecuación","Correlación","Contingencia2x2","Spearman1","Spearman2","Spearman3","EjMuestra","Ej2","Ej3","Ej4","Ej5","Ej6","Ej61","Ej7","Ej8","Ej9","Hoja26 (2)","Hoja26","Hoja24","Hoja22","Hoja16","Hoja8"],"not_rendered":{"charts":4,"images":21,"macros":1,"external_links":0,"defined_names":94,"comments":0,"pivot_tables":0},"unopened":[],"bounds":{"document_bytes":16777216,"sheet_cells":100000,"rows_first":2000,"rows_last":500,"rows_between":2000,"halvings":0,"cell_chars":16384,"cell_head_chars":4096},"cells_cut":0,"cells_raw":0,"read":"whole","date_system":"1900"}

{"sheet":"Inicio","index":0,"n_rows":28,"n_cols":2,"rows_kept":28,"cut":false,"hidden":false,"merged":[]}
[null,"Indice"]
[null,"Descriptivos para variable cuantitativa"]
[null,"Tamaño muestra para estimar media"]
[null,"Tamaño muestra para escalas Likert"]
[null,"Procesamiento de encuestas"]
[null,"Muestreo para variables cuantitativas"]
[null,"Muestreo proporcional"]
[null,"Histogramas"]
[null,"Medidas de dispersión"]
[null,"Prueba Z"]
[null,"Prueba de hipótesis"]
[null,"Prueba de chi cuadrado"]
[null,"Análisis de regresión lineal"]
[null,"Coeficiente de correlación y determinación"]
[null,"Coeficiente de correlación de Spearman"]
[null,"Tabla de contingencia 2 filas por 2 columnas"]
[null,"Ejercicios"]
[null," Tamaño de muestra para estimar media(Ej. 1 )"]
[null," Tamaño de muestra para estimar proporciones (Ej. 2)"]
[null," Tablas conjuntas"]
[null," Medidas de tendencia central y dispersión"]
[null," Prueba Z"]
[null," Prueba de hipótesis"]
[null," Chi cuadrado"]
[null," Regresión y correlación"]
[]
[null,"Coeficiente de correlaciòn de Spearman"]
[null,"Tablas 2 * 2"]

{"sheet":"DescriptivosVarCuanti","index":1,"n_rows":18,"n_cols":19,"rows_kept":18,"cut":false,"hidden":false,"merged":[[3,6,3,7]]}
[null,null,null,null,null,null,null,null,null,null,null,null,null,null,null,null,null,null,57]
[null,"Número de encuestas",null,8]
[]
[null,"Encuesta","Valor",null,null,null,"Estadística descriptiva"]
[null,1,23,null,null,null,"Media",{"$f":"Datos!B1","v":62.625}]
[null,2,89,null,null,null,"Error típico",{"$f":"Datos!B2","v":10.161090879287659}]
[null,3,90,null,null,null,"Mediana",{"$f":"Datos!B3","v":71}]
[null,4,45,null,null,null,"Moda",{"$f":"Datos!B4","v":23}]
[null,5,23,null,null,null,"Desviación estándar",{"$f":"Datos!B5","v":28.739905059988331}]
[null,6,76,null,null,null,"Varianza de la muestra",{"$f":"Datos!B6","v":825.98214285714289}]
[null,7,89,null,null,null,"Curtosis",{"$f":"Datos!B7","v":-1.5888898810145964}]
[null,8,66,null,null,null,"Coeficiente de asimetría",{"$f":"Datos!B8","v":-0.56382211796981119}]
[null,null,null,null,null,null,"Rango",{"$f":"Datos!B9","v":67}]
[null,null,null,null,null,null,"Mínimo",{"$f":"Datos!B10","v":23}]
[null,null,null,null,null,null,"Máximo",{"$f":"Datos!B11","v":90}]
[null,null,null,null,null,null,"Suma",{"$f":"Datos!B12","v":501}]
[null,null,null,null,null,null,"Cuenta",{"$f":"Datos!B13","v":8},"Ir a Muestra"]
[null,null,null,null,null,null,null,null,"Inicio"]

{"sheet":"Muestra","index":2,"n_rows":23,"n_cols":12,"rows_kept":23,"cut":false,"hidden":false,"merged":[[0,0,0,3],[2,3,3,3]]}
["Homogeneidad de la muestra"]
[]
[null,null,{"$f":"Datos!B5","v":28.739905059988331},{"$f":"L3","v":0.45892063968045238},null,null,null,null,null,null,null,{"$f":"C3/C4","v":0.45892063968045238}]
[null,null,{"$f":"Datos!B1","v":62.625}]
[]
[]
["Población infinita",null,null,{"$f":"Datos!F16","v":393}]
[]
[]
["Confianza",95]
["Error",2.8439999999999999]
["Z",{"$f":"Datos!D16","v":1.9599639845400536}]
["S",{"$f":"Datos!B5","v":28.739905059988331}]
[]
[]
["Población finita",null,null,{"$f":"Datos!H16","v":392.25960226221861}]
[]
[]
[]
["Valor N",5000000,null,"Regresar a Datos"]
[null,null,null,"Inicio"]
[]
[" "]

{"sheet":"EscalaLikert","index":3,"n_rows":18,"n_cols":19,"rows_kept":18,"cut":false,"hidden":false,"merged":[[3,6,3,7]]}
[null,null,null,null,null,null,null,null,null,null,null,null,null,null,null,null,null,null,57]
[null,"Número de encuestas",null,10]
[]
[null,"Encuesta","Valor",null,null,null,"Estadística descriptiva"]
[null,1,2,null,null,null,"Media",{"$f":"Datos!F1","v":3.6}]
[null,2,3,null,null,null,"Error típico",{"$f":"Datos!F2","v":0.63595946761129718}]
[null,3,4,null,null,null,"Mediana",{"$f":"Datos!F3","v":3}]
[null,4,8,null,null,null,"Moda",{"$f":"Datos!F4","v":3}]
[null,5,5,null,null,null,"Desviación estándar",{"$f":"Datos!F5","v":2.0110804171997811}]
[null,6,3,null,null,null,"Varianza de la muestra",{"$f":"Datos!F6","v":4.0444444444444452}]
[null,7,1,null,null,null,"Curtosis",{"$f":"Datos!F7","v":1.5543542015284544}]
[null,8,2,null,null,null,"Coeficiente de asimetría",{"$f":"Datos!F8","v":1.0983107338227274}]
[null,9,3,null,null,null,"Rango",{"$f":"Datos!F9","v":7}]
[null,10,5,null,null,null,"Mínimo",{"$f":"Datos!F10","v":1}]
[null,null,null,null,null,null,"Máximo",{"$f":"Datos!F11","v":8}]
[null,null,null,null,null,null,"Suma",{"$f":"Datos!F12","v":36}]
[null,null,null,null,null,null,"Cuenta",{"$f":"Datos!F13","v":10},"Ir a Muestra2"]
[null,null,null,null,null,null,null,null,"Inicio"]

{"sheet":"Muestra2","index":4,"n_rows":21,"n_cols":8,"rows_kept":21,"cut":false,"hidden":false,"merged":[[0,0,0,3],[2,3,3,3]]}
["Homogeneidad de la muestra"]
[]
[null,null,{"$f":"Datos!F5","v":2.0110804171997811},{"$f":"H12","v":0.5586334492221614}]
[null,null,{"$f":"Datos!F1","v":3.6}]
[]
[]
["Población infinita",null,null,{"$f":"Datos!F17","v":1333}]
[]
[]
["Confianza",95]
["Error",0.03]
["Z",{"$f":"Datos!D17","v":1.9599639845400536},null,null,null,{"$f":"(Datos!F5^2)/((B11^2)*Datos!F1^2/Datos!D17^2)+(Datos!F5^2/B20)","v":1332.0142284223646},null,{"$f":"C3/C4","v":0.5586334492221614}]
["S",{"$f":"Datos!F5","v":2.0110804171997811}]
[]
[null,null,null,null,null,{"$f":"(Datos!F5)","v":2.0110804171997811}]
["Población finita",null,null,{"$f":"Datos!H17","v":571.1854061056415}]
[]
[null,null,null,null,null,{"$f":"(1.29^2)/((0.05^2/1.96^2)+(1.29^2/7584))","v":1912.3344327303539}]
[]
["Valor N",1000,null,"Regresar a Datos"]
[null,null,null,"Inicio"]

{"sheet":"ProcesamientoEncuesta","index":5,"n_rows":60,"n_cols":19,"rows_kept":60,"cut":false,"hidden":false,"merged":[[8,17,8,18],[7,15,7,16],[2,7,2,8],[4,7,4,8],[6,7,6,8],[4,13,4,14]]}
[]
[]
[null,null,null,null,null,null,null,3]
[null,null,null,null,null,null,5]
[null,null,null,null,null,"Parcialmente de acuerdo",4,50,null,null,null,null,null,1]
[null,null,null,null,null,"Indiferente",3]
[null,null,null,null,null,"Practicamente en desacuerdo",2,5,null,null,null,null,null,null,null,null,null,null,"Resultados"]
[]
[null,null,null,null,null,null,null,null,null,null,null,null,null,null,null,null,null,"Inicio"]
[null,null,"R1","R2","R3"]
[null,1,2,2,1]
[null,2,3,2,1]
[null,3,4,2,1]
[null,4,5,2,1]
[null,5,2,2,1]
[null,6,3,2,1]
[null,7,4,2,1]
[null,8,5,2,1]
[null,9,2,2,1]
[null,10,2,2,1]
[null,11,2,3,1]
[null,12,3,3,1]
[null,13,3,3,1]
[null,14,4,3,1]
[null,15,5,3,1]
[null,16,5,3,1]
[null,17,3,3,1]
[null,18,4,3,2]
[null,19,4,4,2]
[null,20,2,4,2]
[null,21,2,4,2]
[null,22,2,4,2]
[null,23,3,4,2]
[null,24,3,4,2]
[null,25,3,4,2]
[null,26,4,5,2]
[null,27,4,5,2]
[null,28,4,5,2]
[null,29,5,5,2]
[null,30,5,5,2]
[null,31,5,5,3]
[null,32,2,5,3]
[null,33,3,1,3]
[null,34,4,2,3]
[null,35,5,3,3]
[null,36,4,4,3]
[null,37,4,5,3]
[null,38,3,5,3]
[null,39,2,4,3]
[null,40,1,3,3]
[null,41,2,2,4]
[null,42,3,1,4]
[null,43,4,2,4]
[null,44,5,3,4]
[null,45,2,4,4]
[null,46,2,3,4]
[null,47,2,2,4]
[null,48,2,1,4]
[null,49,2,4,5]
[null,50,2,5,5]

{"sheet":"Resultados","index":6,"n_rows":65,"n_cols":13,"rows_kept":65,"cut":false,"hidden":false,"merged":[[8,11,8,12],[6,7,6,8],[6,11,6,12],[1,7,1,9],[1,11,1,12],[2,7,2,8],[4,7,4,8],[5,7,5,8]]}
[]
[null,"Tabla de distribución de frecuencias",null,null,null,null,null,"Medidas de dispersión",null,null,null,"Tendencias"]
[null,"Yi","ni","hi","Ni","Hi",null,"Calificación máx.",null,{"$f":"Hoja19!Q8","v":5},null,"Moda",{"$f":"Hoja19!Q13","v":2}]
[null,1,{"$f":"Hoja19!G9","v":1},{"$f":"Hoja19!I9","v":0.02},{"$f":"Hoja19!L9","v":1},{"$f":"Hoja19!O9","v":0.02},null,"Calificación mín.",null,{"$f":"Hoja19!Q9","v":1},null,"Media",{"$f":"Hoja19!Q14","v":3.22}]
[null,2,{"$f":"Hoja19!G10","v":17},{"$f":"Hoja19!I10","v":0.34},{"$f":"Hoja19!L10","v":18},{"$f":"Hoja19!O10","v":0.36},null,"Rango",null,{"$f":"Hoja19!Q10","v":4}]
[null,3,{"$f":"Hoja19!G11","v":11},{"$f":"Hoja19!I11","v":0.22},{"$f":"Hoja19!L11","v":29},{"$f":"Hoja19!O11","v":0.57999999999999996},null,"Desv. estándar",null,{"$f":"Hoja19!Q11","v":1.1656652650757344}]
[null,4,{"$f":"Hoja19!G12","v":12},{"$f":"Hoja19!I12","v":0.24},{"$f":"Hoja19!L12","v":41},{"$f":"Hoja19!O12","v":0.82},null,"Varianza",null,{"$f":"Hoja19!Q12","v":1.3587755102040824},null,"Regresar a Procesamiento"]
[null,5,{"$f":"Hoja19!G13","v":9},{"$f":"Hoja19!I13","v":0.18},{"$f":"Hoja19!L13","v":50},{"$f":"Hoja19!O13","v":1}]
[null,null,{"$f":"Hoja19!G14","v":""},{"$f":"Hoja19!I14","v":""},{"$f":"Hoja19!L14","v":""},{"$f":"Hoja19!O14","v":""},null,null,null,null,null,"Inicio"]
[null,null,{"$f":"Hoja19!G15","v":""},{"$f":"Hoja19!I15","v":""},{"$f":"Hoja19!L15","v":""},{"$f":"Hoja19!O15","v":""}]
[null,null,{"$f":"Hoja19!G16","v":""},{"$f":"Hoja19!I16","v":""},{"$f":"Hoja19!L16","v":""},{"$f":"Hoja19!O16","v":""}]
[null,null,{"$f":"Hoja19!G17","v":""},{"$f":"Hoja19!I17","v":""},{"$f":"Hoja19!L17","v":""},{"$f":"Hoja19!O17","v":""}]
[null,null,{"$f":"Hoja19!G18","v":""},{"$f":"Hoja19!I18","v":""},{"$f":"Hoja19!L18","v":""},{"$f":"Hoja19!O18","v":""}]
[null,null,{"$f":"Hoja19!G19","v":""},{"$f":"Hoja19!I19","v":""},{"$f":"Hoja19!L19","v":""},{"$f":"Hoja19!O19","v":""}]
[null,null,{"$f":"Hoja19!G20","v":""},{"$f":"Hoja19!I20","v":""},{"$f":"Hoja19!L20","v":""},{"$f":"Hoja19!O20","v":""}]
[null,null,{"$f":"Hoja19!G21","v":""},{"$f":"Hoja19!I21","v":""},{"$f":"Hoja19!L21","v":""},{"$f":"Hoja19!O21","v":""}]
[null,null,{"$f":"Hoja19!G22","v":""},{"$f":"Hoja19!I22","v":""},{"$f":"Hoja19!L22","v":""},{"$f":"Hoja19!O22","v":""}]
[null,null,{"$f":"Hoja19!G23","v":""},{"$f":"Hoja19!I23","v":""},{"$f":"Hoja19!L23","v":""},{"$f":"Hoja19!O23","v":""}]
[null,null,{"$f":"Hoja19!G24","v":""},{"$f":"Hoja19!I24","v":""},{"$f":"Hoja19!L24","v":""},{"$f":"Hoja19!O24","v":""}]
[null,null,{"$f":"Hoja19!G25","v":""},{"$f":"Hoja19!I25","v":""},{"$f":"Hoja19!L25","v":""},{"$f":"Hoja19!O25","v":""}]
[null,null,{"$f":"Hoja19!G26","v":""},{"$f":"Hoja19!I26","v":""},{"$f":"Hoja19!L26","v":""},{"$f":"Hoja19!O26","v":""}]
[null,null,{"$f":"Hoja19!G27","v":""},{"$f":"Hoja19!I27","v":""},{"$f":"Hoja19!L27","v":""},{"$f":"Hoja19!O27","v":""}]
[null,null,{"$f":"Hoja19!G28","v":""},{"$f":"Hoja19!I28","v":""},{"$f":"Hoja19!L28","v":""},{"$f":"Hoja19!O28","v":""}]
[null,null,{"$f":"Hoja19!G29","v":""},{"$f":"Hoja19!I29","v":""},{"$f":"Hoja19!L29","v":""},{"$f":"Hoja19!O29","v":""}]
[null,null,{"$f":"Hoja19!G30","v":""},{"$f":"Hoja19!I30","v":""},{"$f":"Hoja19!L30","v":""},{"$f":"Hoja19!O30","v":""}]
[null,null,{"$f":"Hoja19!G31","v":""},{"$f":"Hoja19!I31","v":""},{"$f":"Hoja19!L31","v":""},{"$f":"Hoja19!O31","v":""}]
[null,null,{"$f":"Hoja19!G32","v":""},{"$f":"Hoja19!I32","v":""},{"$f":"Hoja19!L32","v":""},{"$f":"Hoja19!O32","v":""}]
[null,null,{"$f":"Hoja19!G33","v":""},{"$f":"Hoja19!I33","v":""},{"$f":"Hoja19!L33","v":""},{"$f":"Hoja19!O33","v":""}]
[null,null,{"$f":"Hoja19!G34","v":""},{"$f":"Hoja19!I34","v":""},{"$f":"Hoja19!L34","v":""},{"$f":"Hoja19!O34","v":""}]
[null,null,{"$f":"Hoja19!G35","v":""},{"$f":"Hoja19!I35","v":""},{"$f":"Hoja19!L35","v":""},{"$f":"Hoja19!O35","v":""}]
[null,null,{"$f":"Hoja19!G36","v":""},{"$f":"Hoja19!I36","v":""},{"$f":"Hoja19!L36","v":""},{"$f":"Hoja19!O36","v":""}]
[null,null,{"$f":"Hoja19!G37","v":""},{"$f":"Hoja19!I37","v":""},{"$f":"Hoja19!L37","v":""},{"$f":"Hoja19!O37","v":""}]
[null,null,{"$f":"Hoja19!G38","v":""},{"$f":"Hoja19!I38","v":""},{"$f":"Hoja19!L38","v":""},{"$f":"Hoja19!O38","v":""}]
[null,null,{"$f":"Hoja19!G39","v":""},{"$f":"Hoja19!I39","v":""},{"$f":"Hoja19!L39","v":""},{"$f":"Hoja19!O39","v":""}]
[null,null,{"$f":"Hoja19!G40","v":""},{"$f":"Hoja19!I40","v":""},{"$f":"Hoja19!L40","v":""},{"$f":"Hoja19!O40","v":""}]
[null,null,{"$f":"Hoja19!G41","v":""},{"$f":"Hoja19!I41","v":""},{"$f":"Hoja19!L41","v":""},{"$f":"Hoja19!O41","v":""}]
[null,null,{"$f":"Hoja19!G42","v":""},{"$f":"Hoja19!I42","v":""},{"$f":"Hoja19!L42","v":""},{"$f":"Hoja19!O42","v":""}]
[null,null,{"$f":"Hoja19!G43","v":""},{"$f":"Hoja19!I43","v":""},{"$f":"Hoja19!L43","v":""},{"$f":"Hoja19!O43","v":""}]
[null,null,{"$f":"Hoja19!G44","v":""},{"$f":"Hoja19!I44","v":""},{"$f":"Hoja19!L44","v":""},{"$f":"Hoja19!O44","v":""}]
[null,null,{"$f":"Hoja19!G45","v":""},{"$f":"Hoja19!I45","v":""},{"$f":"Hoja19!L45","v":""},{"$f":"Hoja19!O45","v":""}]
[null,null,{"$f":"Hoja19!G46","v":""},{"$f":"Hoja19!I46","v":""},{"$f":"Hoja19!L46","v":""},{"$f":"Hoja19!O46","v":""}]
[null,null,{"$f":"Hoja19!G47","v":""},{"$f":"Hoja19!I47","v":""},{"$f":"Hoja19!L47","v":""},{"$f":"Hoja19!O47","v":""}]
[null,null,{"$f":"Hoja19!G48","v":""},{"$f":"Hoja19!I48","v":""},{"$f":"Hoja19!L48","v":""},{"$f":"Hoja19!O48","v":""}]
[null,null,{"$f":"Hoja19!G49","v":""},{"$f":"Hoja19!I49","v":""},{"$f":"Hoja19!L49","v":""},{"$f":"Hoja19!O49","v":""}]
[null,null,{"$f":"Hoja19!G50","v":""},{"$f":"Hoja19!I50","v":""},{"$f":"Hoja19!L50","v":""},{"$f":"Hoja19!O50","v":""}]
[null,null,{"$f":"Hoja19!G51","v":""},{"$f":"Hoja19!I51","v":""},{"$f":"Hoja19!L51","v":""},{"$f":"Hoja19!O51","v":""}]
[null,null,{"$f":"Hoja19!G52","v":""},{"$f":"Hoja19!I52","v":""},{"$f":"Hoja19!L52","v":""},{"$f":"Hoja19!O52","v":""}]
[null,null,{"$f":"Hoja19!G53","v":""},{"$f":"Hoja19!I53","v":""},{"$f":"Hoja19!L53","v":""},{"$f":"Hoja19!O53","v":""}]
[null,null,{"$f":"Hoja19!G54","v":""},{"$f":"Hoja19!I54","v":""},{"$f":"Hoja19!L54","v":""},{"$f":"Hoja19!O54","v":""}]
[null,null,{"$f":"Hoja19!G55","v":""},{"$f":"Hoja19!I55","v":""},{"$f":"Hoja19!L55","v":""},{"$f":"Hoja19!O55","v":""}]
[null,null,{"$f":"Hoja19!G56","v":""},{"$f":"Hoja19!I56","v":""},{"$f":"Hoja19!L56","v":""},{"$f":"Hoja19!O56","v":""}]
[null,null,{"$f":"Hoja19!G57","v":""},{"$f":"Hoja19!I57","v":""},{"$f":"Hoja19!L57","v":""},{"$f":"Hoja19!O57","v":""}]
[null,null,{"$f":"Hoja19!G58","v":""},{"$f":"Hoja19!I58","v":""},{"$f":"Hoja19!L58","v":""},{"$f":"Hoja19!O58","v":""}]
[null,null,{"$f":"Hoja19!G59","v":""},{"$f":"Hoja19!I59","v":""},{"$f":"Hoja19!L59","v":""},{"$f":"Hoja19!O59","v":""}]
[null,null,{"$f":"Hoja19!G60","v":""},{"$f":"Hoja19!I60","v":""},{"$f":"Hoja19!L60","v":""},{"$f":"Hoja19!O60","v":""}]
[null,null,{"$f":"Hoja19!G61","v":""},{"$f":"Hoja19!I61","v":""},{"$f":"Hoja19!L61","v":""},{"$f":"Hoja19!O61","v":""}]
[null,null,{"$f":"Hoja19!G62","v":""},{"$f":"Hoja19!I62","v":""},{"$f":"Hoja19!L62","v":""},{"$f":"Hoja19!O62","v":""}]
[null,null,{"$f":"Hoja19!G63","v":""},{"$f":"Hoja19!I63","v":""},{"$f":"Hoja19!L63","v":""},{"$f":"Hoja19!O63","v":""}]
[null,null,{"$f":"Hoja19!G64","v":""},{"$f":"Hoja19!I64","v":""},{"$f":"Hoja19!L64","v":""},{"$f":"Hoja19!O64","v":""}]
[null,null,{"$f":"Hoja19!G65","v":""},{"$f":"Hoja19!I65","v":""},{"$f":"Hoja19!L65","v":""},{"$f":"Hoja19!O65","v":""}]
[null,null,{"$f":"Hoja19!G66","v":""},{"$f":"Hoja19!I66","v":""},{"$f":"Hoja19!L66","v":""},{"$f":"Hoja19!O66","v":""}]
[null,null,{"$f":"Hoja19!G67","v":""},{"$f":"Hoja19!I67","v":""},{"$f":"Hoja19!L67","v":""},{"$f":"Hoja19!O67","v":""}]
[null,null,{"$f":"Hoja19!G68","v":""},{"$f":"Hoja19!I68","v":""},{"$f":"Hoja19!L68","v":""},{"$f":"Hoja19!O68","v":""}]
[null,null,{"$f":"Hoja19!G69","v":""},{"$f":"Hoja19!I69","v":""},{"$f":"Hoja19!L69","v":""},{"$f":"Hoja19!O69","v":""}]
[null,null,{"$f":"Hoja19!G70","v":""},{"$f":"Hoja19!I70","v":""},{"$f":"Hoja19!L70","v":""},{"$f":"Hoja19!O70","v":""}]

{"sheet":"Hoja19","index":7,"n_rows":508,"n_cols":17,"rows_kept":508,"cut":false,"hidden":true,"merged":[]}
[]
[]
[]
[]
[]
[]
[]
[null,"R1",null,null,null,"CONTAR SI",null,null,"hi",null,null,"Ni",null,null,"Hi","maximo",{"$f":"MAX(B9:B508)","v":5}]
[1,2,null,{"$f":"COUNT(B9:B508)","v":50},"contar",{"$f":"COUNTIF($B$9:$B$510,Resultados!B4)","v":1},{"$f":"IF(F9 <> 0,F9,\"\")","v":1},{"$f":"F9/$D$9","v":0.02},{"$f":"IF(H9 <> 0,H9,\"\")","v":0.02},{"$f":"F9","v":1},{"$f":"IF(H9<>0,J9,0)","v":1},{"$f":"IF(K9 <> 0,K9,\"\")","v":1},{"$f":"L9/$D$9","v":0.02},{"$f":"IF(K9<>0,M9,0)","v":0.02},{"$f":"IF(N9 <> 0,N9,\"\")","v":0.02},"minimo",{"$f":"MIN(B9:B509)","v":1}]
[2,3,null,null,null,{"$f":"COUNTIF($B$9:$B$510,Resultados!B5)","v":17},{"$f":"IF(F10 <> 0,F10,\"\")","v":17},{"$f":"F10/$D$9","v":0.34},{"$f":"IF(H10 <> 0,H10,\"\")","v":0.34},{"$f":"J9+F10","v":18},{"$f":"IF(H10<>0,J10,0)","v":18},{"$f":"IF(K10 <> 0,K10,\"\")","v":18},{"$f":"L10/$D$9","v":0.36},{"$f":"IF(K10<>0,M10,0)","v":0.36},{"$f":"IF(N10 <> 0,N10,\"\")","v":0.36},"rango",{"$f":"Q8-Q9","v":4}]
[3,4,null,null,null,{"$f":"COUNTIF($B$9:$B$510,Resultados!B6)","v":11},{"$f":"IF(F11 <> 0,F11,\"\")","v":11},{"$f":"F11/$D$9","v":0.22},{"$f":"IF(H11 <> 0,H11,\"\")","v":0.22},{"$f":"J10+F11","v":29},{"$f":"IF(H11<>0,J11,0)","v":29},{"$f":"IF(K11 <> 0,K11,\"\")","v":29},{"$f":"L11/$D$9","v":0.57999999999999996},{"$f":"IF(K11<>0,M11,0)","v":0.57999999999999996},{"$f":"IF(N11 <> 0,N11,\"\")","v":0.57999999999999996},"desv. Est",{"$f":"_xlfn.STDEV.S(B9:B508)","v":1.1656652650757344}]
[4,5,null,null,null,{"$f":"COUNTIF($B$9:$B$510,Resultados!B7)","v":12},12,0.24,0.24,41,41,41,0.82,0.82,0.82,"vaianza",{"$f":"VAR(B9:B508)","v":1.3587755102040824}]
[5,2,null,null,null,{"$f":"COUNTIF($B$9:$B$510,Resultados!B8)","v":9},9,0.18,0.18,50,50,50,1,1,1,"moda",{"$f":"_xlfn.MODE.SNGL(B9:B508)","v":2}]
[6,3,null,null,null,{"$f":"COUNTIF($B$9:$B$510,Resultados!B9)","v":0},"",0,"",50,0,"",{"$error":"#VALUE!"},0,"","media",{"$f":"Q15/D9","v":3.22}]
[7,4,null,null,null,{"$f":"COUNTIF($B$9:$B$510,Resultados!B10)","v":0},"",0,"",50,0,"",{"$error":"#VALUE!"},0,"","suma",{"$f":"SUM(B9:B508)","v":161}]
[8,5,null,null,null,{"$f":"COUNTIF($B$9:$B$510,Resultados!B11)","v":0},"",0,"",{"$f":"J15+F16","v":50},0,"",{"$error":"#VALUE!"},0,""]
[9,2,null,null,null,{"$f":"COUNTIF($B$9:$B$510,Resultados!B12)","v":0},"",0,"",50,0,"",{"$error":"#VALUE!"},0,""]
[10,2,null,null,null,{"$f":"COUNTIF($B$9:$B$510,Resultados!B13)","v":0},"",0,"",50,0,"",{"$error":"#VALUE!"},0,""]
[11,2,null,null,null,{"$f":"COUNTIF($B$9:$B$510,Resultados!B14)","v":0},"",0,"",50,0,"",{"$error":"#VALUE!"},0,""]
[12,3,null,null,null,{"$f":"COUNTIF($B$9:$B$510,Resultados!B15)","v":0},"",0,"",50,0,"",{"$error":"#VALUE!"},0,""]
[13,3,null,null,null,{"$f":"COUNTIF($B$9:$B$510,Resultados!B16)","v":0},"",0,"",50,0,"",{"$error":"#VALUE!"},0,""]
[14,4,null,null,null,{"$f":"COUNTIF($B$9:$B$510,Resultados!B17)","v":0},"",0,"",50,0,"",{"$error":"#VALUE!"},0,""]
[15,5,null,null,null,{"$f":"COUNTIF($B$9:$B$510,Resultados!B18)","v":0},"",0,"",50,0,"",{"$error":"#VALUE!"},0,""]
[16,5,null,null,null,{"$f":"COUNTIF($B$9:$B$510,Resultados!B19)","v":0},"",0,"",50,0,"",{"$error":"#VALUE!"},0,""]
[17,3,null,null,null,{"$f":"COUNTIF($B$9:$B$510,Resultados!B20)","v":0},"",0,"",50,0,"",{"$error":"#VALUE!"},0,""]
[18,4,null,null,null,{"$f":"COUNTIF($B$9:$B$510,Resultados!B21)","v":0},"",0,"",50,0,"",{"$error":"#VALUE!"},0,""]
[19,4,null,null,null,{"$f":"COUNTIF($B$9:$B$510,Resultados!B22)","v":0},"",0,"",50,0,"",{"$error":"#VALUE!"},0,""]
[20,2,null,null,null,{"$f":"COUNTIF($B$9:$B$510,Resultados!B23)","v":0},"",0,"",50,0,"",{"$error":"#VALUE!"},0,""]
[21,2,null,null,null,{"$f":"COUNTIF($B$9:$B$510,Resultados!B24)","v":0},"",0,"",50,0,"",{"$error":"#VALUE!"},0,""]
[22,2,null,null,null,{"$f":"COUNTIF($B$9:$B$510,Resultados!B25)","v":0},"",0,"",50,0,"",{"$error":"#VALUE!"},0,""]
[23,3,null,null,null,{"$f":"COUNTIF($B$9:$B$510,Resultados!B26)","v":0},"",0,"",50,0,"",{"$error":"#VALUE!"},0,""]
[24,3,null,null,null,{"$f":"COUNTIF($B$9:$B$510,Resultados!B27)","v":0},"",0,"",50,0,"",{"$error":"#VALUE!"},0,""]
[25,3,null,null,null,{"$f":"COUNTIF($B$9:$B$510,Resultados!B28)","v":0},"",0,"",50,0,"",{"$error":"#VALUE!"},0,""]
[26,4,null,null,null,{"$f":"COUNTIF($B$9:$B$510,Resultados!B29)","v":0},"",0,"",50,0,"",{"$error":"#VALUE!"},0,""]
[27,4,null,null,null,{"$f":"COUNTIF($B$9:$B$510,Resultados!B30)","v":0},"",0,"",50,0,"",{"$error":"#VALUE!"},0,""]
[28,4,null,null,null,{"$f":"COUNTIF($B$9:$B$510,Resultados!B31)","v":0},"",0,"",50,0,"",{"$error":"#VALUE!"},0,""]
[29,5,null,null,null,{"$f":"COUNTIF($B$9:$B$510,Resultados!B32)","v":0},"",0,"",50,0,"",{"$error":"#VALUE!"},0,""]
[30,5,null,null,null,{"$f":"COUNTIF($B$9:$B$510,Resultados!B33)","v":0},"",0,"",50,0,"",{"$error":"#VALUE!"},0,""]
[31,5,null,null,null,{"$f":"COUNTIF($B$9:$B$510,Resultados!B34)","v":0},"",0,"",50,0,"",{"$error":"#VALUE!"},0,""]
[32,2,null,null,null,{"$f":"COUNTIF($B$9:$B$510,Resultados!B35)","v":0},"",0,"",50,0,"",{"$error":"#VALUE!"},0,""]
[33,3,null,null,null,{"$f":"COUNTIF($B$9:$B$510,Resultados!B36)","v":0},"",0,"",50,0,"",{"$error":"#VALUE!"},0,""]
[34,4,null,null,null,{"$f":"COUNTIF($B$9:$B$510,Resultados!B37)","v":0},"",0,"",50,0,"",{"$error":"#VALUE!"},0,""]
[35,5,null,null,null,{"$f":"COUNTIF($B$9:$B$510,Resultados!B38)","v":0},"",0,"",50,0,"",{"$error":"#VALUE!"},0,""]
[36,4,null,null,null,{"$f":"COUNTIF($B$9:$B$510,Resultados!B39)","v":0},"",0,"",50,0,"",{"$error":"#VALUE!"},0,""]
[37,4,null,null,null,{"$f":"COUNTIF($B$9:$B$510,Resultados!B40)","v":0},"",0,"",50,0,"",{"$error":"#VALUE!"},0,""]
[38,3,null,null,null,{"$f":"COUNTIF($B$9:$B$510,Resultados!B41)","v":0},"",0,"",50,0,"",{"$error":"#VALUE!"},0,""]
[39,2,null,null,null,{"$f":"COUNTIF($B$9:$B$510,Resultados!B42)","v":0},"",0,"",50,0,"",{"$error":"#VALUE!"},0,""]
[40,1,null,null,null,{"$f":"COUNTIF($B$9:$B$510,Resultados!B43)","v":0},"",0,"",50,0,"",{"$error":"#VALUE!"},0,""]
[41,2,null,null,null,{"$f":"COUNTIF($B$9:$B$510,Resultados!B44)","v":0},"",0,"",50,0,"",{"$error":"#VALUE!"},0,""]
[42,3,null,null,null,{"$f":"COUNTIF($B$9:$B$510,Resultados!B45)","v":0},"",0,"",50,0,"",{"$error":"#VALUE!"},0,""]
[43,4,null,null,null,{"$f":"COUNTIF($B$9:$B$510,Resultados!B46)","v":0},"",0,"",50,0,"",{"$error":"#VALUE!"},0,""]
[44,5,null,null,null,{"$f":"COUNTIF($B$9:$B$510,Resultados!B47)","v":0},"",0,"",50,0,"",{"$error":"#VALUE!"},0,""]
[45,2,null,null,null,{"$f":"COUNTIF($B$9:$B$510,Resultados!B48)","v":0},"",0,"",50,0,"",{"$error":"#VALUE!"},0,""]
[46,2,null,null,null,{"$f":"COUNTIF($B$9:$B$510,Resultados!B49)","v":0},"",0,"",50,0,"",{"$error":"#VALUE!"},0,""]
[47,2,null,null,null,{"$f":"COUNTIF($B$9:$B$510,Resultados!B50)","v":0},"",0,"",50,0,"",{"$error":"#VALUE!"},0,""]
[48,2,null,null,null,{"$f":"COUNTIF($B$9:$B$510,Resultados!B51)","v":0},"",0,"",50,0,"",{"$error":"#VALUE!"},0,""]
[49,2,null,null,null,{"$f":"COUNTIF($B$9:$B$510,Resultados!B52)","v":0},"",0,"",50,0,"",{"$error":"#VALUE!"},0,""]
[50,2,null,null,null,{"$f":"COUNTIF($B$9:$B$510,Resultados!B53)","v":0},"",0,"",50,0,"",{"$error":"#VALUE!"},0,""]
[null,null,null,null,null,{"$f":"COUNTIF($B$9:$B$510,Resultados!B54)","v":0},"",0,"",50,0,"",{"$error":"#VALUE!"},0,""]
[null,null,null,null,null,{"$f":"COUNTIF($B$9:$B$510,Resultados!B55)","v":0},"",0,"",50,0,"",{"$error":"#VALUE!"},0,""]
[null,null,null,null,null,{"$f":"COUNTIF($B$9:$B$510,Resultados!B56)","v":0},"",0,"",50,0,"",{"$error":"#VALUE!"},0,""]
[null,null,null,null,null,{"$f":"COUNTIF($B$9:$B$510,Resultados!B57)","v":0},"",0,"",50,0,"",{"$error":"#VALUE!"},0,""]
[null,null,null,null,null,{"$f":"COUNTIF($B$9:$B$510,Resultados!B58)","v":0},"",0,"",50,0,"",{"$error":"#VALUE!"},0,""]
[null,null,null,null,null,{"$f":"COUNTIF($B$9:$B$510,Resultados!B59)","v":0},"",0,"",50,0,"",{"$error":"#VALUE!"},0,""]
[null,null,null,null,null,{"$f":"COUNTIF($B$9:$B$510,Resultados!B60)","v":0},"",0,"",50,0,"",{"$error":"#VALUE!"},0,""]
[null,null,null,null,null,{"$f":"COUNTIF($B$9:$B$510,Resultados!B61)","v":0},"",0,"",50,0,"",{"$error":"#VALUE!"},0,""]
[null,null,null,null,null,{"$f":"COUNTIF($B$9:$B$510,Resultados!B62)","v":0},"",0,"",50,0,"",{"$error":"#VALUE!"},0,""]
[null,null,null,null,null,{"$f":"COUNTIF($B$9:$B$510,Resultados!B63)","v":0},"",0,"",50,0,"",{"$error":"#VALUE!"},0,""]
[null,null,null,null,null,{"$f":"COUNTIF($B$9:$B$510,Resultados!B64)","v":0},"",0,"",50,0,"",{"$error":"#VALUE!"},0,""]
[null,null,null,null,null,{"$f":"COUNTIF($B$9:$B$510,Resultados!B65)","v":0},"",0,"",50,0,"",{"$error":"#VALUE!"},0,""]
[null,null,null,null,null,{"$f":"COUNTIF($B$9:$B$510,Resultados!B66)","v":0},"",0,"",50,0,"",{"$error":"#VALUE!"},0,""]
[null,null,null,null,null,{"$f":"COUNTIF($B$9:$B$510,Resultados!B67)","v":0},"",0,"",50,0,"",{"$error":"#VALUE!"},0,""]
[null,null,null,null,null,{"$f":"COUNTIF($B$9:$B$510,Resultados!B68)","v":0},"",0,"",50,0,"",{"$error":"#VALUE!"},0,""]
[null,null,null,null,null,{"$f":"COUNTIF($B$9:$B$510,Resultados!B69)","v":0},{"$f":"IF(F74 <> 0,F74,\"\")","v":""},{"$f":"F74/$D$9","v":0},{"$f":"IF(H74 <> 0,H74,\"\")","v":""},50,{"$f":"IF(H74<>0,J74,0)","v":0},{"$f":"IF(K74 <> 0,K74,\"\")","v":""},{"$f":"L74/$D$9","v":{"$error":"#VALUE!"}},{"$f":"IF(K74<>0,M74,0)","v":0},{"$f":"IF(N74 <> 0,N74,\"\")","v":""}]
[null,null,null,null,null,{"$f":"COUNTIF($B$9:$B$510,Resultados!B70)","v":0},"",0,"",{"$f":"J74+F75","v":50},0,"",{"$error":"#VALUE!"},0,""]
[null,null,null,null,null,{"$f":"COUNTIF($B$9:$B$510,Resultados!B71)","v":0},"",0,"",50,0,"",{"$error":"#VALUE!"},0,""]
[null,null,null,null,null,{"$f":"COUNTIF($B$9:$B$510,Resultados!B72)","v":0},"",0,"",50,0,"",{"$error":"#VALUE!"},0,""]
[null,null,null,null,null,{"$f":"COUNTIF($B$9:$B$510,Resultados!B73)","v":0},"",0,"",50,0,"",{"$error":"#VALUE!"},0,""]
[null,null,null,null,null,{"$f":"COUNTIF($B$9:$B$510,Resultados!B74)","v":0},"",0,"",50,0,"",{"$error":"#VALUE!"},0,""]
[null,null,null,null,null,{"$f":"COUNTIF($B$9:$B$510,Resultados!B75)","v":0},"",0,"",50,0,"",{"$error":"#VALUE!"},0,""]
[null,null,null,null,null,{"$f":"COUNTIF($B$9:$B$510,Resultados!B76)","v":0},"",0,"",50,0,"",{"$error":"#VALUE!"},0,""]
[null,null,null,null,null,{"$f":"COUNTIF($B$9:$B$510,Resultados!B77)","v":0},"",0,"",50,0,"",{"$error":"#VALUE!"},0,""]
[null,null,null,null,null,{"$f":"COUNTIF($B$9:$B$510,Resultados!B78)","v":0},"",0,"",50,0,"",{"$error":"#VALUE!"},0,""]
[null,null,null,null,null,{"$f":"COUNTIF($B$9:$B$510,Resultados!B79)","v":0},"",0,"",50,0,"",{"$error":"#VALUE!"},0,""]
[null,null,null,null,null,{"$f":"COUNTIF($B$9:$B$510,Resultados!B80)","v":0},"",0,"",50,0,"",{"$error":"#VALUE!"},0,""]
[null,null,null,null,null,{"$f":"COUNTIF($B$9:$B$510,Resultados!B81)","v":0},"",0,"",50,0,"",{"$error":"#VALUE!"},0,""]
[null,null,null,null,null,{"$f":"COUNTIF($B$9:$B$510,Resultados!B82)","v":0},"",0,"",50,0,"",{"$error":"#VALUE!"},0,""]
[null,null,null,null,null,{"$f":"COUNTIF($B$9:$B$510,Resultados!B83)","v":0},"",0,"",50,0,"",{"$error":"#VALUE!"},0,""]
[null,null,null,null,null,{"$f":"COUNTIF($B$9:$B$510,Resultados!B84)","v":0},"",0,"",50,0,"",{"$error":"#VALUE!"},0,""]
[null,null,null,null,null,{"$f":"COUNTIF($B$9:$B$510,Resultados!B85)","v":0},"",0,"",50,0,"",{"$error":"#VALUE!"},0,""]
[null,null,null,null,null,{"$f":"COUNTIF($B$9:$B$510,Resultados!B86)","v":0},"",0,"",50,0,"",{"$error":"#VALUE!"},0,""]
[null,null,null,null,null,{"$f":"COUNTIF($B$9:$B$510,Resultados!B87)","v":0},"",0,"",50,0,"",{"$error":"#VALUE!"},0,""]
[null,null,null,null,null,{"$f":"COUNTIF($B$9:$B$510,Resultados!B88)","v":0},"",0,"",50,0,"",{"$error":"#VALUE!"},0,""]
[null,null,null,null,null,{"$f":"COUNTIF($B$9:$B$510,Resultados!B89)","v":0},"",0,"",50,0,"",{"$error":"#VALUE!"},0,""]
[null,null,null,null,null,{"$f":"COUNTIF($B$9:$B$510,Resultados!B90)","v":0},"",0,"",50,0,"",{"$error":"#VALUE!"},0,""]
[null,null,null,null,null,{"$f":"COUNTIF($B$9:$B$510,Resultados!B91)","v":0},"",0,"",50,0,"",{"$error":"#VALUE!"},0,""]
[null,null,null,null,null,{"$f":"COUNTIF($B$9:$B$510,Resultados!B92)","v":0},"",0,"",50,0,"",{"$error":"#VALUE!"},0,""]
[null,null,null,null,null,{"$f":"COUNTIF($B$9:$B$510,Resultados!B93)","v":0},"",0,"",50,0,"",{"$error":"#VALUE!"},0,""]
[null,null,null,null,null,{"$f":"COUNTIF($B$9:$B$510,Resultados!B94)","v":0},"",0,"",50,0,"",{"$error":"#VALUE!"},0,""]
[null,null,null,null,null,{"$f":"COUNTIF($B$9:$B$510,Resultados!B95)","v":0},"",0,"",50,0,"",{"$error":"#VALUE!"},0,""]
[null,null,null,null,null,{"$f":"COUNTIF($B$9:$B$510,Resultados!B96)","v":0},"",0,"",50,0,"",{"$error":"#VALUE!"},0,""]
[null,null,null,null,null,{"$f":"COUNTIF($B$9:$B$510,Resultados!B97)","v":0},"",0,"",50,0,"",{"$error":"#VALUE!"},0,""]
[null,null,null,null,null,{"$f":"COUNTIF($B$9:$B$510,Resultados!B98)","v":0},"",0,"",50,0,"",{"$error":"#VALUE!"},0,""]
[null,null,null,null,null,{"$f":"COUNTIF($B$9:$B$510,Resultados!B99)","v":0},"",0,"",50,0,"",{"$error":"#VALUE!"},0,""]
[null,null,null,null,null,{"$f":"COUNTIF($B$9:$B$510,Resultados!B100)","v":0},"",0,"",50,0,"",{"$error":"#VALUE!"},0,""]
[null,null,null,null,null,{"$f":"COUNTIF($B$9:$B$510,Resultados!B101)","v":0},"",0,"",50,0,"",{"$error":"#VALUE!"},0,""]
[null,null,null,null,null,{"$f":"COUNTIF($B$9:$B$510,Resultados!B102)","v":0},"",0,"",50,0,"",{"$error":"#VALUE!"},0,""]
[null,null,null,null,null,{"$f":"COUNTIF($B$9:$B$510,Resultados!B103)","v":0},"",0,"",50,0,"",{"$error":"#VALUE!"},0,""]
[null,null,null,null,null,{"$f":"COUNTIF($B$9:$B$510,Resultados!B104)","v":0},"",0,"",50,0,"",{"$error":"#VALUE!"},0,""]
[null,null,null,null,null,{"$f":"COUNTIF($B$9:$B$510,Resultados!B105)","v":0},"",0,"",50,0,"",{"$error":"#VALUE!"},0,""]
[null,null,null,null,null,{"$f":"COUNTIF($B$9:$B$510,Resultados!B106)","v":0},"",0,"",50,0,"",{"$error":"#VALUE!"},0,""]
[null,null,null,null,null,{"$f":"COUNTIF($B$9:$B$510,Resultados!B107)","v":0},"",0,"",50,0,"",{"$error":"#VALUE!"},0,""]
[null,null,null,null,null,{"$f":"COUNTIF($B$9:$B$510,Resultados!B108)","v":0},"",0,"",50,0,"",{"$error":"#VALUE!"},0,""]
[null,null,null,null,null,{"$f":"COUNTIF($B$9:$B$510,Resultados!B109)","v":0},"",0,"",50,0,"",{"$error":"#VALUE!"},0,""]
[null,null,null,null,null,{"$f":"COUNTIF($B$9:$B$510,Resultados!B110)","v":0},"",0,"",50,0,"",{"$error":"#VALUE!"},0,""]
[null,null,null,null,null,{"$f":"COUNTIF($B$9:$B$510,Resultados!B111)","v":0},"",0,"",50,0,"",{"$error":"#VALUE!"},0,""]
[null,null,null,null,null,{"$f":"COUNTIF($B$9:$B$510,Resultados!B112)","v":0},"",0,"",50,0,"",{"$error":"#VALUE!"},0,""]
[null,null,null,null,null,{"$f":"COUNTIF($B$9:$B$510,Resultados!B113)","v":0},"",0,"",50,0,"",{"$error":"#VALUE!"},0,""]
[null,null,null,null,null,{"$f":"COUNTIF($B$9:$B$510,Resultados!B114)","v":0},"",0,"",50,0,"",{"$error":"#VALUE!"},0,""]
[null,null,null,null,null,{"$f":"COUNTIF($B$9:$B$510,Resultados!B115)","v":0},"",0,"",50,0,"",{"$error":"#VALUE!"},0,""]
[null,null,null,null,null,{"$f":"COUNTIF($B$9:$B$510,Resultados!B116)","v":0},"",0,"",50,0,"",{"$error":"#VALUE!"},0,""]
[null,null,null,null,null,{"$f":"COUNTIF($B$9:$B$510,Resultados!B117)","v":0},"",0,"",50,0,"",{"$error":"#VALUE!"},0,""]
[null,null,null,null,null,{"$f":"COUNTIF($B$9:$B$510,Resultados!B118)","v":0},"",0,"",50,0,"",{"$error":"#VALUE!"},0,""]
[null,null,null,null,null,{"$f":"COUNTIF($B$9:$B$510,Resultados!B119)","v":0},"",0,"",50,0,"",{"$error":"#VALUE!"},0,""]
[null,null,null,null,null,{"$f":"COUNTIF($B$9:$B$510,Resultados!B120)","v":0},"",0,"",50,0,"",{"$error":"#VALUE!"},0,""]
[null,null,null,null,null,{"$f":"COUNTIF($B$9:$B$510,Resultados!B121)","v":0},"",0,"",50,0,"",{"$error":"#VALUE!"},0,""]
[null,null,null,null,null,{"$f":"COUNTIF($B$9:$B$510,Resultados!B122)","v":0},"",0,"",50,0,"",{"$error":"#VALUE!"},0,""]
[null,null,null,null,null,{"$f":"COUNTIF($B$9:$B$510,Resultados!B123)","v":0},"",0,"",50,0,"",{"$error":"#VALUE!"},0,""]
[null,null,null,null,null,{"$f":"COUNTIF($B$9:$B$510,Resultados!B124)","v":0},"",0,"",50,0,"",{"$error":"#VALUE!"},0,""]
[null,null,null,null,null,{"$f":"COUNTIF($B$9:$B$510,Resultados!B125)","v":0},"",0,"",50,0,"",{"$error":"#VALUE!"},0,""]
[null,null,null,null,null,{"$f":"COUNTIF($B$9:$B$510,Resultados!B126)","v":0},"",0,"",50,0,"",{"$error":"#VALUE!"},0,""]
[null,null,null,null,null,{"$f":"COUNTIF($B$9:$B$510,Resultados!B127)","v":0},"",0,"",50,0,"",{"$error":"#VALUE!"},0,""]
[null,null,null,null,null,{"$f":"COUNTIF($B$9:$B$510,Resultados!B128)","v":0},"",0,"",50,0,"",{"$error":"#VALUE!"},0,""]
[null,null,null,null,null,{"$f":"COUNTIF($B$9:$B$510,Resultados!B129)","v":0},"",0,"",50,0,"",{"$error":"#VALUE!"},0,""]
[null,null,null,null,null,{"$f":"COUNTIF($B$9:$B$510,Resultados!B130)","v":0},"",0,"",50,0,"",{"$error":"#VALUE!"},0,""]
[null,null,null,null,null,{"$f":"COUNTIF($B$9:$B$510,Resultados!B131)","v":0},"",0,"",50,0,"",{"$error":"#VALUE!"},0,""]
[null,null,null,null,null,{"$f":"COUNTIF($B$9:$B$510,Resultados!B132)","v":0},"",0,"",50,0,"",{"$error":"#VALUE!"},0,""]
[null,null,null,null,null,{"$f":"COUNTIF($B$9:$B$510,Resultados!B133)","v":0},{"$f":"IF(F138 <> 0,F138,\"\")","v":""},{"$f":"F138/$D$9","v":0},{"$f":"IF(H138 <> 0,H138,\"\")","v":""},50,{"$f":"IF(H138<>0,J138,0)","v":0},{"$f":"IF(K138 <> 0,K138,\"\")","v":""},{"$f":"L138/$D$9","v":{"$error":"#VALUE!"}},{"$f":"IF(K138<>0,M138,0)","v":0},{"$f":"IF(N138 <> 0,N138,\"\")","v":""}]
[null,null,null,null,null,{"$f":"COUNTIF($B$9:$B$510,Resultados!B134)","v":0},"",0,"",{"$f":"J138+F139","v":50},0,"",{"$error":"#VALUE!"},0,""]
[null,null,null,null,null,{"$f":"COUNTIF($B$9:$B$510,Resultados!B135)","v":0},"",0,"",50,0,"",{"$error":"#VALUE!"},0,""]
[null,null,null,null,null,{"$f":"COUNTIF($B$9:$B$510,Resultados!B136)","v":0},"",0,"",50,0,"",{"$error":"#VALUE!"},0,""]
[null,null,null,null,null,{"$f":"COUNTIF($B$9:$B$510,Resultados!B137)","v":0},"",0,"",50,0,"",{"$error":"#VALUE!"},0,""]
[null,null,null,null,null,{"$f":"COUNTIF($B$9:$B$510,Resultados!B138)","v":0},"",0,"",50,0,"",{"$error":"#VALUE!"},0,""]
[null,null,null,null,null,{"$f":"COUNTIF($B$9:$B$510,Resultados!B139)","v":0},"",0,"",50,0,"",{"$error":"#VALUE!"},0,""]
[null,null,null,null,null,{"$f":"COUNTIF($B$9:$B$510,Resultados!B140)","v":0},"",0,"",50,0,"",{"$error":"#VALUE!"},0,""]
[null,null,null,null,null,{"$f":"COUNTIF($B$9:$B$510,Resultados!B141)","v":0},"",0,"",50,0,"",{"$error":"#VALUE!"},0,""]
[null,null,null,null,null,{"$f":"COUNTIF($B$9:$B$510,Resultados!B142)","v":0},"",0,"",50,0,"",{"$error":"#VALUE!"},0,""]
[null,null,null,null,null,{"$f":"COUNTIF($B$9:$B$510,Resultados!B143)","v":0},"",0,"",50,0,"",{"$error":"#VALUE!"},0,""]
[null,null,null,null,null,{"$f":"COUNTIF($B$9:$B$510,Resultados!B144)","v":0},"",0,"",50,0,"",{"$error":"#VALUE!"},0,""]
[null,null,null,null,null,{"$f":"COUNTIF($B$9:$B$510,Resultados!B145)","v":0},"",0,"",50,0,"",{"$error":"#VALUE!"},0,""]
[null,null,null,null,null,{"$f":"COUNTIF($B$9:$B$510,Resultados!B146)","v":0},"",0,"",50,0,"",{"$error":"#VALUE!"},0,""]
[null,null,null,null,null,{"$f":"COUNTIF($B$9:$B$510,Resultados!B147)","v":0},"",0,"",50,0,"",{"$error":"#VALUE!"},0,""]
[null,null,null,null,null,{"$f":"COUNTIF($B$9:$B$510,Resultados!B148)","v":0},"",0,"",50,0,"",{"$error":"#VALUE!"},0,""]
[null,null,null,null,null,{"$f":"COUNTIF($B$9:$B$510,Resultados!B149)","v":0},"",0,"",50,0,"",{"$error":"#VALUE!"},0,""]
[null,null,null,null,null,{"$f":"COUNTIF($B$9:$B$510,Resultados!B150)","v":0},"",0,"",50,0,"",{"$error":"#VALUE!"},0,""]
[null,null,null,null,null,{"$f":"COUNTIF($B$9:$B$510,Resultados!B151)","v":0},"",0,"",50,0,"",{"$error":"#VALUE!"},0,""]
[null,null,null,null,null,{"$f":"COUNTIF($B$9:$B$510,Resultados!B152)","v":0},"",0,"",50,0,"",{"$error":"#VALUE!"},0,""]
[null,null,null,null,null,{"$f":"COUNTIF($B$9:$B$510,Resultados!B153)","v":0},"",0,"",50,0,"",{"$error":"#VALUE!"},0,""]
[null,null,null,null,null,{"$f":"COUNTIF($B$9:$B$510,Resultados!B154)","v":0},"",0,"",50,0,"",{"$error":"#VALUE!"},0,""]
[null,null,null,null,null,{"$f":"COUNTIF($B$9:$B$510,Resultados!B155)","v":0},"",0,"",50,0,"",{"$error":"#VALUE!"},0,""]
[null,null,null,null,null,{"$f":"COUNTIF($B$9:$B$510,Resultados!B156)","v":0},"",0,"",50,0,"",{"$error":"#VALUE!"},0,""]
[null,null,null,null,null,{"$f":"COUNTIF($B$9:$B$510,Resultados!B157)","v":0},"",0,"",50,0,"",{"$error":"#VALUE!"},0,""]
[null,null,null,null,null,{"$f":"COUNTIF($B$9:$B$510,Resultados!B158)","v":0},"",0,"",50,0,"",{"$error":"#VALUE!"},0,""]
[null,null,null,null,null,{"$f":"COUNTIF($B$9:$B$510,Resultados!B159)","v":0},"",0,"",50,0,"",{"$error":"#VALUE!"},0,""]
[null,null,null,null,null,{"$f":"COUNTIF($B$9:$B$510,Resultados!B160)","v":0},"",0,"",50,0,"",{"$error":"#VALUE!"},0,""]
[null,null,null,null,null,{"$f":"COUNTIF($B$9:$B$510,Resultados!B161)","v":0},"",0,"",50,0,"",{"$error":"#VALUE!"},0,""]
[null,null,null,null,null,{"$f":"COUNTIF($B$9:$B$510,Resultados!B162)","v":0},"",0,"",50,0,"",{"$error":"#VALUE!"},0,""]
[null,null,null,null,null,{"$f":"COUNTIF($B$9:$B$510,Resultados!B163)","v":0},"",0,"",50,0,"",{"$error":"#VALUE!"},0,""]
[null,null,null,null,null,{"$f":"COUNTIF($B$9:$B$510,Resultados!B164)","v":0},"",0,"",50,0,"",{"$error":"#VALUE!"},0,""]
[null,null,null,null,null,{"$f":"COUNTIF($B$9:$B$510,Resultados!B165)","v":0},"",0,"",50,0,"",{"$error":"#VALUE!"},0,""]
[null,null,null,null,null,{"$f":"COUNTIF($B$9:$B$510,Resultados!B166)","v":0},"",0,"",50,0,"",{"$error":"#VALUE!"},0,""]
[null,null,null,null,null,{"$f":"COUNTIF($B$9:$B$510,Resultados!B167)","v":0},"",0,"",50,0,"",{"$error":"#VALUE!"},0,""]
[null,null,null,null,null,{"$f":"COUNTIF($B$9:$B$510,Resultados!B168)","v":0},"",0,"",50,0,"",{"$error":"#VALUE!"},0,""]
[null,null,null,null,null,{"$f":"COUNTIF($B$9:$B$510,Resultados!B169)","v":0},"",0,"",50,0,"",{"$error":"#VALUE!"},0,""]
[null,null,null,null,null,{"$f":"COUNTIF($B$9:$B$510,Resultados!B170)","v":0},"",0,"",50,0,"",{"$error":"#VALUE!"},0,""]
[null,null,null,null,null,{"$f":"COUNTIF($B$9:$B$510,Resultados!B171)","v":0},"",0,"",50,0,"",{"$error":"#VALUE!"},0,""]
[null,null,null,null,null,{"$f":"COUNTIF($B$9:$B$510,Resultados!B172)","v":0},"",0,"",50,0,"",{"$error":"#VALUE!"},0,""]
[null,null,null,null,null,{"$f":"COUNTIF($B$9:$B$510,Resultados!B173)","v":0},"",0,"",50,0,"",{"$error":"#VALUE!"},0,""]
[null,null,null,null,null,{"$f":"COUNTIF($B$9:$B$510,Resultados!B174)","v":0},"",0,"",50,0,"",{"$error":"#VALUE!"},0,""]
[null,null,null,null,null,{"$f":"COUNTIF($B$9:$B$510,Resultados!B175)","v":0},"",0,"",50,0,"",{"$error":"#VALUE!"},0,""]
[null,null,null,null,null,{"$f":"COUNTIF($B$9:$B$510,Resultados!B176)","v":0},"",0,"",50,0,"",{"$error":"#VALUE!"},0,""]
[null,null,null,null,null,{"$f":"COUNTIF($B$9:$B$510,Resultados!B177)","v":0},"",0,"",50,0,"",{"$error":"#VALUE!"},0,""]
[null,null,null,null,null,{"$f":"COUNTIF($B$9:$B$510,Resultados!B178)","v":0},"",0,"",50,0,"",{"$error":"#VALUE!"},0,""]
[null,null,null,null,null,{"$f":"COUNTIF($B$9:$B$510,Resultados!B179)","v":0},"",0,"",50,0,"",{"$error":"#VALUE!"},0,""]
[null,null,null,null,null,{"$f":"COUNTIF($B$9:$B$510,Resultados!B180)","v":0},"",0,"",50,0,"",{"$error":"#VALUE!"},0,""]
[null,null,null,null,null,{"$f":"COUNTIF($B$9:$B$510,Resultados!B181)","v":0},"",0,"",50,0,"",{"$error":"#VALUE!"},0,""]
[null,null,null,null,null,{"$f":"COUNTIF($B$9:$B$510,Resultados!B182)","v":0},"",0,"",50,0,"",{"$error":"#VALUE!"},0,""]
[null,null,null,null,null,{"$f":"COUNTIF($B$9:$B$510,Resultados!B183)","v":0},"",0,"",50,0,"",{"$error":"#VALUE!"},0,""]
[null,null,null,null,null,{"$f":"COUNTIF($B$9:$B$510,Resultados!B184)","v":0},"",0,"",50,0,"",{"$error":"#VALUE!"},0,""]
[null,null,null,null,null,{"$f":"COUNTIF($B$9:$B$510,Resultados!B185)","v":0},"",0,"",50,0,"",{"$error":"#VALUE!"},0,""]
[null,null,null,null,null,{"$f":"COUNTIF($B$9:$B$510,Resultados!B186)","v":0},"",0,"",50,0,"",{"$error":"#VALUE!"},0,""]
[null,null,null,null,null,{"$f":"COUNTIF($B$9:$B$510,Resultados!B187)","v":0},"",0,"",50,0,"",{"$error":"#VALUE!"},0,""]
[null,null,null,null,null,{"$f":"COUNTIF($B$9:$B$510,Resultados!B188)","v":0},"",0,"",50,0,"",{"$error":"#VALUE!"},0,""]
[null,null,null,null,null,{"$f":"COUNTIF($B$9:$B$510,Resultados!B189)","v":0},"",0,"",50,0,"",{"$error":"#VALUE!"},0,""]
[null,null,null,null,null,{"$f":"COUNTIF($B$9:$B$510,Resultados!B190)","v":0},"",0,"",50,0,"",{"$error":"#VALUE!"},0,""]
[null,null,null,null,null,{"$f":"COUNTIF($B$9:$B$510,Resultados!B191)","v":0},"",0,"",50,0,"",{"$error":"#VALUE!"},0,""]
[null,null,null,null,null,{"$f":"COUNTIF($B$9:$B$510,Resultados!B192)","v":0},"",0,"",50,0,"",{"$error":"#VALUE!"},0,""]
[null,null,null,null,null,{"$f":"COUNTIF($B$9:$B$510,Resultados!B193)","v":0},"",0,"",50,0,"",{"$error":"#VALUE!"},0,""]
[null,null,null,null,null,{"$f":"COUNTIF($B$9:$B$510,Resultados!B194)","v":0},"",0,"",50,0,"",{"$error":"#VALUE!"},0,""]
[null,null,null,null,null,{"$f":"COUNTIF($B$9:$B$510,Resultados!B195)","v":0},"",0,"",50,0,"",{"$error":"#VALUE!"},0,""]
[null,null,null,null,null,{"$f":"COUNTIF($B$9:$B$510,Resultados!B196)","v":0},"",0,"",50,0,"",{"$error":"#VALUE!"},0,""]
[null,null,null,null,null,{"$f":"COUNTIF($B$9:$B$510,Resultados!B197)","v":0},{"$f":"IF(F202 <> 0,F202,\"\")","v":""},{"$f":"F202/$D$9","v":0},{"$f":"IF(H202 <> 0,H202,\"\")","v":""},50,{"$f":"IF(H202<>0,J202,0)","v":0},{"$f":"IF(K202 <> 0,K202,\"\")","v":""},{"$f":"L202/$D$9","v":{"$error":"#VALUE!"}},{"$f":"IF(K202<>0,M202,0)","v":0},{"$f":"IF(N202 <> 0,N202,\"\")","v":""}]
[null,null,null,null,null,{"$f":"COUNTIF($B$9:$B$510,Resultados!B198)","v":0},"",0,"",{"$f":"J202+F203","v":50},0,"",{"$error":"#VALUE!"},0,""]
[null,null,null,null,null,{"$f":"COUNTIF($B$9:$B$510,Resultados!B199)","v":0},"",0,"",50,0,"",{"$error":"#VALUE!"},0,""]
[null,null,null,null,null,{"$f":"COUNTIF($B$9:$B$510,Resultados!B200)","v":0},"",0,"",50,0,"",{"$error":"#VALUE!"},0,""]
[null,null,null,null,null,{"$f":"COUNTIF($B$9:$B$510,Resultados!B201)","v":0},"",0,"",50,0,"",{"$error":"#VALUE!"},0,""]
[null,null,null,null,null,{"$f":"COUNTIF($B$9:$B$510,Resultados!B202)","v":0},"",0,"",50,0,"",{"$error":"#VALUE!"},0,""]
[null,null,null,null,null,{"$f":"COUNTIF($B$9:$B$510,Resultados!B203)","v":0},"",0,"",50,0,"",{"$error":"#VALUE!"},0,""]
[null,null,null,null,null,{"$f":"COUNTIF($B$9:$B$510,Resultados!B204)","v":0},"",0,"",50,0,"",{"$error":"#VALUE!"},0,""]
[null,null,null,null,null,{"$f":"COUNTIF($B$9:$B$510,Resultados!B205)","v":0},"",0,"",50,0,"",{"$error":"#VALUE!"},0,""]
[null,null,null,null,null,{"$f":"COUNTIF($B$9:$B$510,Resultados!B206)","v":0},"",0,"",50,0,"",{"$error":"#VALUE!"},0,""]
[null,null,null,null,null,{"$f":"COUNTIF($B$9:$B$510,Resultados!B207)","v":0},"",0,"",50,0,"",{"$error":"#VALUE!"},0,""]
[null,null,null,null,null,{"$f":"COUNTIF($B$9:$B$510,Resultados!B208)","v":0},"",0,"",50,0,"",{"$error":"#VALUE!"},0,""]
[null,null,null,null,null,{"$f":"COUNTIF($B$9:$B$510,Resultados!B209)","v":0},"",0,"",50,0,"",{"$error":"#VALUE!"},0,""]
[null,null,null,null,null,{"$f":"COUNTIF($B$9:$B$510,Resultados!B210)","v":0},"",0,"",50,0,"",{"$error":"#VALUE!"},0,""]
[null,null,null,null,null,{"$f":"COUNTIF($B$9:$B$510,Resultados!B211)","v":0},"",0,"",50,0,"",{"$error":"#VALUE!"},0,""]
[null,null,null,null,null,{"$f":"COUNTIF($B$9:$B$510,Resultados!B212)","v":0},"",0,"",50,0,"",{"$error":"#VALUE!"},0,""]
[null,null,null,null,null,{"$f":"COUNTIF($B$9:$B$510,Resultados!B213)","v":0},"",0,"",50,0,"",{"$error":"#VALUE!"},0,""]
[null,null,null,null,null,{"$f":"COUNTIF($B$9:$B$510,Resultados!B214)","v":0},"",0,"",50,0,"",{"$error":"#VALUE!"},0,""]
[null,null,null,null,null,{"$f":"COUNTIF($B$9:$B$510,Resultados!B215)","v":0},"",0,"",50,0,"",{"$error":"#VALUE!"},0,""]
[null,null,null,null,null,{"$f":"COUNTIF($B$9:$B$510,Resultados!B216)","v":0},"",0,"",50,0,"",{"$error":"#VALUE!"},0,""]
[null,null,null,null,null,{"$f":"COUNTIF($B$9:$B$510,Resultados!B217)","v":0},"",0,"",50,0,"",{"$error":"#VALUE!"},0,""]
[null,null,null,null,null,{"$f":"COUNTIF($B$9:$B$510,Resultados!B218)","v":0},"",0,"",50,0,"",{"$error":"#VALUE!"},0,""]
[null,null,null,null,null,{"$f":"COUNTIF($B$9:$B$510,Resultados!B219)","v":0},"",0,"",50,0,"",{"$error":"#VALUE!"},0,""]
[null,null,null,null,null,{"$f":"COUNTIF($B$9:$B$510,Resultados!B220)","v":0},"",0,"",50,0,"",{"$error":"#VALUE!"},0,""]
[null,null,null,null,null,{"$f":"COUNTIF($B$9:$B$510,Resultados!B221)","v":0},"",0,"",50,0,"",{"$error":"#VALUE!"},0,""]
[null,null,null,null,null,{"$f":"COUNTIF($B$9:$B$510,Resultados!B222)","v":0},"",0,"",50,0,"",{"$error":"#VALUE!"},0,""]
[null,null,null,null,null,{"$f":"COUNTIF($B$9:$B$510,Resultados!B223)","v":0},"",0,"",50,0,"",{"$error":"#VALUE!"},0,""]
[null,null,null,null,null,{"$f":"COUNTIF($B$9:$B$510,Resultados!B224)","v":0},"",0,"",50,0,"",{"$error":"#VALUE!"},0,""]
[null,null,null,null,null,{"$f":"COUNTIF($B$9:$B$510,Resultados!B225)","v":0},"",0,"",50,0,"",{"$error":"#VALUE!"},0,""]
[null,null,null,null,null,{"$f":"COUNTIF($B$9:$B$510,Resultados!B226)","v":0},"",0,"",50,0,"",{"$error":"#VALUE!"},0,""]
[null,null,null,null,null,{"$f":"COUNTIF($B$9:$B$510,Resultados!B227)","v":0},"",0,"",50,0,"",{"$error":"#VALUE!"},0,""]
[null,null,null,null,null,{"$f":"COUNTIF($B$9:$B$510,Resultados!B228)","v":0},"",0,"",50,0,"",{"$error":"#VALUE!"},0,""]
[null,null,null,null,null,{"$f":"COUNTIF($B$9:$B$510,Resultados!B229)","v":0},"",0,"",50,0,"",{"$error":"#VALUE!"},0,""]
[null,null,null,null,null,{"$f":"COUNTIF($B$9:$B$510,Resultados!B230)","v":0},"",0,"",50,0,"",{"$error":"#VALUE!"},0,""]
[null,null,null,null,null,{"$f":"COUNTIF($B$9:$B$510,Resultados!B231)","v":0},"",0,"",50,0,"",{"$error":"#VALUE!"},0,""]
[null,null,null,null,null,{"$f":"COUNTIF($B$9:$B$510,Resultados!B232)","v":0},"",0,"",50,0,"",{"$error":"#VALUE!"},0,""]
[null,null,null,null,null,{"$f":"COUNTIF($B$9:$B$510,Resultados!B233)","v":0},"",0,"",50,0,"",{"$error":"#VALUE!"},0,""]
[null,null,null,null,null,{"$f":"COUNTIF($B$9:$B$510,Resultados!B234)","v":0},"",0,"",50,0,"",{"$error":"#VALUE!"},0,""]
[null,null,null,null,null,{"$f":"COUNTIF($B$9:$B$510,Resultados!B235)","v":0},"",0,"",50,0,"",{"$error":"#VALUE!"},0,""]
[null,null,null,null,null,{"$f":"COUNTIF($B$9:$B$510,Resultados!B236)","v":0},"",0,"",50,0,"",{"$error":"#VALUE!"},0,""]
[null,null,null,null,null,{"$f":"COUNTIF($B$9:$B$510,Resultados!B237)","v":0},"",0,"",50,0,"",{"$error":"#VALUE!"},0,""]
[null,null,null,null,null,{"$f":"COUNTIF($B$9:$B$510,Resultados!B238)","v":0},"",0,"",50,0,"",{"$error":"#VALUE!"},0,""]
[null,null,null,null,null,{"$f":"COUNTIF($B$9:$B$510,Resultados!B239)","v":0},"",0,"",50,0,"",{"$error":"#VALUE!"},0,""]
[null,null,null,null,null,{"$f":"COUNTIF($B$9:$B$510,Resultados!B240)","v":0},"",0,"",50,0,"",{"$error":"#VALUE!"},0,""]
[null,null,null,null,null,{"$f":"COUNTIF($B$9:$B$510,Resultados!B241)","v":0},"",0,"",50,0,"",{"$error":"#VALUE!"},0,""]
[null,null,null,null,null,{"$f":"COUNTIF($B$9:$B$510,Resultados!B242)","v":0},"",0,"",50,0,"",{"$error":"#VALUE!"},0,""]
[null,null,null,null,null,{"$f":"COUNTIF($B$9:$B$510,Resultados!B243)","v":0},"",0,"",50,0,"",{"$error":"#VALUE!"},0,""]
[null,null,null,null,null,{"$f":"COUNTIF($B$9:$B$510,Resultados!B244)","v":0},"",0,"",50,0,"",{"$error":"#VALUE!"},0,""]
[null,null,null,null,null,{"$f":"COUNTIF($B$9:$B$510,Resultados!B245)","v":0},"",0,"",50,0,"",{"$error":"#VALUE!"},0,""]
[null,null,null,null,null,{"$f":"COUNTIF($B$9:$B$510,Resultados!B246)","v":0},"",0,"",50,0,"",{"$error":"#VALUE!"},0,""]
[null,null,null,null,null,{"$f":"COUNTIF($B$9:$B$510,Resultados!B247)","v":0},"",0,"",50,0,"",{"$error":"#VALUE!"},0,""]
[null,null,null,null,null,{"$f":"COUNTIF($B$9:$B$510,Resultados!B248)","v":0},"",0,"",50,0,"",{"$error":"#VALUE!"},0,""]
[null,null,null,null,null,{"$f":"COUNTIF($B$9:$B$510,Resultados!B249)","v":0},"",0,"",50,0,"",{"$error":"#VALUE!"},0,""]
[null,null,null,null,null,{"$f":"COUNTIF($B$9:$B$510,Resultados!B250)","v":0},"",0,"",50,0,"",{"$error":"#VALUE!"},0,""]
[null,null,null,null,null,{"$f":"COUNTIF($B$9:$B$510,Resultados!B251)","v":0},"",0,"",50,0,"",{"$error":"#VALUE!"},0,""]
[null,null,null,null,null,{"$f":"COUNTIF($B$9:$B$510,Resultados!B252)","v":0},"",0,"",50,0,"",{"$error":"#VALUE!"},0,""]
[null,null,null,null,null,{"$f":"COUNTIF($B$9:$B$510,Resultados!B253)","v":0},"",0,"",50,0,"",{"$error":"#VALUE!"},0,""]
[null,null,null,null,null,{"$f":"COUNTIF($B$9:$B$510,Resultados!B254)","v":0},"",0,"",50,0,"",{"$error":"#VALUE!"},0,""]
[null,null,null,null,null,{"$f":"COUNTIF($B$9:$B$510,Resultados!B255)","v":0},"",0,"",50,0,"",{"$error":"#VALUE!"},0,""]
[null,null,null,null,null,{"$f":"COUNTIF($B$9:$B$510,Resultados!B256)","v":0},"",0,"",50,0,"",{"$error":"#VALUE!"},0,""]
[null,null,null,null,null,{"$f":"COUNTIF($B$9:$B$510,Resultados!B257)","v":0},"",0,"",50,0,"",{"$error":"#VALUE!"},0,""]
[null,null,null,null,null,{"$f":"COUNTIF($B$9:$B$510,Resultados!B258)","v":0},"",0,"",50,0,"",{"$error":"#VALUE!"},0,""]
[null,null,null,null,null,{"$f":"COUNTIF($B$9:$B$510,Resultados!B259)","v":0},"",0,"",50,0,"",{"$error":"#VALUE!"},0,""]
[null,null,null,null,null,{"$f":"COUNTIF($B$9:$B$510,Resultados!B260)","v":0},"",0,"",50,0,"",{"$error":"#VALUE!"},0,""]
[null,null,null,null,null,{"$f":"COUNTIF($B$9:$B$510,Resultados!B261)","v":0},{"$f":"IF(F266 <> 0,F266,\"\")","v":""},{"$f":"F266/$D$9","v":0},{"$f":"IF(H266 <> 0,H266,\"\")","v":""},50,{"$f":"IF(H266<>0,J266,0)","v":0},{"$f":"IF(K266 <> 0,K266,\"\")","v":""},{"$f":"L266/$D$9","v":{"$error":"#VALUE!"}},{"$f":"IF(K266<>0,M266,0)","v":0},{"$f":"IF(N266 <> 0,N266,\"\")","v":""}]
[null,null,null,null,null,{"$f":"COUNTIF($B$9:$B$510,Resultados!B262)","v":0},"",0,"",{"$f":"J266+F267","v":50},0,"",{"$error":"#VALUE!"},0,""]
[null,null,null,null,null,{"$f":"COUNTIF($B$9:$B$510,Resultados!B263)","v":0},"",0,"",50,0,"",{"$error":"#VALUE!"},0,""]
[null,null,null,null,null,{"$f":"COUNTIF($B$9:$B$510,Resultados!B264)","v":0},"",0,"",50,0,"",{"$error":"#VALUE!"},0,""]
[null,null,null,null,null,{"$f":"COUNTIF($B$9:$B$510,Resultados!B265)","v":0},"",0,"",50,0,"",{"$error":"#VALUE!"},0,""]
[null,null,null,null,null,{"$f":"COUNTIF($B$9:$B$510,Resultados!B266)","v":0},"",0,"",50,0,"",{"$error":"#VALUE!"},0,""]
[null,null,null,null,null,{"$f":"COUNTIF($B$9:$B$510,Resultados!B267)","v":0},"",0,"",50,0,"",{"$error":"#VALUE!"},0,""]
[null,null,null,null,null,{"$f":"COUNTIF($B$9:$B$510,Resultados!B268)","v":0},"",0,"",50,0,"",{"$error":"#VALUE!"},0,""]
[null,null,null,null,null,{"$f":"COUNTIF($B$9:$B$510,Resultados!B269)","v":0},"",0,"",50,0,"",{"$error":"#VALUE!"},0,""]
[null,null,null,null,null,{"$f":"COUNTIF($B$9:$B$510,Resultados!B270)","v":0},"",0,"",50,0,"",{"$error":"#VALUE!"},0,""]
[null,null,null,null,null,{"$f":"COUNTIF($B$9:$B$510,Resultados!B271)","v":0},"",0,"",50,0,"",{"$error":"#VALUE!"},0,""]
[null,null,null,null,null,{"$f":"COUNTIF($B$9:$B$510,Resultados!B272)","v":0},"",0,"",50,0,"",{"$error":"#VALUE!"},0,""]
[null,null,null,null,null,{"$f":"COUNTIF($B$9:$B$510,Resultados!B273)","v":0},"",0,"",50,0,"",{"$error":"#VALUE!"},0,""]
[null,null,null,null,null,{"$f":"COUNTIF($B$9:$B$510,Resultados!B274)","v":0},"",0,"",50,0,"",{"$error":"#VALUE!"},0,""]
[null,null,null,null,null,{"$f":"COUNTIF($B$9:$B$510,Resultados!B275)","v":0},"",0,"",50,0,"",{"$error":"#VALUE!"},0,""]
[null,null,null,null,null,{"$f":"COUNTIF($B$9:$B$510,Resultados!B276)","v":0},"",0,"",50,0,"",{"$error":"#VALUE!"},0,""]
[null,null,null,null,null,{"$f":"COUNTIF($B$9:$B$510,Resultados!B277)","v":0},"",0,"",50,0,"",{"$error":"#VALUE!"},0,""]
[null,null,null,null,null,{"$f":"COUNTIF($B$9:$B$510,Resultados!B278)","v":0},"",0,"",50,0,"",{"$error":"#VALUE!"},0,""]
[null,null,null,null,null,{"$f":"COUNTIF($B$9:$B$510,Resultados!B279)","v":0},"",0,"",50,0,"",{"$error":"#VALUE!"},0,""]
[null,null,null,null,null,{"$f":"COUNTIF($B$9:$B$510,Resultados!B280)","v":0},"",0,"",50,0,"",{"$error":"#VALUE!"},0,""]
[null,null,null,null,null,{"$f":"COUNTIF($B$9:$B$510,Resultados!B281)","v":0},"",0,"",50,0,"",{"$error":"#VALUE!"},0,""]
[null,null,null,null,null,{"$f":"COUNTIF($B$9:$B$510,Resultados!B282)","v":0},"",0,"",50,0,"",{"$error":"#VALUE!"},0,""]
[null,null,null,null,null,{"$f":"COUNTIF($B$9:$B$510,Resultados!B283)","v":0},"",0,"",50,0,"",{"$error":"#VALUE!"},0,""]
[null,null,null,null,null,{"$f":"COUNTIF($B$9:$B$510,Resultados!B284)","v":0},"",0,"",50,0,"",{"$error":"#VALUE!"},0,""]
[null,null,null,null,null,{"$f":"COUNTIF($B$9:$B$510,Resultados!B285)","v":0},"",0,"",50,0,"",{"$error":"#VALUE!"},0,""]
[null,null,null,null,null,{"$f":"COUNTIF($B$9:$B$510,Resultados!B286)","v":0},"",0,"",50,0,"",{"$error":"#VALUE!"},0,""]
[null,null,null,null,null,{"$f":"COUNTIF($B$9:$B$510,Resultados!B287)","v":0},"",0,"",50,0,"",{"$error":"#VALUE!"},0,""]
[null,null,null,null,null,{"$f":"COUNTIF($B$9:$B$510,Resultados!B288)","v":0},"",0,"",50,0,"",{"$error":"#VALUE!"},0,""]
[null,null,null,null,null,{"$f":"COUNTIF($B$9:$B$510,Resultados!B289)","v":0},"",0,"",50,0,"",{"$error":"#VALUE!"},0,""]
[null,null,null,null,null,{"$f":"COUNTIF($B$9:$B$510,Resultados!B290)","v":0},"",0,"",50,0,"",{"$error":"#VALUE!"},0,""]
[null,null,null,null,null,{"$f":"COUNTIF($B$9:$B$510,Resultados!B291)","v":0},"",0,"",50,0,"",{"$error":"#VALUE!"},0,""]
[null,null,null,null,null,{"$f":"COUNTIF($B$9:$B$510,Resultados!B292)","v":0},"",0,"",50,0,"",{"$error":"#VALUE!"},0,""]
[null,null,null,null,null,{"$f":"COUNTIF($B$9:$B$510,Resultados!B293)","v":0},"",0,"",50,0,"",{"$error":"#VALUE!"},0,""]
[null,null,null,null,null,{"$f":"COUNTIF($B$9:$B$510,Resultados!B294)","v":0},"",0,"",50,0,"",{"$error":"#VALUE!"},0,""]
[null,null,null,null,null,{"$f":"COUNTIF($B$9:$B$510,Resultados!B295)","v":0},"",0,"",50,0,"",{"$error":"#VALUE!"},0,""]
[null,null,null,null,null,{"$f":"COUNTIF($B$9:$B$510,Resultados!B296)","v":0},"",0,"",50,0,"",{"$error":"#VALUE!"},0,""]
[null,null,null,null,null,{"$f":"COUNTIF($B$9:$B$510,Resultados!B297)","v":0},"",0,"",50,0,"",{"$error":"#VALUE!"},0,""]
[null,null,null,null,null,{"$f":"COUNTIF($B$9:$B$510,Resultados!B298)","v":0},"",0,"",50,0,"",{"$error":"#VALUE!"},0,""]
[null,null,null,null,null,{"$f":"COUNTIF($B$9:$B$510,Resultados!B299)","v":0},"",0,"",50,0,"",{"$error":"#VALUE!"},0,""]
[null,null,null,null,null,{"$f":"COUNTIF($B$9:$B$510,Resultados!B300)","v":0},"",0,"",50,0,"",{"$error":"#VALUE!"},0,""]
[null,null,null,null,null,{"$f":"COUNTIF($B$9:$B$510,Resultados!B301)","v":0},"",0,"",50,0,"",{"$error":"#VALUE!"},0,""]
[null,null,null,null,null,{"$f":"COUNTIF($B$9:$B$510,Resultados!B302)","v":0},"",0,"",50,0,"",{"$error":"#VALUE!"},0,""]
[null,null,null,null,null,{"$f":"COUNTIF($B$9:$B$510,Resultados!B303)","v":0},"",0,"",50,0,"",{"$error":"#VALUE!"},0,""]
[null,null,null,null,null,{"$f":"COUNTIF($B$9:$B$510,Resultados!B304)","v":0},"",0,"",50,0,"",{"$error":"#VALUE!"},0,""]
[null,null,null,null,null,{"$f":"COUNTIF($B$9:$B$510,Resultados!B305)","v":0},"",0,"",50,0,"",{"$error":"#VALUE!"},0,""]
[null,null,null,null,null,{"$f":"COUNTIF($B$9:$B$510,Resultados!B306)","v":0},"",0,"",50,0,"",{"$error":"#VALUE!"},0,""]
[null,null,null,null,null,{"$f":"COUNTIF($B$9:$B$510,Resultados!B307)","v":0},"",0,"",50,0,"",{"$error":"#VALUE!"},0,""]
[null,null,null,null,null,{"$f":"COUNTIF($B$9:$B$510,Resultados!B308)","v":0},"",0,"",50,0,"",{"$error":"#VALUE!"},0,""]
[null,null,null,null,null,{"$f":"COUNTIF($B$9:$B$510,Resultados!B309)","v":0},"",0,"",50,0,"",{"$error":"#VALUE!"},0,""]
[null,null,null,null,null,{"$f":"COUNTIF($B$9:$B$510,Resultados!B310)","v":0},"",0,"",50,0,"",{"$error":"#VALUE!"},0,""]
[null,null,null,null,null,{"$f":"COUNTIF($B$9:$B$510,Resultados!B311)","v":0},"",0,"",50,0,"",{"$error":"#VALUE!"},0,""]
[null,null,null,null,null,{"$f":"COUNTIF($B$9:$B$510,Resultados!B312)","v":0},"",0,"",50,0,"",{"$error":"#VALUE!"},0,""]
[null,null,null,null,null,{"$f":"COUNTIF($B$9:$B$510,Resultados!B313)","v":0},"",0,"",50,0,"",{"$error":"#VALUE!"},0,""]
[null,null,null,null,null,{"$f":"COUNTIF($B$9:$B$510,Resultados!B314)","v":0},"",0,"",50,0,"",{"$error":"#VALUE!"},0,""]
[null,null,null,null,null,{"$f":"COUNTIF($B$9:$B$510,Resultados!B315)","v":0},"",0,"",50,0,"",{"$error":"#VALUE!"},0,""]
[null,null,null,null,null,{"$f":"COUNTIF($B$9:$B$510,Resultados!B316)","v":0},"",0,"",50,0,"",{"$error":"#VALUE!"},0,""]
[null,null,null,null,null,{"$f":"COUNTIF($B$9:$B$510,Resultados!B317)","v":0},"",0,"",50,0,"",{"$error":"#VALUE!"},0,""]
[null,null,null,null,null,{"$f":"COUNTIF($B$9:$B$510,Resultados!B318)","v":0},"",0,"",50,0,"",{"$error":"#VALUE!"},0,""]
[null,null,null,null,null,{"$f":"COUNTIF($B$9:$B$510,Resultados!B319)","v":0},"",0,"",50,0,"",{"$error":"#VALUE!"},0,""]
[null,null,null,null,null,{"$f":"COUNTIF($B$9:$B$510,Resultados!B320)","v":0},"",0,"",50,0,"",{"$error":"#VALUE!"},0,""]
[null,null,null,null,null,{"$f":"COUNTIF($B$9:$B$510,Resultados!B321)","v":0},"",0,"",50,0,"",{"$error":"#VALUE!"},0,""]
[null,null,null,null,null,{"$f":"COUNTIF($B$9:$B$510,Resultados!B322)","v":0},"",0,"",50,0,"",{"$error":"#VALUE!"},0,""]
[null,null,null,null,null,{"$f":"COUNTIF($B$9:$B$510,Resultados!B323)","v":0},"",0,"",50,0,"",{"$error":"#VALUE!"},0,""]
[null,null,null,null,null,{"$f":"COUNTIF($B$9:$B$510,Resultados!B324)","v":0},"",0,"",50,0,"",{"$error":"#VALUE!"},0,""]
[null,null,null,null,null,{"$f":"COUNTIF($B$9:$B$510,Resultados!B325)","v":0},{"$f":"IF(F330 <> 0,F330,\"\")","v":""},{"$f":"F330/$D$9","v":0},{"$f":"IF(H330 <> 0,H330,\"\")","v":""},50,{"$f":"IF(H330<>0,J330,0)","v":0},{"$f":"IF(K330 <> 0,K330,\"\")","v":""},{"$f":"L330/$D$9","v":{"$error":"#VALUE!"}},{"$f":"IF(K330<>0,M330,0)","v":0},{"$f":"IF(N330 <> 0,N330,\"\")","v":""}]
[null,null,null,null,null,{"$f":"COUNTIF($B$9:$B$510,Resultados!B326)","v":0},"",0,"",{"$f":"J330+F331","v":50},0,"",{"$error":"#VALUE!"},0,""]
[null,null,null,null,null,{"$f":"COUNTIF($B$9:$B$510,Resultados!B327)","v":0},"",0,"",50,0,"",{"$error":"#VALUE!"},0,""]
[null,null,null,null,null,{"$f":"COUNTIF($B$9:$B$510,Resultados!B328)","v":0},"",0,"",50,0,"",{"$error":"#VALUE!"},0,""]
[null,null,null,null,null,{"$f":"COUNTIF($B$9:$B$510,Resultados!B329)","v":0},"",0,"",50,0,"",{"$error":"#VALUE!"},0,""]
[null,null,null,null,null,{"$f":"COUNTIF($B$9:$B$510,Resultados!B330)","v":0},"",0,"",50,0,"",{"$error":"#VALUE!"},0,""]
[null,null,null,null,null,{"$f":"COUNTIF($B$9:$B$510,Resultados!B331)","v":0},"",0,"",50,0,"",{"$error":"#VALUE!"},0,""]
[null,null,null,null,null,{"$f":"COUNTIF($B$9:$B$510,Resultados!B332)","v":0},"",0,"",50,0,"",{"$error":"#VALUE!"},0,""]
[null,null,null,null,null,{"$f":"COUNTIF($B$9:$B$510,Resultados!B333)","v":0},"",0,"",50,0,"",{"$error":"#VALUE!"},0,""]
[null,null,null,null,null,{"$f":"COUNTIF($B$9:$B$510,Resultados!B334)","v":0},"",0,"",50,0,"",{"$error":"#VALUE!"},0,""]
[null,null,null,null,null,{"$f":"COUNTIF($B$9:$B$510,Resultados!B335)","v":0},"",0,"",50,0,"",{"$error":"#VALUE!"},0,""]
[null,null,null,null,null,{"$f":"COUNTIF($B$9:$B$510,Resultados!B336)","v":0},"",0,"",50,0,"",{"$error":"#VALUE!"},0,""]
[null,null,null,null,null,{"$f":"COUNTIF($B$9:$B$510,Resultados!B337)","v":0},"",0,"",50,0,"",{"$error":"#VALUE!"},0,""]
[null,null,null,null,null,{"$f":"COUNTIF($B$9:$B$510,Resultados!B338)","v":0},"",0,"",50,0,"",{"$error":"#VALUE!"},0,""]
[null,null,null,null,null,{"$f":"COUNTIF($B$9:$B$510,Resultados!B339)","v":0},"",0,"",50,0,"",{"$error":"#VALUE!"},0,""]
[null,null,null,null,null,{"$f":"COUNTIF($B$9:$B$510,Resultados!B340)","v":0},"",0,"",50,0,"",{"$error":"#VALUE!"},0,""]
[null,null,null,null,null,{"$f":"COUNTIF($B$9:$B$510,Resultados!B341)","v":0},"",0,"",50,0,"",{"$error":"#VALUE!"},0,""]
[null,null,null,null,null,{"$f":"COUNTIF($B$9:$B$510,Resultados!B342)","v":0},"",0,"",50,0,"",{"$error":"#VALUE!"},0,""]
[null,null,null,null,null,{"$f":"COUNTIF($B$9:$B$510,Resultados!B343)","v":0},"",0,"",50,0,"",{"$error":"#VALUE!"},0,""]
[null,null,null,null,null,{"$f":"COUNTIF($B$9:$B$510,Resultados!B344)","v":0},"",0,"",50,0,"",{"$error":"#VALUE!"},0,""]
[null,null,null,null,null,{"$f":"COUNTIF($B$9:$B$510,Resultados!B345)","v":0},"",0,"",50,0,"",{"$error":"#VALUE!"},0,""]
[null,null,null,null,null,{"$f":"COUNTIF($B$9:$B$510,Resultados!B346)","v":0},"",0,"",50,0,"",{"$error":"#VALUE!"},0,""]
[null,null,null,null,null,{"$f":"COUNTIF($B$9:$B$510,Resultados!B347)","v":0},"",0,"",50,0,"",{"$error":"#VALUE!"},0,""]
[null,null,null,null,null,{"$f":"COUNTIF($B$9:$B$510,Resultados!B348)","v":0},"",0,"",50,0,"",{"$error":"#VALUE!"},0,""]
[null,null,null,null,null,{"$f":"COUNTIF($B$9:$B$510,Resultados!B349)","v":0},"",0,"",50,0,"",{"$error":"#VALUE!"},0,""]
[null,null,null,null,null,{"$f":"COUNTIF($B$9:$B$510,Resultados!B350)","v":0},"",0,"",50,0,"",{"$error":"#VALUE!"},0,""]
[null,null,null,null,null,{"$f":"COUNTIF($B$9:$B$510,Resultados!B351)","v":0},"",0,"",50,0,"",{"$error":"#VALUE!"},0,""]
[null,null,null,null,null,{"$f":"COUNTIF($B$9:$B$510,Resultados!B352)","v":0},"",0,"",50,0,"",{"$error":"#VALUE!"},0,""]
[null,null,null,null,null,{"$f":"COUNTIF($B$9:$B$510,Resultados!B353)","v":0},"",0,"",50,0,"",{"$error":"#VALUE!"},0,""]
[null,null,null,null,null,{"$f":"COUNTIF($B$9:$B$510,Resultados!B354)","v":0},"",0,"",50,0,"",{"$error":"#VALUE!"},0,""]
[null,null,null,null,null,{"$f":"COUNTIF($B$9:$B$510,Resultados!B355)","v":0},"",0,"",50,0,"",{"$error":"#VALUE!"},0,""]
[null,null,null,null,null,{"$f":"COUNTIF($B$9:$B$510,Resultados!B356)","v":0},"",0,"",50,0,"",{"$error":"#VALUE!"},0,""]
[null,null,null,null,null,{"$f":"COUNTIF($B$9:$B$510,Resultados!B357)","v":0},"",0,"",50,0,"",{"$error":"#VALUE!"},0,""]
[null,null,null,null,null,{"$f":"COUNTIF($B$9:$B$510,Resultados!B358)","v":0},"",0,"",50,0,"",{"$error":"#VALUE!"},0,""]
[null,null,null,null,null,{"$f":"COUNTIF($B$9:$B$510,Resultados!B359)","v":0},"",0,"",50,0,"",{"$error":"#VALUE!"},0,""]
[null,null,null,null,null,{"$f":"COUNTIF($B$9:$B$510,Resultados!B360)","v":0},"",0,"",50,0,"",{"$error":"#VALUE!"},0,""]
[null,null,null,null,null,{"$f":"COUNTIF($B$9:$B$510,Resultados!B361)","v":0},"",0,"",50,0,"",{"$error":"#VALUE!"},0,""]
[null,null,null,null,null,{"$f":"COUNTIF($B$9:$B$510,Resultados!B362)","v":0},"",0,"",50,0,"",{"$error":"#VALUE!"},0,""]
[null,null,null,null,null,{"$f":"COUNTIF($B$9:$B$510,Resultados!B363)","v":0},"",0,"",50,0,"",{"$error":"#VALUE!"},0,""]
[null,null,null,null,null,{"$f":"COUNTIF($B$9:$B$510,Resultados!B364)","v":0},"",0,"",50,0,"",{"$error":"#VALUE!"},0,""]
[null,null,null,null,null,{"$f":"COUNTIF($B$9:$B$510,Resultados!B365)","v":0},"",0,"",50,0,"",{"$error":"#VALUE!"},0,""]
[null,null,null,null,null,{"$f":"COUNTIF($B$9:$B$510,Resultados!B366)","v":0},"",0,"",50,0,"",{"$error":"#VALUE!"},0,""]
[null,null,null,null,null,{"$f":"COUNTIF($B$9:$B$510,Resultados!B367)","v":0},"",0,"",50,0,"",{"$error":"#VALUE!"},0,""]
[null,null,null,null,null,{"$f":"COUNTIF($B$9:$B$510,Resultados!B368)","v":0},"",0,"",50,0,"",{"$error":"#VALUE!"},0,""]
[null,null,null,null,null,{"$f":"COUNTIF($B$9:$B$510,Resultados!B369)","v":0},"",0,"",50,0,"",{"$error":"#VALUE!"},0,""]
[null,null,null,null,null,{"$f":"COUNTIF($B$9:$B$510,Resultados!B370)","v":0},"",0,"",50,0,"",{"$error":"#VALUE!"},0,""]
[null,null,null,null,null,{"$f":"COUNTIF($B$9:$B$510,Resultados!B371)","v":0},"",0,"",50,0,"",{"$error":"#VALUE!"},0,""]
[null,null,null,null,null,{"$f":"COUNTIF($B$9:$B$510,Resultados!B372)","v":0},"",0,"",50,0,"",{"$error":"#VALUE!"},0,""]
[null,null,null,null,null,{"$f":"COUNTIF($B$9:$B$510,Resultados!B373)","v":0},"",0,"",50,0,"",{"$error":"#VALUE!"},0,""]
[null,null,null,null,null,{"$f":"COUNTIF($B$9:$B$510,Resultados!B374)","v":0},"",0,"",50,0,"",{"$error":"#VALUE!"},0,""]
[null,null,null,null,null,{"$f":"COUNTIF($B$9:$B$510,Resultados!B375)","v":0},"",0,"",50,0,"",{"$error":"#VALUE!"},0,""]
[null,null,null,null,null,{"$f":"COUNTIF($B$9:$B$510,Resultados!B376)","v":0},"",0,"",50,0,"",{"$error":"#VALUE!"},0,""]
[null,null,null,null,null,{"$f":"COUNTIF($B$9:$B$510,Resultados!B377)","v":0},"",0,"",50,0,"",{"$error":"#VALUE!"},0,""]
[null,null,null,null,null,{"$f":"COUNTIF($B$9:$B$510,Resultados!B378)","v":0},"",0,"",50,0,"",{"$error":"#VALUE!"},0,""]
[null,null,null,null,null,{"$f":"COUNTIF($B$9:$B$510,Resultados!B379)","v":0},"",0,"",50,0,"",{"$error":"#VALUE!"},0,""]
[null,null,null,null,null,{"$f":"COUNTIF($B$9:$B$510,Resultados!B380)","v":0},"",0,"",50,0,"",{"$error":"#VALUE!"},0,""]
[null,null,null,null,null,{"$f":"COUNTIF($B$9:$B$510,Resultados!B381)","v":0},"",0,"",50,0,"",{"$error":"#VALUE!"},0,""]
[null,null,null,null,null,{"$f":"COUNTIF($B$9:$B$510,Resultados!B382)","v":0},"",0,"",50,0,"",{"$error":"#VALUE!"},0,""]
[null,null,null,null,null,{"$f":"COUNTIF($B$9:$B$510,Resultados!B383)","v":0},"",0,"",50,0,"",{"$error":"#VALUE!"},0,""]
[null,null,null,null,null,{"$f":"COUNTIF($B$9:$B$510,Resultados!B384)","v":0},"",0,"",50,0,"",{"$error":"#VALUE!"},0,""]
[null,null,null,null,null,{"$f":"COUNTIF($B$9:$B$510,Resultados!B385)","v":0},"",0,"",50,0,"",{"$error":"#VALUE!"},0,""]
[null,null,null,null,null,{"$f":"COUNTIF($B$9:$B$510,Resultados!B386)","v":0},"",0,"",50,0,"",{"$error":"#VALUE!"},0,""]
[null,null,null,null,null,{"$f":"COUNTIF($B$9:$B$510,Resultados!B387)","v":0},"",0,"",50,0,"",{"$error":"#VALUE!"},0,""]
[null,null,null,null,null,{"$f":"COUNTIF($B$9:$B$510,Resultados!B388)","v":0},"",0,"",50,0,"",{"$error":"#VALUE!"},0,""]
[null,null,null,null,null,{"$f":"COUNTIF($B$9:$B$510,Resultados!B389)","v":0},{"$f":"IF(F394 <> 0,F394,\"\")","v":""},{"$f":"F394/$D$9","v":0},{"$f":"IF(H394 <> 0,H394,\"\")","v":""},50,{"$f":"IF(H394<>0,J394,0)","v":0},{"$f":"IF(K394 <> 0,K394,\"\")","v":""},{"$f":"L394/$D$9","v":{"$error":"#VALUE!"}},{"$f":"IF(K394<>0,M394,0)","v":0},{"$f":"IF(N394 <> 0,N394,\"\")","v":""}]
[null,null,null,null,null,{"$f":"COUNTIF($B$9:$B$510,Resultados!B390)","v":0},"",0,"",{"$f":"J394+F395","v":50},0,"",{"$error":"#VALUE!"},0,""]
[null,null,null,null,null,{"$f":"COUNTIF($B$9:$B$510,Resultados!B391)","v":0},"",0,"",50,0,"",{"$error":"#VALUE!"},0,""]
[null,null,null,null,null,{"$f":"COUNTIF($B$9:$B$510,Resultados!B392)","v":0},"",0,"",50,0,"",{"$error":"#VALUE!"},0,""]
[null,null,null,null,null,{"$f":"COUNTIF($B$9:$B$510,Resultados!B393)","v":0},"",0,"",50,0,"",{"$error":"#VALUE!"},0,""]
[null,null,null,null,null,{"$f":"COUNTIF($B$9:$B$510,Resultados!B394)","v":0},"",0,"",50,0,"",{"$error":"#VALUE!"},0,""]
[null,null,null,null,null,{"$f":"COUNTIF($B$9:$B$510,Resultados!B395)","v":0},"",0,"",50,0,"",{"$error":"#VALUE!"},0,""]
[null,null,null,null,null,{"$f":"COUNTIF($B$9:$B$510,Resultados!B396)","v":0},"",0,"",50,0,"",{"$error":"#VALUE!"},0,""]
[null,null,null,null,null,{"$f":"COUNTIF($B$9:$B$510,Resultados!B397)","v":0},"",0,"",50,0,"",{"$error":"#VALUE!"},0,""]
[null,null,null,null,null,{"$f":"COUNTIF($B$9:$B$510,Resultados!B398)","v":0},"",0,"",50,0,"",{"$error":"#VALUE!"},0,""]
[null,null,null,null,null,{"$f":"COUNTIF($B$9:$B$510,Resultados!B399)","v":0},"",0,"",50,0,"",{"$error":"#VALUE!"},0,""]
[null,null,null,null,null,{"$f":"COUNTIF($B$9:$B$510,Resultados!B400)","v":0},"",0,"",50,0,"",{"$error":"#VALUE!"},0,""]
[null,null,null,null,null,{"$f":"COUNTIF($B$9:$B$510,Resultados!B401)","v":0},"",0,"",50,0,"",{"$error":"#VALUE!"},0,""]
[null,null,null,null,null,{"$f":"COUNTIF($B$9:$B$510,Resultados!B402)","v":0},"",0,"",50,0,"",{"$error":"#VALUE!"},0,""]
[null,null,null,null,null,{"$f":"COUNTIF($B$9:$B$510,Resultados!B403)","v":0},"",0,"",50,0,"",{"$error":"#VALUE!"},0,""]
[null,null,null,null,null,{"$f":"COUNTIF($B$9:$B$510,Resultados!B404)","v":0},"",0,"",50,0,"",{"$error":"#VALUE!"},0,""]
[null,null,null,null,null,{"$f":"COUNTIF($B$9:$B$510,Resultados!B405)","v":0},"",0,"",50,0,"",{"$error":"#VALUE!"},0,""]
[null,null,null,null,null,{"$f":"COUNTIF($B$9:$B$510,Resultados!B406)","v":0},"",0,"",50,0,"",{"$error":"#VALUE!"},0,""]
[null,null,null,null,null,{"$f":"COUNTIF($B$9:$B$510,Resultados!B407)","v":0},"",0,"",50,0,"",{"$error":"#VALUE!"},0,""]
[null,null,null,null,null,{"$f":"COUNTIF($B$9:$B$510,Resultados!B408)","v":0},"",0,"",50,0,"",{"$error":"#VALUE!"},0,""]
[null,null,null,null,null,{"$f":"COUNTIF($B$9:$B$510,Resultados!B409)","v":0},"",0,"",50,0,"",{"$error":"#VALUE!"},0,""]
[null,null,null,null,null,{"$f":"COUNTIF($B$9:$B$510,Resultados!B410)","v":0},"",0,"",50,0,"",{"$error":"#VALUE!"},0,""]
[null,null,null,null,null,{"$f":"COUNTIF($B$9:$B$510,Resultados!B411)","v":0},"",0,"",50,0,"",{"$error":"#VALUE!"},0,""]
[null,null,null,null,null,{"$f":"COUNTIF($B$9:$B$510,Resultados!B412)","v":0},"",0,"",50,0,"",{"$error":"#VALUE!"},0,""]
[null,null,null,null,null,{"$f":"COUNTIF($B$9:$B$510,Resultados!B413)","v":0},"",0,"",50,0,"",{"$error":"#VALUE!"},0,""]
[null,null,null,null,null,{"$f":"COUNTIF($B$9:$B$510,Resultados!B414)","v":0},"",0,"",50,0,"",{"$error":"#VALUE!"},0,""]
[null,null,null,null,null,{"$f":"COUNTIF($B$9:$B$510,Resultados!B415)","v":0},"",0,"",50,0,"",{"$error":"#VALUE!"},0,""]
[null,null,null,null,null,{"$f":"COUNTIF($B$9:$B$510,Resultados!B416)","v":0},"",0,"",50,0,"",{"$error":"#VALUE!"},0,""]
[null,null,null,null,null,{"$f":"COUNTIF($B$9:$B$510,Resultados!B417)","v":0},"",0,"",50,0,"",{"$error":"#VALUE!"},0,""]
[null,null,null,null,null,{"$f":"COUNTIF($B$9:$B$510,Resultados!B418)","v":0},"",0,"",50,0,"",{"$error":"#VALUE!"},0,""]
[null,null,null,null,null,{"$f":"COUNTIF($B$9:$B$510,Resultados!B419)","v":0},"",0,"",50,0,"",{"$error":"#VALUE!"},0,""]
[null,null,null,null,null,{"$f":"COUNTIF($B$9:$B$510,Resultados!B420)","v":0},"",0,"",50,0,"",{"$error":"#VALUE!"},0,""]
[null,null,null,null,null,{"$f":"COUNTIF($B$9:$B$510,Resultados!B421)","v":0},"",0,"",50,0,"",{"$error":"#VALUE!"},0,""]
[null,null,null,null,null,{"$f":"COUNTIF($B$9:$B$510,Resultados!B422)","v":0},"",0,"",50,0,"",{"$error":"#VALUE!"},0,""]
[null,null,null,null,null,{"$f":"COUNTIF($B$9:$B$510,Resultados!B423)","v":0},"",0,"",50,0,"",{"$error":"#VALUE!"},0,""]
[null,null,null,null,null,{"$f":"COUNTIF($B$9:$B$510,Resultados!B424)","v":0},"",0,"",50,0,"",{"$error":"#VALUE!"},0,""]
[null,null,null,null,null,{"$f":"COUNTIF($B$9:$B$510,Resultados!B425)","v":0},"",0,"",50,0,"",{"$error":"#VALUE!"},0,""]
[null,null,null,null,null,{"$f":"COUNTIF($B$9:$B$510,Resultados!B426)","v":0},"",0,"",50,0,"",{"$error":"#VALUE!"},0,""]
[null,null,null,null,null,{"$f":"COUNTIF($B$9:$B$510,Resultados!B427)","v":0},"",0,"",50,0,"",{"$error":"#VALUE!"},0,""]
[null,null,null,null,null,{"$f":"COUNTIF($B$9:$B$510,Resultados!B428)","v":0},"",0,"",50,0,"",{"$error":"#VALUE!"},0,""]
[null,null,null,null,null,{"$f":"COUNTIF($B$9:$B$510,Resultados!B429)","v":0},"",0,"",50,0,"",{"$error":"#VALUE!"},0,""]
[null,null,null,null,null,{"$f":"COUNTIF($B$9:$B$510,Resultados!B430)","v":0},"",0,"",50,0,"",{"$error":"#VALUE!"},0,""]
[null,null,null,null,null,{"$f":"COUNTIF($B$9:$B$510,Resultados!B431)","v":0},"",0,"",50,0,"",{"$error":"#VALUE!"},0,""]
[null,null,null,null,null,{"$f":"COUNTIF($B$9:$B$510,Resultados!B432)","v":0},"",0,"",50,0,"",{"$error":"#VALUE!"},0,""]
[null,null,null,null,null,{"$f":"COUNTIF($B$9:$B$510,Resultados!B433)","v":0},"",0,"",50,0,"",{"$error":"#VALUE!"},0,""]
[null,null,null,null,null,{"$f":"COUNTIF($B$9:$B$510,Resultados!B434)","v":0},"",0,"",50,0,"",{"$error":"#VALUE!"},0,""]
[null,null,null,null,null,{"$f":"COUNTIF($B$9:$B$510,Resultados!B435)","v":0},"",0,"",50,0,"",{"$error":"#VALUE!"},0,""]
[null,null,null,null,null,{"$f":"COUNTIF($B$9:$B$510,Resultados!B436)","v":0},"",0,"",50,0,"",{"$error":"#VALUE!"},0,""]
[null,null,null,null,null,{"$f":"COUNTIF($B$9:$B$510,Resultados!B437)","v":0},"",0,"",50,0,"",{"$error":"#VALUE!"},0,""]
[null,null,null,null,null,{"$f":"COUNTIF($B$9:$B$510,Resultados!B438)","v":0},"",0,"",50,0,"",{"$error":"#VALUE!"},0,""]
[null,null,null,null,null,{"$f":"COUNTIF($B$9:$B$510,Resultados!B439)","v":0},"",0,"",50,0,"",{"$error":"#VALUE!"},0,""]
[null,null,null,null,null,{"$f":"COUNTIF($B$9:$B$510,Resultados!B440)","v":0},"",0,"",50,0,"",{"$error":"#VALUE!"},0,""]
[null,null,null,null,null,{"$f":"COUNTIF($B$9:$B$510,Resultados!B441)","v":0},"",0,"",50,0,"",{"$error":"#VALUE!"},0,""]
[null,null,null,null,null,{"$f":"COUNTIF($B$9:$B$510,Resultados!B442)","v":0},"",0,"",50,0,"",{"$error":"#VALUE!"},0,""]
[null,null,null,null,null,{"$f":"COUNTIF($B$9:$B$510,Resultados!B443)","v":0},"",0,"",50,0,"",{"$error":"#VALUE!"},0,""]
[null,null,null,null,null,{"$f":"COUNTIF($B$9:$B$510,Resultados!B444)","v":0},"",0,"",50,0,"",{"$error":"#VALUE!"},0,""]
[null,null,null,null,null,{"$f":"COUNTIF($B$9:$B$510,Resultados!B445)","v":0},"",0,"",50,0,"",{"$error":"#VALUE!"},0,""]
[null,null,null,null,null,{"$f":"COUNTIF($B$9:$B$510,Resultados!B446)","v":0},"",0,"",50,0,"",{"$error":"#VALUE!"},0,""]
[null,null,null,null,null,{"$f":"COUNTIF($B$9:$B$510,Resultados!B447)","v":0},"",0,"",50,0,"",{"$error":"#VALUE!"},0,""]
[null,null,null,null,null,{"$f":"COUNTIF($B$9:$B$510,Resultados!B448)","v":0},"",0,"",50,0,"",{"$error":"#VALUE!"},0,""]
[null,null,null,null,null,{"$f":"COUNTIF($B$9:$B$510,Resultados!B449)","v":0},"",0,"",50,0,"",{"$error":"#VALUE!"},0,""]
[null,null,null,null,null,{"$f":"COUNTIF($B$9:$B$510,Resultados!B450)","v":0},"",0,"",50,0,"",{"$error":"#VALUE!"},0,""]
[null,null,null,null,null,{"$f":"COUNTIF($B$9:$B$510,Resultados!B451)","v":0},"",0,"",50,0,"",{"$error":"#VALUE!"},0,""]
[null,null,null,null,null,{"$f":"COUNTIF($B$9:$B$510,Resultados!B452)","v":0},"",0,"",50,0,"",{"$error":"#VALUE!"},0,""]
[null,null,null,null,null,{"$f":"COUNTIF($B$9:$B$510,Resultados!B453)","v":0},{"$f":"IF(F458 <> 0,F458,\"\")","v":""},{"$f":"F458/$D$9","v":0},{"$f":"IF(H458 <> 0,H458,\"\")","v":""},50,{"$f":"IF(H458<>0,J458,0)","v":0},{"$f":"IF(K458 <> 0,K458,\"\")","v":""},{"$f":"L458/$D$9","v":{"$error":"#VALUE!"}},{"$f":"IF(K458<>0,M458,0)","v":0},{"$f":"IF(N458 <> 0,N458,\"\")","v":""}]
[null,null,null,null,null,{"$f":"COUNTIF($B$9:$B$510,Resultados!B454)","v":0},"",0,"",{"$f":"J458+F459","v":50},0,"",{"$error":"#VALUE!"},0,""]
[null,null,null,null,null,{"$f":"COUNTIF($B$9:$B$510,Resultados!B455)","v":0},"",0,"",50,0,"",{"$error":"#VALUE!"},0,""]
[null,null,null,null,null,{"$f":"COUNTIF($B$9:$B$510,Resultados!B456)","v":0},"",0,"",50,0,"",{"$error":"#VALUE!"},0,""]
[null,null,null,null,null,{"$f":"COUNTIF($B$9:$B$510,Resultados!B457)","v":0},"",0,"",50,0,"",{"$error":"#VALUE!"},0,""]
[null,null,null,null,null,{"$f":"COUNTIF($B$9:$B$510,Resultados!B458)","v":0},"",0,"",50,0,"",{"$error":"#VALUE!"},0,""]
[null,null,null,null,null,{"$f":"COUNTIF($B$9:$B$510,Resultados!B459)","v":0},"",0,"",50,0,"",{"$error":"#VALUE!"},0,""]
[null,null,null,null,null,{"$f":"COUNTIF($B$9:$B$510,Resultados!B460)","v":0},"",0,"",50,0,"",{"$error":"#VALUE!"},0,""]
[null,null,null,null,null,{"$f":"COUNTIF($B$9:$B$510,Resultados!B461)","v":0},"",0,"",50,0,"",{"$error":"#VALUE!"},0,""]
[null,null,null,null,null,{"$f":"COUNTIF($B$9:$B$510,Resultados!B462)","v":0},"",0,"",50,0,"",{"$error":"#VALUE!"},0,""]
[null,null,null,null,null,{"$f":"COUNTIF($B$9:$B$510,Resultados!B463)","v":0},"",0,"",50,0,"",{"$error":"#VALUE!"},0,""]
[null,null,null,null,null,{"$f":"COUNTIF($B$9:$B$510,Resultados!B464)","v":0},"",0,"",50,0,"",{"$error":"#VALUE!"},0,""]
[null,null,null,null,null,{"$f":"COUNTIF($B$9:$B$510,Resultados!B465)","v":0},"",0,"",50,0,"",{"$error":"#VALUE!"},0,""]
[null,null,null,null,null,{"$f":"COUNTIF($B$9:$B$510,Resultados!B466)","v":0},"",0,"",50,0,"",{"$error":"#VALUE!"},0,""]
[null,null,null,null,null,{"$f":"COUNTIF($B$9:$B$510,Resultados!B467)","v":0},"",0,"",50,0,"",{"$error":"#VALUE!"},0,""]
[null,null,null,null,null,{"$f":"COUNTIF($B$9:$B$510,Resultados!B468)","v":0},"",0,"",50,0,"",{"$error":"#VALUE!"},0,""]
[null,null,null,null,null,{"$f":"COUNTIF($B$9:$B$510,Resultados!B469)","v":0},"",0,"",50,0,"",{"$error":"#VALUE!"},0,""]
[null,null,null,null,null,{"$f":"COUNTIF($B$9:$B$510,Resultados!B470)","v":0},"",0,"",50,0,"",{"$error":"#VALUE!"},0,""]
[null,null,null,null,null,{"$f":"COUNTIF($B$9:$B$510,Resultados!B471)","v":0},"",0,"",50,0,"",{"$error":"#VALUE!"},0,""]
[null,null,null,null,null,{"$f":"COUNTIF($B$9:$B$510,Resultados!B472)","v":0},"",0,"",50,0,"",{"$error":"#VALUE!"},0,""]
[null,null,null,null,null,{"$f":"COUNTIF($B$9:$B$510,Resultados!B473)","v":0},"",0,"",50,0,"",{"$error":"#VALUE!"},0,""]
[null,null,null,null,null,{"$f":"COUNTIF($B$9:$B$510,Resultados!B474)","v":0},"",0,"",50,0,"",{"$error":"#VALUE!"},0,""]
[null,null,null,null,null,{"$f":"COUNTIF($B$9:$B$510,Resultados!B475)","v":0},"",0,"",50,0,"",{"$error":"#VALUE!"},0,""]
[null,null,null,null,null,{"$f":"COUNTIF($B$9:$B$510,Resultados!B476)","v":0},"",0,"",50,0,"",{"$error":"#VALUE!"},0,""]
[null,null,null,null,null,{"$f":"COUNTIF($B$9:$B$510,Resultados!B477)","v":0},"",0,"",50,0,"",{"$error":"#VALUE!"},0,""]
[null,null,null,null,null,{"$f":"COUNTIF($B$9:$B$510,Resultados!B478)","v":0},"",0,"",50,0,"",{"$error":"#VALUE!"},0,""]
[null,null,null,null,null,{"$f":"COUNTIF($B$9:$B$510,Resultados!B479)","v":0},"",0,"",50,0,"",{"$error":"#VALUE!"},0,""]
[null,null,null,null,null,{"$f":"COUNTIF($B$9:$B$510,Resultados!B480)","v":0},"",0,"",50,0,"",{"$error":"#VALUE!"},0,""]
[null,null,null,null,null,{"$f":"COUNTIF($B$9:$B$510,Resultados!B481)","v":0},"",0,"",50,0,"",{"$error":"#VALUE!"},0,""]
[null,null,null,null,null,{"$f":"COUNTIF($B$9:$B$510,Resultados!B482)","v":0},"",0,"",50,0,"",{"$error":"#VALUE!"},0,""]
[null,null,null,null,null,{"$f":"COUNTIF($B$9:$B$510,Resultados!B483)","v":0},"",0,"",50,0,"",{"$error":"#VALUE!"},0,""]
[null,null,null,null,null,{"$f":"COUNTIF($B$9:$B$510,Resultados!B484)","v":0},"",0,"",50,0,"",{"$error":"#VALUE!"},0,""]
[null,null,null,null,null,{"$f":"COUNTIF($B$9:$B$510,Resultados!B485)","v":0},"",0,"",50,0,"",{"$error":"#VALUE!"},0,""]
[null,null,null,null,null,{"$f":"COUNTIF($B$9:$B$510,Resultados!B486)","v":0},"",0,"",50,0,"",{"$error":"#VALUE!"},0,""]
[null,null,null,null,null,{"$f":"COUNTIF($B$9:$B$510,Resultados!B487)","v":0},"",0,"",50,0,"",{"$error":"#VALUE!"},0,""]
[null,null,null,null,null,{"$f":"COUNTIF($B$9:$B$510,Resultados!B488)","v":0},"",0,"",50,0,"",{"$error":"#VALUE!"},0,""]
[null,null,null,null,null,{"$f":"COUNTIF($B$9:$B$510,Resultados!B489)","v":0},"",0,"",50,0,"",{"$error":"#VALUE!"},0,""]
[null,null,null,null,null,{"$f":"COUNTIF($B$9:$B$510,Resultados!B490)","v":0},"",0,"",50,0,"",{"$error":"#VALUE!"},0,""]
[null,null,null,null,null,{"$f":"COUNTIF($B$9:$B$510,Resultados!B491)","v":0},"",0,"",50,0,"",{"$error":"#VALUE!"},0,""]
[null,null,null,null,null,{"$f":"COUNTIF($B$9:$B$510,Resultados!B492)","v":0},"",0,"",50,0,"",{"$error":"#VALUE!"},0,""]
[null,null,null,null,null,{"$f":"COUNTIF($B$9:$B$510,Resultados!B493)","v":0},"",0,"",50,0,"",{"$error":"#VALUE!"},0,""]
[null,null,null,null,null,{"$f":"COUNTIF($B$9:$B$510,Resultados!B494)","v":0},"",0,"",50,0,"",{"$error":"#VALUE!"},0,""]
[null,null,null,null,null,{"$f":"COUNTIF($B$9:$B$510,Resultados!B495)","v":0},"",0,"",50,0,"",{"$error":"#VALUE!"},0,""]
[null,null,null,null,null,{"$f":"COUNTIF($B$9:$B$510,Resultados!B496)","v":0},"",0,"",50,0,"",{"$error":"#VALUE!"},0,""]
[null,null,null,null,null,{"$f":"COUNTIF($B$9:$B$510,Resultados!B497)","v":0},"",0,"",50,0,"",{"$error":"#VALUE!"},0,""]
[null,null,null,null,null,{"$f":"COUNTIF($B$9:$B$510,Resultados!B498)","v":0},"",0,"",50,0,"",{"$error":"#VALUE!"},0,""]
[null,null,null,null,null,{"$f":"COUNTIF($B$9:$B$510,Resultados!B499)","v":0},"",0,"",50,0,"",{"$error":"#VALUE!"},0,""]
[null,null,null,null,null,{"$f":"COUNTIF($B$9:$B$510,Resultados!B500)","v":0},"",0,"",50,0,"",{"$error":"#VALUE!"},0,""]
[null,null,null,null,null,{"$f":"COUNTIF($B$9:$B$510,Resultados!B501)","v":0},"",0,"",50,0,"",{"$error":"#VALUE!"},0,""]
[null,null,null,null,null,{"$f":"COUNTIF($B$9:$B$510,Resultados!B502)","v":0},"",0,"",50,0,"",{"$error":"#VALUE!"},0,""]
[null,null,null,null,null,{"$f":"COUNTIF($B$9:$B$510,Resultados!B503)","v":0},"",0,"",50,0,"",{"$error":"#VALUE!"},0,""]

{"sheet":"Datos","index":8,"n_rows":30,"n_cols":10,"rows_kept":30,"cut":false,"hidden":true,"merged":[]}
["Media",{"$f":"B12/B13","v":62.625},null,null,"Media",{"$f":"F12/F13","v":3.6}]
["Error típico",{"$f":"B5/B13^(1/2)","v":10.161090879287659},null,null,"Error típico",{"$f":"F5/F13^(1/2)","v":0.63595946761129718}]
["Mediana",{"$f":"MEDIAN(DescriptivosVarCuanti!C5:C200)","v":71},null,null,"Mediana",{"$f":"MEDIAN(EscalaLikert!C5:C200)","v":3}]
["Moda",{"$f":"_xlfn.MODE.SNGL(DescriptivosVarCuanti!C5:C200)","v":23},null,null,"Moda",{"$f":"_xlfn.MODE.SNGL(EscalaLikert!C5:C200)","v":3}]
["Desviación estándar",{"$f":"_xlfn.STDEV.S(DescriptivosVarCuanti!C5:C200)","v":28.739905059988331},null,null,"Desviación estándar",{"$f":"_xlfn.STDEV.S(EscalaLikert!C5:C200)","v":2.0110804171997811}]
["Varianza de la muestra",{"$f":"VAR(DescriptivosVarCuanti!C5:C200)","v":825.98214285714289},null,null,"Varianza de la muestra",{"$f":"VAR(EscalaLikert!C5:C200)","v":4.0444444444444452}]
["Curtosis",{"$f":"KURT(DescriptivosVarCuanti!C5:C200)","v":-1.5888898810145964},null,null,"Curtosis",{"$f":"KURT(EscalaLikert!C5:C200)","v":1.5543542015284544}]
["Coeficiente de asimetría",{"$f":"SKEW(DescriptivosVarCuanti!C5:C200)","v":-0.56382211796981119},null,null,"Coeficiente de asimetría",{"$f":"SKEW(EscalaLikert!C5:C200)","v":1.0983107338227274}]
["Rango",{"$f":"B11-B10","v":67},null,null,"Rango",{"$f":"F11-F10","v":7}]
["Mínimo",{"$f":"MIN(DescriptivosVarCuanti!C5:C200)","v":23},null,null,"Mínimo",{"$f":"MIN(EscalaLikert!C5:C200)","v":1}]
["Máximo",{"$f":"MAX(DescriptivosVarCuanti!C5:C200)","v":90},null,null,"Máximo",{"$f":"MAX(EscalaLikert!C5:C200)","v":8}]
["Suma",{"$f":"SUM(DescriptivosVarCuanti!C5:C200)","v":501},null,null,"Suma",{"$f":"SUM(EscalaLikert!C5:C200)","v":36}]
["Cuenta",{"$f":"COUNT(DescriptivosVarCuanti!C5:C200)","v":8},null,null,"Cuenta",{"$f":"COUNT(EscalaLikert!C5:C200)","v":10}]
[]
[]
["Z",{"$f":"Muestra!B10","v":95},{"$f":"+((1-G16)/2)+G16","v":0.97499999999999998},{"$f":"_xlfn.NORM.S.INV(C16)","v":1.9599639845400536},{"$f":"+((D16*B5)/(Muestra!B11))^2","v":392.29037819576308},{"$f":"ROUNDUP(E16,0)","v":393},{"$f":"B16/100","v":0.95},{"$f":"(E16/(1+E16/Muestra!B20))","v":392.25960226221861}]
[null,{"$f":"Muestra2!B10","v":95},{"$f":"+((1-G17)/2)+G17","v":0.97499999999999998},{"$f":"_xlfn.NORM.S.INV(C17)","v":1.9599639845400536},{"$f":"+((D17*F5)/(Muestra2!B11*F1))^2","v":1332.01018397792},{"$f":"ROUNDUP(E17,0)","v":1333},{"$f":"B17/100","v":0.95},{"$f":"(E17/(1+E17/Muestra2!B20))","v":571.1854061056415}]
[]
[1,2,null,null,null,null,null,null,null,"si se conoce n"]
[{"$f":"'Muestreo Aleatorio'!F14","v":1000},"s",{"$f":"A20^2","v":1000000}]
[{"$f":"'Muestreo Aleatorio'!F15/100","v":0.95},"a",{"$f":"D21/2","v":2.5000000000000022E-2},{"$f":"1-A21","v":5.0000000000000044E-2},{"$f":"A21+C21","v":0.97499999999999998},{"$f":"_xlfn.NORM.S.INV(E21)","v":1.9599639845400536},{"$f":"C22/C24","v":2603.1777162700582},{"$f":"C20/G23","v":{"$error":"#DIV/0!"}}]
[{"$f":"'Muestreo Aleatorio'!F16","v":100},"e",{"$f":"A22^2","v":10000},null,{"$f":"C24*C20/C22","v":384.14588206941232},null,{"$f":"C20/A23","v":{"$error":"#DIV/0!"}}]
[null,"n",{"$f":"((A24)^2*(A20)^2)/(A22)^2","v":384.14588206941232},null,{"$f":"C24","v":3.8414588206941236},null,{"$f":"G21+G22","v":{"$error":"#DIV/0!"}}]
[{"$f":"F21","v":1.9599639845400536},"Z",{"$f":"F21^2","v":3.8414588206941236}]
[1,2,"cuadrados"]
[{"$f":"'Muestreo Aleatorio'!F30","v":1000},"s",{"$f":"A26^2","v":1000000},null,{"$f":"C28/F30","v":2603.1777162700582},{"$f":"C26/A29","v":1000},{"$f":"E26+F26","v":3603.1777162700582},{"$f":"C26/G26","v":277.53279986288914}]
[{"$f":"'Muestreo Aleatorio'!F31/100","v":0.95},"alfa"]
[{"$f":"'Muestreo Aleatorio'!F32","v":100},"e",{"$f":"A28^2","v":10000}]
[{"$f":"'Muestreo Aleatorio'!F33","v":1000},"N"]
[{"$f":"_xlfn.NORM.S.INV(E30)","v":1.9599639845400536},"Z",{"$f":"1-A27","v":5.0000000000000044E-2},{"$f":"C30/2","v":2.5000000000000022E-2},{"$f":"A27+D30","v":0.97499999999999998},{"$f":"A30^2","v":3.8414588206941236}]

{"sheet":"Muestreo Aleatorio","index":9,"n_rows":41,"n_cols":7,"rows_kept":41,"cut":false,"hidden":false,"merged":[[33,2,33,4],[37,2,37,5],[39,3,39,4],[28,2,28,5],[29,2,29,4],[30,2,30,4],[31,2,31,4],[32,2,32,4],[20,2,20,5],[22,3,22,4],[12,2,12,5],[13,2,13,4],[14,2,14,4],[15,2,15,4],[16,2,16,4]]}
[]
[null,"      Muestreo aleatorio simple"]
[]
[]
[]
[]
[]
[]
[]
[]
[]
[]
[null,null,"Datos de entrada"]
[null,null,"Desviación estándar (S)",null,null,1000]
[null,null,"Nivel de confianza α (%)",null,null,95]
[null,null,"Error máximo permitido ε\n(Valor Proporcional entre 0 y 1)",null,null,100]
[null,null,"Margen de confiabilidad",null,null,{"$f":"Datos!F21","v":1.9599639845400536}]
[]
[]
[]
[null,null,"Tamaño necesario de la muestra (n)"]
[]
[null,null,null,{"$f":"Datos!C23","v":384.14588206941232},null,null,"Regressar"]
[null,null,null,null,null,null,"Inicio"]
[]
[]
[]
[]
[null,null,"Datos de entrada"]
[null,null,"Desviación estándar (S)",null,null,1000]
[null,null,"Nivel de confianza α (%)",null,null,95]
[null,null,"Error máximo permitido ε\n(Valor Proporcional entre 0 y 1)",null,null,100]
[null,null,"Tamaño de la población (N)",null,null,1000]
[null,null,"Margen de confiabilidad",null,null,{"$f":"Datos!A30","v":1.9599639845400536}]
[]
[]
[]
[null,null,"Tamaño necesario de la muestra (n)"]
[]
[null,null,null,{"$f":"Datos!H26","v":277.53279986288914},null,null,"Regresar"]
[null,null,null,null,null,null,"Inicio"]

{"sheet":"Muestreo Proporc.","index":10,"n_rows":20,"n_cols":5,"rows_kept":20,"cut":false,"hidden":false,"merged":[]}
[]
[]
[null,null,null,10]
[]
[null,1]
[]
[null,null,null,1]
[]
[]
[null,"Encuesta","Valor",null,"Ir a Proporción"]
[null,1,1,null,"Inicio"]
[null,2,1]
[null,3,1]
[null,4,1]
[null,5,1]
[null,6,1]
[null,7,2]
[null,8,2]
[null,9,2]
[null,10,2]

{"sheet":"Proporcion","index":11,"n_rows":43,"n_cols":6,"rows_kept":43,"cut":false,"hidden":false,"merged":[[41,5,41,6],[42,5,42,6],[31,2,31,4],[32,2,32,4],[33,2,33,4],[35,2,35,4],[37,2,37,5],[39,3,39,4],[24,5,24,6],[25,5,25,6],[29,2,29,5],[30,2,30,4],[17,2,17,4],[19,2,19,4],[21,2,21,5],[23,3,23,4],[16,2,16,4],[11,5,11,6],[10,5,10,6],[13,2,13,5],[14,2,14,4],[15,2,15,4]]}
[]
[null,"Muestreo proporcional       "]
[]
[]
[]
[]
[]
[]
[]
[]
[null,null,null,null,null,"Regresar Muestreo"]
[null,null,null,null,null,"Inicio"]
[]
[null,null,"Datos de entrada infinita"]
[null,null,"Nivel de confianza ",null,null,90]
[null,null,"Error de estimación",null,null,0.03]
[null,null,"Proporción (P)",null,null,{"$f":"Hoja9!F4","v":0.6}]
[null,null,"Z",null,null,{"$f":"Hoja9!F7","v":1.6448536269514715}]
[null,null,"Q = (1 - P)",null,null,{"$f":"Hoja9!F5","v":0.4}]
[]
[]
[null,null,"Tamaño necesario de la muestra (n)"]
[]
[null,null,null,{"$f":"Hoja9!H8","v":721.47825442544274}]
[null,null,null,null,null,"Regresar"]
[null,null,null,null,null,"Inicio"]
[]
[]
[]
[null,null,"Datos de entrada finita"]
[null,null,"Nivel de confianza ",null,null,90]
[null,null,"Error de estimación",null,null,0.03]
[null,null,"Proporción (P)",null,null,{"$f":"Hoja9!I4","v":0.6}]
[null,null,"Z",null,null,{"$f":"Hoja9!I7","v":1.6448536269514715}]
[null,null,"Q = (1 - P)",null,null,{"$f":"Hoja9!I5","v":0.4}]
[null,null,"N",null,null,1000000]
[]
[null,null,"Tamaño necesario de la muestra (n)"]
[]
[null,null,null,{"$f":"Hoja9!J13","v":720.9588192738197}]
[]
[null,null,null,null,null,"Regresar"]
[null,null,null,null,null,"Inicio"]

{"sheet":"Hoja3","index":12,"n_rows":0,"n_cols":0,"rows_kept":0,"cut":false,"hidden":true,"merged":[]}

{"sheet":"Hoja6","index":13,"n_rows":75,"n_cols":3,"rows_kept":75,"cut":false,"hidden":true,"merged":[]}
[200,null,1]
[450,null,1]
[370,null,2]
[1000,null,1]
[800,null,2]
[400,null,1]
[300,null,1]
[250,null,1]
[900,null,1]
[1100,null,2]
[750,null,2]
[500,null,1]
[300,null,1]
[500,null,1]
[800,null,2]
[750,null,2]
[350,null,1]
[1200,null,2]
[250,null,1]
[600,null,1]
[750,null,1]
[900,null,1]
[450,null,1]
[1100,null,1]
[650,null,2]
[350,null,2]
[500,null,2]
[900,null,2]
[450,null,2]
[1300,null,2]
[900,null,2]
[1200,null,2]
[350,null,1]
[250,null,2]
[1100,null,1]
[700,null,1]
[500,null,1]
[700,null,1]
[800,null,1]
[500,null,1]
[300,null,2]
[450,null,2]
[800,null,2]
[700,null,1]
[300,null,1]
[250,null,1]
[300,null,1]
[750,null,1]
[900,null,1]
[600,null,1]
[1200,null,1]
[900,null,2]
[1100,null,1]
[1250,null,1]
[900,null,1]
[700,null,2]
[300,null,2]
[null,null,2]
[null,null,1]
[null,null,1]
[null,null,1]
[null,null,1]
[null,null,2]
[null,null,2]
[null,null,1]
[null,null,1]
[null,null,2]
[null,null,2]
[null,null,2]
[null,null,1]
[null,null,1]
[null,null,1]
[null,null,2]
[null,null,2]
[null,null,1]

{"sheet":"Hoja9","index":14,"n_rows":500,"n_cols":10,"rows_kept":500,"cut":false,"hidden":true,"merged":[[1,6,1,7],[1,8,1,9]]}
[{"$f":"'Muestreo Proporc.'!C11","v":1},{"$f":"IF(A1>0,A1,\"\")","v":1},null,null,null,null,null,null,null,{"$f":"IF(I1>0,I1,\"\")","v":""}]
[{"$f":"'Muestreo Proporc.'!C12","v":1},{"$f":"IF(A2>0,A2,\"\")","v":1},null,null,"No. A Estudiar","Total # Estudiar","Confianza Infinita",null,"Confianza finita"]
[{"$f":"'Muestreo Proporc.'!C13","v":1},1,null,null,1,{"$f":"COUNTIF(B1:B500,E3)","v":6},{"$f":"Proporcion!F15/100","v":0.9},{"$f":"((1-G3)/2)+G3","v":0.95},{"$f":"Proporcion!F31/100","v":0.9},{"$f":"((1-I3)/2)+I3","v":0.95}]
[{"$f":"'Muestreo Proporc.'!C14","v":1},1,null,null,10,{"$f":"F3/E4","v":0.6},"P",null,{"$f":"F3/E4","v":0.6}]
[{"$f":"'Muestreo Proporc.'!C15","v":1},1,null,null,null,{"$f":"1-F4","v":0.4},"Q",null,{"$f":"1-I4","v":0.4}]
[{"$f":"'Muestreo Proporc.'!C16","v":1},1,null,null,null,{"$f":"Proporcion!F16","v":0.03},"E",{"$f":"F6^2","v":8.9999999999999998E-4},{"$f":"Proporcion!F32","v":0.03},{"$f":"I6^2","v":8.9999999999999998E-4}]
[{"$f":"'Muestreo Proporc.'!C17","v":2},2,null,null,null,{"$f":"_xlfn.NORM.S.INV(H3)","v":1.6448536269514715},"Z",{"$f":"F7^2","v":2.7055434540954106},{"$f":"_xlfn.NORM.S.INV(J3)","v":1.6448536269514715},{"$f":"I7^2","v":2.7055434540954106}]
[{"$f":"'Muestreo Proporc.'!C18","v":2},2,null,null,null,null,"N",{"$f":"(H7*F4*F5)/H6","v":721.47825442544274},{"$f":"Proporcion!F36","v":1000000}]
[{"$f":"'Muestreo Proporc.'!C19","v":2},2,null,null,null,null,null,null,"Zxpxqxn",{"$f":"(J7*I4*I5*I8)","v":649330.42898289848}]
[{"$f":"'Muestreo Proporc.'!C20","v":2},2,null,null,null,null,null,null,"Ex(N-1)",{"$f":"J6*(I8-1)","v":899.9991}]
[{"$f":"'Muestreo Proporc.'!C21","v":0},"",null,null,null,null,null,null,"Zxpxq",{"$f":"(J7*I4*I5)","v":0.6493304289828985}]
[{"$f":"'Muestreo Proporc.'!C22","v":0},"",null,null,null,null,null,null,null,{"$f":"J10+J11","v":900.64843042898292}]
[{"$f":"'Muestreo Proporc.'!C23","v":0},"",null,null,null,null,null,null,"formula",{"$f":"J9/J12","v":720.9588192738197}]
[{"$f":"'Muestreo Proporc.'!C24","v":0},""]
[{"$f":"'Muestreo Proporc.'!C25","v":0},""]
[{"$f":"'Muestreo Proporc.'!C26","v":0},""]
[{"$f":"'Muestreo Proporc.'!C27","v":0},""]
[{"$f":"'Muestreo Proporc.'!C28","v":0},""]
[{"$f":"'Muestreo Proporc.'!C29","v":0},""]
[{"$f":"'Muestreo Proporc.'!C30","v":0},""]
[{"$f":"'Muestreo Proporc.'!C31","v":0},""]
[{"$f":"'Muestreo Proporc.'!C32","v":0},""]
[{"$f":"'Muestreo Proporc.'!C33","v":0},""]
[{"$f":"'Muestreo Proporc.'!C34","v":0},""]
[{"$f":"'Muestreo Proporc.'!C35","v":0},""]
[{"$f":"'Muestreo Proporc.'!C36","v":0},""]
[{"$f":"'Muestreo Proporc.'!C37","v":0},""]
[{"$f":"'Muestreo Proporc.'!C38","v":0},""]
[{"$f":"'Muestreo Proporc.'!C39","v":0},""]
[{"$f":"'Muestreo Proporc.'!C40","v":0},""]
[{"$f":"'Muestreo Proporc.'!C41","v":0},""]
[{"$f":"'Muestreo Proporc.'!C42","v":0},""]
[{"$f":"'Muestreo Proporc.'!C43","v":0},""]
[{"$f":"'Muestreo Proporc.'!C44","v":0},""]
[{"$f":"'Muestreo Proporc.'!C45","v":0},""]
[{"$f":"'Muestreo Proporc.'!C46","v":0},""]
[{"$f":"'Muestreo Proporc.'!C47","v":0},""]
[{"$f":"'Muestreo Proporc.'!C48","v":0},""]
[{"$f":"'Muestreo Proporc.'!C49","v":0},""]
[{"$f":"'Muestreo Proporc.'!C50","v":0},""]
[{"$f":"'Muestreo Proporc.'!C51","v":0},""]
[{"$f":"'Muestreo Proporc.'!C52","v":0},""]
[{"$f":"'Muestreo Proporc.'!C53","v":0},""]
[{"$f":"'Muestreo Proporc.'!C54","v":0},""]
[{"$f":"'Muestreo Proporc.'!C55","v":0},""]
[{"$f":"'Muestreo Proporc.'!C56","v":0},""]
[{"$f":"'Muestreo Proporc.'!C57","v":0},""]
[{"$f":"'Muestreo Proporc.'!C58","v":0},""]
[{"$f":"'Muestreo Proporc.'!C59","v":0},""]
[{"$f":"'Muestreo Proporc.'!C60","v":0},""]
[{"$f":"'Muestreo Proporc.'!C61","v":0},""]
[{"$f":"'Muestreo Proporc.'!C62","v":0},""]
[{"$f":"'Muestreo Proporc.'!C63","v":0},""]
[{"$f":"'Muestreo Proporc.'!C64","v":0},""]
[{"$f":"'Muestreo Proporc.'!C65","v":0},""]
[{"$f":"'Muestreo Proporc.'!C66","v":0},""]
[{"$f":"'Muestreo Proporc.'!C67","v":0},""]
[{"$f":"'Muestreo Proporc.'!C68","v":0},""]
[{"$f":"'Muestreo Proporc.'!C69","v":0},""]
[{"$f":"'Muestreo Proporc.'!C70","v":0},""]
[{"$f":"'Muestreo Proporc.'!C71","v":0},""]
[{"$f":"'Muestreo Proporc.'!C72","v":0},""]
[{"$f":"'Muestreo Proporc.'!C73","v":0},""]
[{"$f":"'Muestreo Proporc.'!C74","v":0},""]
[{"$f":"'Muestreo Proporc.'!C75","v":0},""]
[{"$f":"'Muestreo Proporc.'!C76","v":0},{"$f":"IF(A66>0,A66,\"\")","v":""}]
[{"$f":"'Muestreo Proporc.'!C77","v":0},""]
[{"$f":"'Muestreo Proporc.'!C78","v":0},""]
[{"$f":"'Muestreo Proporc.'!C79","v":0},""]
[{"$f":"'Muestreo Proporc.'!C80","v":0},""]
[{"$f":"'Muestreo Proporc.'!C81","v":0},""]
[{"$f":"'Muestreo Proporc.'!C82","v":0},""]
[{"$f":"'Muestreo Proporc.'!C83","v":0},""]
[{"$f":"'Muestreo Proporc.'!C84","v":0},""]
[{"$f":"'Muestreo Proporc.'!C85","v":0},""]
[{"$f":"'Muestreo Proporc.'!C86","v":0},""]
[{"$f":"'Muestreo Proporc.'!C87","v":0},""]
[{"$f":"'Muestreo Proporc.'!C88","v":0},""]
[{"$f":"'Muestreo Proporc.'!C89","v":0},""]
[{"$f":"'Muestreo Proporc.'!C90","v":0},""]
[{"$f":"'Muestreo Proporc.'!C91","v":0},""]
[{"$f":"'Muestreo Proporc.'!C92","v":0},""]
[{"$f":"'Muestreo Proporc.'!C93","v":0},""]
[{"$f":"'Muestreo Proporc.'!C94","v":0},""]
[{"$f":"'Muestreo Proporc.'!C95","v":0},""]
[{"$f":"'Muestreo Proporc.'!C96","v":0},""]
[{"$f":"'Muestreo Proporc.'!C97","v":0},""]
[{"$f":"'Muestreo Proporc.'!C98","v":0},""]
[{"$f":"'Muestreo Proporc.'!C99","v":0},""]
[{"$f":"'Muestreo Proporc.'!C100","v":0},""]
[{"$f":"'Muestreo Proporc.'!C101","v":0},""]
[{"$f":"'Muestreo Proporc.'!C102","v":0},""]
[{"$f":"'Muestreo Proporc.'!C103","v":0},""]
[{"$f":"'Muestreo Proporc.'!C104","v":0},""]
[{"$f":"'Muestreo Proporc.'!C105","v":0},""]
[{"$f":"'Muestreo Proporc.'!C106","v":0},""]
[{"$f":"'Muestreo Proporc.'!C107","v":0},""]
[{"$f":"'Muestreo Proporc.'!C108","v":0},""]
[{"$f":"'Muestreo Proporc.'!C109","v":0},""]
[{"$f":"'Muestreo Proporc.'!C110","v":0},""]
[{"$f":"'Muestreo Proporc.'!C111","v":0},""]
[{"$f":"'Muestreo Proporc.'!C112","v":0},""]
[{"$f":"'Muestreo Proporc.'!C113","v":0},""]
[{"$f":"'Muestreo Proporc.'!C114","v":0},""]
[{"$f":"'Muestreo Proporc.'!C115","v":0},""]
[{"$f":"'Muestreo Proporc.'!C116","v":0},""]
[{"$f":"'Muestreo Proporc.'!C117","v":0},""]
[{"$f":"'Muestreo Proporc.'!C118","v":0},""]
[{"$f":"'Muestreo Proporc.'!C119","v":0},""]
[{"$f":"'Muestreo Proporc.'!C120","v":0},""]
[{"$f":"'Muestreo Proporc.'!C121","v":0},""]
[{"$f":"'Muestreo Proporc.'!C122","v":0},""]
[{"$f":"'Muestreo Proporc.'!C123","v":0},""]
[{"$f":"'Muestreo Proporc.'!C124","v":0},""]
[{"$f":"'Muestreo Proporc.'!C125","v":0},""]
[{"$f":"'Muestreo Proporc.'!C126","v":0},""]
[{"$f":"'Muestreo Proporc.'!C127","v":0},""]
[{"$f":"'Muestreo Proporc.'!C128","v":0},""]
[{"$f":"'Muestreo Proporc.'!C129","v":0},""]
[{"$f":"'Muestreo Proporc.'!C130","v":0},""]
[{"$f":"'Muestreo Proporc.'!C131","v":0},""]
[{"$f":"'Muestreo Proporc.'!C132","v":0},""]
[{"$f":"'Muestreo Proporc.'!C133","v":0},""]
[{"$f":"'Muestreo Proporc.'!C134","v":0},""]
[{"$f":"'Muestreo Proporc.'!C135","v":0},""]
[{"$f":"'Muestreo Proporc.'!C136","v":0},""]
[{"$f":"'Muestreo Proporc.'!C137","v":0},""]
[{"$f":"'Muestreo Proporc.'!C138","v":0},""]
[{"$f":"'Muestreo Proporc.'!C139","v":0},""]
[{"$f":"'Muestreo Proporc.'!C140","v":0},{"$f":"IF(A130>0,A130,\"\")","v":""}]
[{"$f":"'Muestreo Proporc.'!C141","v":0},""]
[{"$f":"'Muestreo Proporc.'!C142","v":0},""]
[{"$f":"'Muestreo Proporc.'!C143","v":0},""]
[{"$f":"'Muestreo Proporc.'!C144","v":0},""]
[{"$f":"'Muestreo Proporc.'!C145","v":0},""]
[{"$f":"'Muestreo Proporc.'!C146","v":0},""]
[{"$f":"'Muestreo Proporc.'!C147","v":0},""]
[{"$f":"'Muestreo Proporc.'!C148","v":0},""]
[{"$f":"'Muestreo Proporc.'!C149","v":0},""]
[{"$f":"'Muestreo Proporc.'!C150","v":0},""]
[{"$f":"'Muestreo Proporc.'!C151","v":0},""]
[{"$f":"'Muestreo Proporc.'!C152","v":0},""]
[{"$f":"'Muestreo Proporc.'!C153","v":0},""]
[{"$f":"'Muestreo Proporc.'!C154","v":0},""]
[{"$f":"'Muestreo Proporc.'!C155","v":0},""]
[{"$f":"'Muestreo Proporc.'!C156","v":0},""]
[{"$f":"'Muestreo Proporc.'!C157","v":0},""]
[{"$f":"'Muestreo Proporc.'!C158","v":0},""]
[{"$f":"'Muestreo Proporc.'!C159","v":0},""]
[{"$f":"'Muestreo Proporc.'!C160","v":0},""]
[{"$f":"'Muestreo Proporc.'!C161","v":0},""]
[{"$f":"'Muestreo Proporc.'!C162","v":0},""]
[{"$f":"'Muestreo Proporc.'!C163","v":0},""]
[{"$f":"'Muestreo Proporc.'!C164","v":0},""]
[{"$f":"'Muestreo Proporc.'!C165","v":0},""]
[{"$f":"'Muestreo Proporc.'!C166","v":0},""]
[{"$f":"'Muestreo Proporc.'!C167","v":0},""]
[{"$f":"'Muestreo Proporc.'!C168","v":0},""]
[{"$f":"'Muestreo Proporc.'!C169","v":0},""]
[{"$f":"'Muestreo Proporc.'!C170","v":0},""]
[{"$f":"'Muestreo Proporc.'!C171","v":0},""]
[{"$f":"'Muestreo Proporc.'!C172","v":0},""]
[{"$f":"'Muestreo Proporc.'!C173","v":0},""]
[{"$f":"'Muestreo Proporc.'!C174","v":0},""]
[{"$f":"'Muestreo Proporc.'!C175","v":0},""]
[{"$f":"'Muestreo Proporc.'!C176","v":0},""]
[{"$f":"'Muestreo Proporc.'!C177","v":0},""]
[{"$f":"'Muestreo Proporc.'!C178","v":0},""]
[{"$f":"'Muestreo Proporc.'!C179","v":0},""]
[{"$f":"'Muestreo Proporc.'!C180","v":0},""]
[{"$f":"'Muestreo Proporc.'!C181","v":0},""]
[{"$f":"'Muestreo Proporc.'!C182","v":0},""]
[{"$f":"'Muestreo Proporc.'!C183","v":0},""]
[{"$f":"'Muestreo Proporc.'!C184","v":0},""]
[{"$f":"'Muestreo Proporc.'!C185","v":0},""]
[{"$f":"'Muestreo Proporc.'!C186","v":0},""]
[{"$f":"'Muestreo Proporc.'!C187","v":0},""]
[{"$f":"'Muestreo Proporc.'!C188","v":0},""]
[{"$f":"'Muestreo Proporc.'!C189","v":0},""]
[{"$f":"'Muestreo Proporc.'!C190","v":0},""]
[{"$f":"'Muestreo Proporc.'!C191","v":0},""]
[{"$f":"'Muestreo Proporc.'!C192","v":0},""]
[{"$f":"'Muestreo Proporc.'!C193","v":0},""]
[{"$f":"'Muestreo Proporc.'!C194","v":0},""]
[{"$f":"'Muestreo Proporc.'!C195","v":0},""]
[{"$f":"'Muestreo Proporc.'!C196","v":0},""]
[{"$f":"'Muestreo Proporc.'!C197","v":0},""]
[{"$f":"'Muestreo Proporc.'!C198","v":0},""]
[{"$f":"'Muestreo Proporc.'!C199","v":0},""]
[{"$f":"'Muestreo Proporc.'!C200","v":0},""]
[{"$f":"'Muestreo Proporc.'!C201","v":0},""]
[{"$f":"'Muestreo Proporc.'!C202","v":0},""]
[{"$f":"'Muestreo Proporc.'!C203","v":0},""]
[{"$f":"'Muestreo Proporc.'!C204","v":0},{"$f":"IF(A194>0,A194,\"\")","v":""}]
[{"$f":"'Muestreo Proporc.'!C205","v":0},""]
[{"$f":"'Muestreo Proporc.'!C206","v":0},""]
[{"$f":"'Muestreo Proporc.'!C207","v":0},""]
[{"$f":"'Muestreo Proporc.'!C208","v":0},""]
[{"$f":"'Muestreo Proporc.'!C209","v":0},""]
[{"$f":"'Muestreo Proporc.'!C210","v":0},""]
[{"$f":"'Muestreo Proporc.'!C211","v":0},""]
[{"$f":"'Muestreo Proporc.'!C212","v":0},""]
[{"$f":"'Muestreo Proporc.'!C213","v":0},""]
[{"$f":"'Muestreo Proporc.'!C214","v":0},""]
[{"$f":"'Muestreo Proporc.'!C215","v":0},""]
[{"$f":"'Muestreo Proporc.'!C216","v":0},""]
[{"$f":"'Muestreo Proporc.'!C217","v":0},""]
[{"$f":"'Muestreo Proporc.'!C218","v":0},""]
[{"$f":"'Muestreo Proporc.'!C219","v":0},""]
[{"$f":"'Muestreo Proporc.'!C220","v":0},""]
[{"$f":"'Muestreo Proporc.'!C221","v":0},""]
[{"$f":"'Muestreo Proporc.'!C222","v":0},""]
[{"$f":"'Muestreo Proporc.'!C223","v":0},""]
[{"$f":"'Muestreo Proporc.'!C224","v":0},""]
[{"$f":"'Muestreo Proporc.'!C225","v":0},""]
[{"$f":"'Muestreo Proporc.'!C226","v":0},""]
[{"$f":"'Muestreo Proporc.'!C227","v":0},""]
[{"$f":"'Muestreo Proporc.'!C228","v":0},""]
[{"$f":"'Muestreo Proporc.'!C229","v":0},""]
[{"$f":"'Muestreo Proporc.'!C230","v":0},""]
[{"$f":"'Muestreo Proporc.'!C231","v":0},""]
[{"$f":"'Muestreo Proporc.'!C232","v":0},""]
[{"$f":"'Muestreo Proporc.'!C233","v":0},""]
[{"$f":"'Muestreo Proporc.'!C234","v":0},""]
[{"$f":"'Muestreo Proporc.'!C235","v":0},""]
[{"$f":"'Muestreo Proporc.'!C236","v":0},""]
[{"$f":"'Muestreo Proporc.'!C237","v":0},""]
[{"$f":"'Muestreo Proporc.'!C238","v":0},""]
[{"$f":"'Muestreo Proporc.'!C239","v":0},""]
[{"$f":"'Muestreo Proporc.'!C240","v":0},""]
[{"$f":"'Muestreo Proporc.'!C241","v":0},""]
[{"$f":"'Muestreo Proporc.'!C242","v":0},""]
[{"$f":"'Muestreo Proporc.'!C243","v":0},""]
[{"$f":"'Muestreo Proporc.'!C244","v":0},""]
[{"$f":"'Muestreo Proporc.'!C245","v":0},""]
[{"$f":"'Muestreo Proporc.'!C246","v":0},""]
[{"$f":"'Muestreo Proporc.'!C247","v":0},""]
[{"$f":"'Muestreo Proporc.'!C248","v":0},""]
[{"$f":"'Muestreo Proporc.'!C249","v":0},""]
[{"$f":"'Muestreo Proporc.'!C250","v":0},""]
[{"$f":"'Muestreo Proporc.'!C251","v":0},""]
[{"$f":"'Muestreo Proporc.'!C252","v":0},""]
[{"$f":"'Muestreo Proporc.'!C253","v":0},""]
[{"$f":"'Muestreo Proporc.'!C254","v":0},""]
[{"$f":"'Muestreo Proporc.'!C255","v":0},""]
[{"$f":"'Muestreo Proporc.'!C256","v":0},""]
[{"$f":"'Muestreo Proporc.'!C257","v":0},""]
[{"$f":"'Muestreo Proporc.'!C258","v":0},""]
[{"$f":"'Muestreo Proporc.'!C259","v":0},""]
[{"$f":"'Muestreo Proporc.'!C260","v":0},""]
[{"$f":"'Muestreo Proporc.'!C261","v":0},""]
[{"$f":"'Muestreo Proporc.'!C262","v":0},""]
[{"$f":"'Muestreo Proporc.'!C263","v":0},""]
[{"$f":"'Muestreo Proporc.'!C264","v":0},""]
[{"$f":"'Muestreo Proporc.'!C265","v":0},""]
[{"$f":"'Muestreo Proporc.'!C266","v":0},""]
[{"$f":"'Muestreo Proporc.'!C267","v":0},""]
[{"$f":"'Muestreo Proporc.'!C268","v":0},{"$f":"IF(A258>0,A258,\"\")","v":""}]
[{"$f":"'Muestreo Proporc.'!C269","v":0},""]
[{"$f":"'Muestreo Proporc.'!C270","v":0},""]
[{"$f":"'Muestreo Proporc.'!C271","v":0},""]
[{"$f":"'Muestreo Proporc.'!C272","v":0},""]
[{"$f":"'Muestreo Proporc.'!C273","v":0},""]
[{"$f":"'Muestreo Proporc.'!C274","v":0},""]
[{"$f":"'Muestreo Proporc.'!C275","v":0},""]
[{"$f":"'Muestreo Proporc.'!C276","v":0},""]
[{"$f":"'Muestreo Proporc.'!C277","v":0},""]
[{"$f":"'Muestreo Proporc.'!C278","v":0},""]
[{"$f":"'Muestreo Proporc.'!C279","v":0},""]
[{"$f":"'Muestreo Proporc.'!C280","v":0},""]
[{"$f":"'Muestreo Proporc.'!C281","v":0},""]
[{"$f":"'Muestreo Proporc.'!C282","v":0},""]
[{"$f":"'Muestreo Proporc.'!C283","v":0},""]
[{"$f":"'Muestreo Proporc.'!C284","v":0},""]
[{"$f":"'Muestreo Proporc.'!C285","v":0},""]
[{"$f":"'Muestreo Proporc.'!C286","v":0},""]
[{"$f":"'Muestreo Proporc.'!C287","v":0},""]
[{"$f":"'Muestreo Proporc.'!C288","v":0},""]
[{"$f":"'Muestreo Proporc.'!C289","v":0},""]
[{"$f":"'Muestreo Proporc.'!C290","v":0},""]
[{"$f":"'Muestreo Proporc.'!C291","v":0},""]
[{"$f":"'Muestreo Proporc.'!C292","v":0},""]
[{"$f":"'Muestreo Proporc.'!C293","v":0},""]
[{"$f":"'Muestreo Proporc.'!C294","v":0},""]
[{"$f":"'Muestreo Proporc.'!C295","v":0},""]
[{"$f":"'Muestreo Proporc.'!C296","v":0},""]
[{"$f":"'Muestreo Proporc.'!C297","v":0},""]
[{"$f":"'Muestreo Proporc.'!C298","v":0},""]
[{"$f":"'Muestreo Proporc.'!C299","v":0},""]
[{"$f":"'Muestreo Proporc.'!C300","v":0},""]
[{"$f":"'Muestreo Proporc.'!C301","v":0},""]
[{"$f":"'Muestreo Proporc.'!C302","v":0},""]
[{"$f":"'Muestreo Proporc.'!C303","v":0},""]
[{"$f":"'Muestreo Proporc.'!C304","v":0},""]
[{"$f":"'Muestreo Proporc.'!C305","v":0},""]
[{"$f":"'Muestreo Proporc.'!C306","v":0},""]
[{"$f":"'Muestreo Proporc.'!C307","v":0},""]
[{"$f":"'Muestreo Proporc.'!C308","v":0},""]
[{"$f":"'Muestreo Proporc.'!C309","v":0},""]
[{"$f":"'Muestreo Proporc.'!C310","v":0},""]
[{"$f":"'Muestreo Proporc.'!C311","v":0},""]
[{"$f":"'Muestreo Proporc.'!C312","v":0},""]
[{"$f":"'Muestreo Proporc.'!C313","v":0},""]
[{"$f":"'Muestreo Proporc.'!C314","v":0},""]
[{"$f":"'Muestreo Proporc.'!C315","v":0},""]
[{"$f":"'Muestreo Proporc.'!C316","v":0},""]
[{"$f":"'Muestreo Proporc.'!C317","v":0},""]
[{"$f":"'Muestreo Proporc.'!C318","v":0},""]
[{"$f":"'Muestreo Proporc.'!C319","v":0},""]
[{"$f":"'Muestreo Proporc.'!C320","v":0},""]
[{"$f":"'Muestreo Proporc.'!C321","v":0},""]
[{"$f":"'Muestreo Proporc.'!C322","v":0},""]
[{"$f":"'Muestreo Proporc.'!C323","v":0},""]
[{"$f":"'Muestreo Proporc.'!C324","v":0},""]
[{"$f":"'Muestreo Proporc.'!C325","v":0},""]
[{"$f":"'Muestreo Proporc.'!C326","v":0},""]
[{"$f":"'Muestreo Proporc.'!C327","v":0},""]
[{"$f":"'Muestreo Proporc.'!C328","v":0},""]
[{"$f":"'Muestreo Proporc.'!C329","v":0},""]
[{"$f":"'Muestreo Proporc.'!C330","v":0},""]
[{"$f":"'Muestreo Proporc.'!C331","v":0},""]
[{"$f":"'Muestreo Proporc.'!C332","v":0},{"$f":"IF(A322>0,A322,\"\")","v":""}]
[{"$f":"'Muestreo Proporc.'!C333","v":0},""]
[{"$f":"'Muestreo Proporc.'!C334","v":0},""]
[{"$f":"'Muestreo Proporc.'!C335","v":0},""]
[{"$f":"'Muestreo Proporc.'!C336","v":0},""]
[{"$f":"'Muestreo Proporc.'!C337","v":0},""]
[{"$f":"'Muestreo Proporc.'!C338","v":0},""]
[{"$f":"'Muestreo Proporc.'!C339","v":0},""]
[{"$f":"'Muestreo Proporc.'!C340","v":0},""]
[{"$f":"'Muestreo Proporc.'!C341","v":0},""]
[{"$f":"'Muestreo Proporc.'!C342","v":0},""]
[{"$f":"'Muestreo Proporc.'!C343","v":0},""]
[{"$f":"'Muestreo Proporc.'!C344","v":0},""]
[{"$f":"'Muestreo Proporc.'!C345","v":0},""]
[{"$f":"'Muestreo Proporc.'!C346","v":0},""]
[{"$f":"'Muestreo Proporc.'!C347","v":0},""]
[{"$f":"'Muestreo Proporc.'!C348","v":0},""]
[{"$f":"'Muestreo Proporc.'!C349","v":0},""]
[{"$f":"'Muestreo Proporc.'!C350","v":0},""]
[{"$f":"'Muestreo Proporc.'!C351","v":0},""]
[{"$f":"'Muestreo Proporc.'!C352","v":0},""]
[{"$f":"'Muestreo Proporc.'!C353","v":0},""]
[{"$f":"'Muestreo Proporc.'!C354","v":0},""]
[{"$f":"'Muestreo Proporc.'!C355","v":0},""]
[{"$f":"'Muestreo Proporc.'!C356","v":0},""]
[{"$f":"'Muestreo Proporc.'!C357","v":0},""]
[{"$f":"'Muestreo Proporc.'!C358","v":0},""]
[{"$f":"'Muestreo Proporc.'!C359","v":0},""]
[{"$f":"'Muestreo Proporc.'!C360","v":0},""]
[{"$f":"'Muestreo Proporc.'!C361","v":0},""]
[{"$f":"'Muestreo Proporc.'!C362","v":0},""]
[{"$f":"'Muestreo Proporc.'!C363","v":0},""]
[{"$f":"'Muestreo Proporc.'!C364","v":0},""]
[{"$f":"'Muestreo Proporc.'!C365","v":0},""]
[{"$f":"'Muestreo Proporc.'!C366","v":0},""]
[{"$f":"'Muestreo Proporc.'!C367","v":0},""]
[{"$f":"'Muestreo Proporc.'!C368","v":0},""]
[{"$f":"'Muestreo Proporc.'!C369","v":0},""]
[{"$f":"'Muestreo Proporc.'!C370","v":0},""]
[{"$f":"'Muestreo Proporc.'!C371","v":0},""]
[{"$f":"'Muestreo Proporc.'!C372","v":0},""]
[{"$f":"'Muestreo Proporc.'!C373","v":0},""]
[{"$f":"'Muestreo Proporc.'!C374","v":0},""]
[{"$f":"'Muestreo Proporc.'!C375","v":0},""]
[{"$f":"'Muestreo Proporc.'!C376","v":0},""]
[{"$f":"'Muestreo Proporc.'!C377","v":0},""]
[{"$f":"'Muestreo Proporc.'!C378","v":0},""]
[{"$f":"'Muestreo Proporc.'!C379","v":0},""]
[{"$f":"'Muestreo Proporc.'!C380","v":0},""]
[{"$f":"'Muestreo Proporc.'!C381","v":0},""]
[{"$f":"'Muestreo Proporc.'!C382","v":0},""]
[{"$f":"'Muestreo Proporc.'!C383","v":0},""]
[{"$f":"'Muestreo Proporc.'!C384","v":0},""]
[{"$f":"'Muestreo Proporc.'!C385","v":0},""]
[{"$f":"'Muestreo Proporc.'!C386","v":0},""]
[{"$f":"'Muestreo Proporc.'!C387","v":0},""]
[{"$f":"'Muestreo Proporc.'!C388","v":0},""]
[{"$f":"'Muestreo Proporc.'!C389","v":0},""]
[{"$f":"'Muestreo Proporc.'!C390","v":0},""]
[{"$f":"'Muestreo Proporc.'!C391","v":0},""]
[{"$f":"'Muestreo Proporc.'!C392","v":0},""]
[{"$f":"'Muestreo Proporc.'!C393","v":0},""]
[{"$f":"'Muestreo Proporc.'!C394","v":0},""]
[{"$f":"'Muestreo Proporc.'!C395","v":0},""]
[{"$f":"'Muestreo Proporc.'!C396","v":0},{"$f":"IF(A386>0,A386,\"\")","v":""}]
[{"$f":"'Muestreo Proporc.'!C397","v":0},""]
[{"$f":"'Muestreo Proporc.'!C398","v":0},""]
[{"$f":"'Muestreo Proporc.'!C399","v":0},""]
[{"$f":"'Muestreo Proporc.'!C400","v":0},""]
[{"$f":"'Muestreo Proporc.'!C401","v":0},""]
[{"$f":"'Muestreo Proporc.'!C402","v":0},""]
[{"$f":"'Muestreo Proporc.'!C403","v":0},""]
[{"$f":"'Muestreo Proporc.'!C404","v":0},""]
[{"$f":"'Muestreo Proporc.'!C405","v":0},""]
[{"$f":"'Muestreo Proporc.'!C406","v":0},""]
[{"$f":"'Muestreo Proporc.'!C407","v":0},""]
[{"$f":"'Muestreo Proporc.'!C408","v":0},""]
[{"$f":"'Muestreo Proporc.'!C409","v":0},""]
[{"$f":"'Muestreo Proporc.'!C410","v":0},""]
[{"$f":"'Muestreo Proporc.'!C411","v":0},""]
[{"$f":"'Muestreo Proporc.'!C412","v":0},""]
[{"$f":"'Muestreo Proporc.'!C413","v":0},""]
[{"$f":"'Muestreo Proporc.'!C414","v":0},""]
[{"$f":"'Muestreo Proporc.'!C415","v":0},""]
[{"$f":"'Muestreo Proporc.'!C416","v":0},""]
[{"$f":"'Muestreo Proporc.'!C417","v":0},""]
[{"$f":"'Muestreo Proporc.'!C418","v":0},""]
[{"$f":"'Muestreo Proporc.'!C419","v":0},""]
[{"$f":"'Muestreo Proporc.'!C420","v":0},""]
[{"$f":"'Muestreo Proporc.'!C421","v":0},""]
[{"$f":"'Muestreo Proporc.'!C422","v":0},""]
[{"$f":"'Muestreo Proporc.'!C423","v":0},""]
[{"$f":"'Muestreo Proporc.'!C424","v":0},""]
[{"$f":"'Muestreo Proporc.'!C425","v":0},""]
[{"$f":"'Muestreo Proporc.'!C426","v":0},""]
[{"$f":"'Muestreo Proporc.'!C427","v":0},""]
[{"$f":"'Muestreo Proporc.'!C428","v":0},""]
[{"$f":"'Muestreo Proporc.'!C429","v":0},""]
[{"$f":"'Muestreo Proporc.'!C430","v":0},""]
[{"$f":"'Muestreo Proporc.'!C431","v":0},""]
[{"$f":"'Muestreo Proporc.'!C432","v":0},""]
[{"$f":"'Muestreo Proporc.'!C433","v":0},""]
[{"$f":"'Muestreo Proporc.'!C434","v":0},""]
[{"$f":"'Muestreo Proporc.'!C435","v":0},""]
[{"$f":"'Muestreo Proporc.'!C436","v":0},""]
[{"$f":"'Muestreo Proporc.'!C437","v":0},""]
[{"$f":"'Muestreo Proporc.'!C438","v":0},""]
[{"$f":"'Muestreo Proporc.'!C439","v":0},""]
[{"$f":"'Muestreo Proporc.'!C440","v":0},""]
[{"$f":"'Muestreo Proporc.'!C441","v":0},""]
[{"$f":"'Muestreo Proporc.'!C442","v":0},""]
[{"$f":"'Muestreo Proporc.'!C443","v":0},""]
[{"$f":"'Muestreo Proporc.'!C444","v":0},""]
[{"$f":"'Muestreo Proporc.'!C445","v":0},""]
[{"$f":"'Muestreo Proporc.'!C446","v":0},""]
[{"$f":"'Muestreo Proporc.'!C447","v":0},""]
[{"$f":"'Muestreo Proporc.'!C448","v":0},""]
[{"$f":"'Muestreo Proporc.'!C449","v":0},""]
[{"$f":"'Muestreo Proporc.'!C450","v":0},""]
[{"$f":"'Muestreo Proporc.'!C451","v":0},""]
[{"$f":"'Muestreo Proporc.'!C452","v":0},""]
[{"$f":"'Muestreo Proporc.'!C453","v":0},""]
[{"$f":"'Muestreo Proporc.'!C454","v":0},""]
[{"$f":"'Muestreo Proporc.'!C455","v":0},""]
[{"$f":"'Muestreo Proporc.'!C456","v":0},""]
[{"$f":"'Muestreo Proporc.'!C457","v":0},""]
[{"$f":"'Muestreo Proporc.'!C458","v":0},""]
[{"$f":"'Muestreo Proporc.'!C459","v":0},""]
[{"$f":"'Muestreo Proporc.'!C460","v":0},{"$f":"IF(A450>0,A450,\"\")","v":""}]
[{"$f":"'Muestreo Proporc.'!C461","v":0},""]
[{"$f":"'Muestreo Proporc.'!C462","v":0},""]
[{"$f":"'Muestreo Proporc.'!C463","v":0},""]
[{"$f":"'Muestreo Proporc.'!C464","v":0},""]
[{"$f":"'Muestreo Proporc.'!C465","v":0},""]
[{"$f":"'Muestreo Proporc.'!C466","v":0},""]
[{"$f":"'Muestreo Proporc.'!C467","v":0},""]
[{"$f":"'Muestreo Proporc.'!C468","v":0},""]
[{"$f":"'Muestreo Proporc.'!C469","v":0},""]
[{"$f":"'Muestreo Proporc.'!C470","v":0},""]
[{"$f":"'Muestreo Proporc.'!C471","v":0},""]
[{"$f":"'Muestreo Proporc.'!C472","v":0},""]
[{"$f":"'Muestreo Proporc.'!C473","v":0},""]
[{"$f":"'Muestreo Proporc.'!C474","v":0},""]
[{"$f":"'Muestreo Proporc.'!C475","v":0},""]
[{"$f":"'Muestreo Proporc.'!C476","v":0},""]
[{"$f":"'Muestreo Proporc.'!C477","v":0},""]
[{"$f":"'Muestreo Proporc.'!C478","v":0},""]
[{"$f":"'Muestreo Proporc.'!C479","v":0},""]
[{"$f":"'Muestreo Proporc.'!C480","v":0},""]
[{"$f":"'Muestreo Proporc.'!C481","v":0},""]
[{"$f":"'Muestreo Proporc.'!C482","v":0},""]
[{"$f":"'Muestreo Proporc.'!C483","v":0},""]
[{"$f":"'Muestreo Proporc.'!C484","v":0},""]
[{"$f":"'Muestreo Proporc.'!C485","v":0},""]
[{"$f":"'Muestreo Proporc.'!C486","v":0},""]
[{"$f":"'Muestreo Proporc.'!C487","v":0},""]
[{"$f":"'Muestreo Proporc.'!C488","v":0},""]
[{"$f":"'Muestreo Proporc.'!C489","v":0},""]
[{"$f":"'Muestreo Proporc.'!C490","v":0},""]
[{"$f":"'Muestreo Proporc.'!C491","v":0},""]
[{"$f":"'Muestreo Proporc.'!C492","v":0},""]
[{"$f":"'Muestreo Proporc.'!C493","v":0},""]
[{"$f":"'Muestreo Proporc.'!C494","v":0},""]
[{"$f":"'Muestreo Proporc.'!C495","v":0},""]
[{"$f":"'Muestreo Proporc.'!C496","v":0},""]
[{"$f":"'Muestreo Proporc.'!C497","v":0},""]
[{"$f":"'Muestreo Proporc.'!C498","v":0},""]
[{"$f":"'Muestreo Proporc.'!C499","v":0},""]
[{"$f":"'Muestreo Proporc.'!C500","v":0},""]
[{"$f":"'Muestreo Proporc.'!C501","v":0},""]
[{"$f":"'Muestreo Proporc.'!C502","v":0},""]
[{"$f":"'Muestreo Proporc.'!C503","v":0},""]
[{"$f":"'Muestreo Proporc.'!C504","v":0},""]
[{"$f":"'Muestreo Proporc.'!C505","v":0},""]
[{"$f":"'Muestreo Proporc.'!C506","v":0},""]
[{"$f":"'Muestreo Proporc.'!C507","v":0},""]
[{"$f":"'Muestreo Proporc.'!C508","v":0},""]
[{"$f":"'Muestreo Proporc.'!C509","v":0},""]
[{"$f":"'Muestreo Proporc.'!C510","v":0},""]

{"sheet":"Histogramas","index":15,"n_rows":22,"n_cols":16,"rows_kept":22,"cut":false,"hidden":false,"merged":[[1,2,1,5],[2,4,2,5],[1,1,3,1],[2,2,3,2],[2,3,3,3]]}
[]
[null,"Nivel académico del desempleado","Sexo"]
[null,null,"Hombres","Mujeres","Total"]
[null,null,null,null,"No.","%"]
[null,"Profesional",740,987,{"$f":"SUM(C5:D5)","v":1727},{"$f":"E5/E9","v":0.13666218248001899}]
[null,"Técnico profesional",580,470,{"$f":"C6+D6","v":1050},{"$f":"E6/E9","v":8.3089340824562791E-2}]
[null,"Bachiller",2300,2950,{"$f":"SUM(C7:D7)","v":5250},{"$f":"E7/E9","v":0.41544670412281398}]
[null,"Sin bachillerato",2190,2420,{"$f":"C8+D8","v":4610},{"$f":"E8/E9","v":0.36480177257260427}]
[null,"Total",{"$f":"SUM(C5:C8)","v":5810},{"$f":"SUM(D5:D8)","v":6827},{"$f":"SUM(E5:E8)","v":12637},{"$f":"SUM(F5:F8)","v":1}]
[null,"Porcentaje",{"$f":"C9/E9","v":0.45976101922924745},{"$f":"D9/$E$9","v":0.5402389807707525}]
[]
[]
[]
[]
[]
[]
[]
[]
[null,{"$f":"B5","v":"Profesional"},{"$f":"F5","v":0.13666218248001899}]
[null,{"$f":"B6","v":"Técnico profesional"},{"$f":"F6","v":8.3089340824562791E-2}]
[null,{"$f":"B7","v":"Bachiller"},{"$f":"F7","v":0.41544670412281398}]
[null,{"$f":"B8","v":"Sin bachillerato"},{"$f":"F8","v":0.36480177257260427},null,null,null,null,null,null,null,null,null,null,null,null,"Inicio"]

{"sheet":"MedidasDispersión","index":16,"n_rows":25,"n_cols":14,"rows_kept":25,"cut":false,"hidden":false,"merged":[]}
[]
[null,"Número de encuestas",null,5,null,null,null,null,{"$f":"SUM(D5:D500)/L13","v":8.8000000000000007},{"$f":"SQRT(I2)","v":2.9664793948382653}]
[]
[null,"No. encuesta","Litros de cerveza Xi"]
[null,1,22,{"$f":"Hoja14!G1","v":6.7600000000000078}]
[null,2,18,{"$f":"Hoja14!G2","v":1.959999999999996}]
[null,3,20,{"$f":"Hoja14!G3","v":0.36000000000000171}]
[null,4,15,{"$f":"Hoja14!G4","v":19.359999999999989},null,null,{"$f":"J2","v":2.9664793948382653}]
[null,5,22,{"$f":"Hoja14!G5","v":6.7600000000000078}]
[null,null,null,{"$f":"Hoja14!G6","v":""},null,null,"Inicio"]
[null,null,null,{"$f":"Hoja14!G7","v":""}]
[null,null,null,{"$f":"Hoja14!G8","v":""},null,null,null,null,null,null,null,5,null,21]
[null,null,null,{"$f":"Hoja14!G9","v":""},null,null,null,null,null,null,null,{"$f":"L12-1","v":4}]
[null,null,null,{"$f":"Hoja14!G10","v":""}]
[null,null,null,{"$f":"Hoja14!G11","v":""}]
[null,null,null,{"$f":"Hoja14!G12","v":""}]
[null,null,null,{"$f":"Hoja14!G13","v":""}]
[null,null,null,{"$f":"Hoja14!G14","v":""}]
[null,null,null,{"$f":"Hoja14!G15","v":""}]
[null,null,null,{"$f":"Hoja14!G16","v":""}]
[null,null,null,{"$f":"Hoja14!G17","v":""}]
[null,null,null,{"$f":"Hoja14!G18","v":""}]
[null,null,null,{"$f":"Hoja14!G19","v":""}]
[null,null,null,{"$f":"Hoja14!G20","v":""}]
[null,null,null,{"$f":"Hoja14!G21","v":""}]

{"sheet":"Hoja14","index":17,"n_rows":500,"n_cols":7,"rows_kept":500,"cut":false,"hidden":true,"merged":[]}
[{"$f":"MedidasDispersión!C5","v":22},{"$f":"IF(A1<>0,A1,\"\")","v":22},"Promedio",{"$f":"AVERAGE(B1:B500)","v":19.399999999999999},{"$f":"209/21","v":9.9523809523809526},{"$f":"(A1-$D$1)^2","v":6.7600000000000078},{"$f":"IF(A1<>0,F1,\"\")","v":6.7600000000000078}]
[{"$f":"MedidasDispersión!C6","v":18},{"$f":"IF(A2<>0,A2,\"\")","v":18},null,null,null,{"$f":"(A2-$D$1)^2","v":1.959999999999996},{"$f":"IF(A2<>0,F2,\"\")","v":1.959999999999996}]
[{"$f":"MedidasDispersión!C7","v":20},20,null,null,null,0.36000000000000171,0.36000000000000171]
[{"$f":"MedidasDispersión!C8","v":15},15,null,null,null,19.359999999999989,19.359999999999989]
[{"$f":"MedidasDispersión!C9","v":22},22,null,null,null,6.7600000000000078,6.7600000000000078]
[{"$f":"MedidasDispersión!C10","v":0},"",null,null,null,376.35999999999996,""]
[{"$f":"MedidasDispersión!C11","v":0},"",null,null,null,376.35999999999996,""]
[{"$f":"MedidasDispersión!C12","v":0},"",null,null,null,376.35999999999996,""]
[{"$f":"MedidasDispersión!C13","v":0},"",null,null,null,376.35999999999996,""]
[{"$f":"MedidasDispersión!C14","v":0},"",null,null,null,376.35999999999996,""]
[{"$f":"MedidasDispersión!C15","v":0},"",null,null,null,376.35999999999996,""]
[{"$f":"MedidasDispersión!C16","v":0},"",null,null,null,376.35999999999996,""]
[{"$f":"MedidasDispersión!C17","v":0},"",null,null,null,376.35999999999996,""]
[{"$f":"MedidasDispersión!C18","v":0},"",null,null,null,376.35999999999996,""]
[{"$f":"MedidasDispersión!C19","v":0},"",null,null,null,376.35999999999996,""]
[{"$f":"MedidasDispersión!C20","v":0},"",null,null,null,376.35999999999996,""]
[{"$f":"MedidasDispersión!C21","v":0},"",null,null,null,376.35999999999996,""]
[{"$f":"MedidasDispersión!C22","v":0},"",null,null,null,376.35999999999996,""]
[{"$f":"MedidasDispersión!C23","v":0},"",null,null,null,376.35999999999996,""]
[{"$f":"MedidasDispersión!C24","v":0},"",null,null,null,376.35999999999996,""]
[{"$f":"MedidasDispersión!C25","v":0},"",null,null,null,376.35999999999996,""]
[{"$f":"MedidasDispersión!C26","v":0},"",null,null,null,376.35999999999996,""]
[{"$f":"MedidasDispersión!C27","v":0},"",null,null,null,376.35999999999996,""]
[{"$f":"MedidasDispersión!C28","v":0},"",null,null,null,376.35999999999996,""]
[{"$f":"MedidasDispersión!C29","v":0},"",null,null,null,376.35999999999996,""]
[{"$f":"MedidasDispersión!C30","v":0},"",null,null,null,376.35999999999996,""]
[{"$f":"MedidasDispersión!C31","v":0},"",null,null,null,376.35999999999996,""]
[{"$f":"MedidasDispersión!C32","v":0},"",null,null,null,376.35999999999996,""]
[{"$f":"MedidasDispersión!C33","v":0},"",null,null,null,376.35999999999996,""]
[{"$f":"MedidasDispersión!C34","v":0},"",null,null,null,376.35999999999996,""]
[{"$f":"MedidasDispersión!C35","v":0},"",null,null,null,376.35999999999996,""]
[{"$f":"MedidasDispersión!C36","v":0},"",null,null,null,376.35999999999996,""]
[{"$f":"MedidasDispersión!C37","v":0},"",null,null,null,376.35999999999996,""]
[{"$f":"MedidasDispersión!C38","v":0},"",null,null,null,376.35999999999996,""]
[{"$f":"MedidasDispersión!C39","v":0},"",null,null,null,376.35999999999996,""]
[{"$f":"MedidasDispersión!C40","v":0},"",null,null,null,376.35999999999996,""]
[{"$f":"MedidasDispersión!C41","v":0},"",null,null,null,376.35999999999996,""]
[{"$f":"MedidasDispersión!C42","v":0},"",null,null,null,376.35999999999996,""]
[{"$f":"MedidasDispersión!C43","v":0},"",null,null,null,376.35999999999996,""]
[{"$f":"MedidasDispersión!C44","v":0},"",null,null,null,376.35999999999996,""]
[{"$f":"MedidasDispersión!C45","v":0},"",null,null,null,376.35999999999996,""]
[{"$f":"MedidasDispersión!C46","v":0},"",null,null,null,376.35999999999996,""]
[{"$f":"MedidasDispersión!C47","v":0},"",null,null,null,376.35999999999996,""]
[{"$f":"MedidasDispersión!C48","v":0},"",null,null,null,376.35999999999996,""]
[{"$f":"MedidasDispersión!C49","v":0},"",null,null,null,376.35999999999996,""]
[{"$f":"MedidasDispersión!C50","v":0},"",null,null,null,376.35999999999996,""]
[{"$f":"MedidasDispersión!C51","v":0},"",null,null,null,376.35999999999996,""]
[{"$f":"MedidasDispersión!C52","v":0},"",null,null,null,376.35999999999996,""]
[{"$f":"MedidasDispersión!C53","v":0},"",null,null,null,376.35999999999996,""]
[{"$f":"MedidasDispersión!C54","v":0},"",null,null,null,376.35999999999996,""]
[{"$f":"MedidasDispersión!C55","v":0},"",null,null,null,376.35999999999996,""]
[{"$f":"MedidasDispersión!C56","v":0},"",null,null,null,376.35999999999996,""]
[{"$f":"MedidasDispersión!C57","v":0},"",null,null,null,376.35999999999996,""]
[{"$f":"MedidasDispersión!C58","v":0},"",null,null,null,376.35999999999996,""]
[{"$f":"MedidasDispersión!C59","v":0},"",null,null,null,376.35999999999996,""]
[{"$f":"MedidasDispersión!C60","v":0},"",null,null,null,376.35999999999996,""]
[{"$f":"MedidasDispersión!C61","v":0},"",null,null,null,376.35999999999996,""]
[{"$f":"MedidasDispersión!C62","v":0},"",null,null,null,376.35999999999996,""]
[{"$f":"MedidasDispersión!C63","v":0},"",null,null,null,376.35999999999996,""]
[{"$f":"MedidasDispersión!C64","v":0},"",null,null,null,376.35999999999996,""]
[{"$f":"MedidasDispersión!C65","v":0},"",null,null,null,376.35999999999996,""]
[{"$f":"MedidasDispersión!C66","v":0},"",null,null,null,376.35999999999996,""]
[{"$f":"MedidasDispersión!C67","v":0},"",null,null,null,376.35999999999996,""]
[{"$f":"MedidasDispersión!C68","v":0},"",null,null,null,376.35999999999996,""]
[{"$f":"MedidasDispersión!C69","v":0},"",null,null,null,376.35999999999996,""]
[{"$f":"MedidasDispersión!C70","v":0},{"$f":"IF(A66<>0,A66,\"\")","v":""},null,null,null,{"$f":"(A66-$D$1)^2","v":376.35999999999996},{"$f":"IF(A66<>0,F66,\"\")","v":""}]
[{"$f":"MedidasDispersión!C71","v":0},"",null,null,null,376.35999999999996,""]
[{"$f":"MedidasDispersión!C72","v":0},"",null,null,null,376.35999999999996,""]
[{"$f":"MedidasDispersión!C73","v":0},"",null,null,null,376.35999999999996,""]
[{"$f":"MedidasDispersión!C74","v":0},"",null,null,null,376.35999999999996,""]
[{"$f":"MedidasDispersión!C75","v":0},"",null,null,null,376.35999999999996,""]
[{"$f":"MedidasDispersión!C76","v":0},"",null,null,null,376.35999999999996,""]
[{"$f":"MedidasDispersión!C77","v":0},"",null,null,null,376.35999999999996,""]
[{"$f":"MedidasDispersión!C78","v":0},"",null,null,null,376.35999999999996,""]
[{"$f":"MedidasDispersión!C79","v":0},"",null,null,null,376.35999999999996,""]
[{"$f":"MedidasDispersión!C80","v":0},"",null,null,null,376.35999999999996,""]
[{"$f":"MedidasDispersión!C81","v":0},"",null,null,null,376.35999999999996,""]
[{"$f":"MedidasDispersión!C82","v":0},"",null,null,null,376.35999999999996,""]
[{"$f":"MedidasDispersión!C83","v":0},"",null,null,null,376.35999999999996,""]
[{"$f":"MedidasDispersión!C84","v":0},"",null,null,null,376.35999999999996,""]
[{"$f":"MedidasDispersión!C85","v":0},"",null,null,null,376.35999999999996,""]
[{"$f":"MedidasDispersión!C86","v":0},"",null,null,null,376.35999999999996,""]
[{"$f":"MedidasDispersión!C87","v":0},"",null,null,null,376.35999999999996,""]
[{"$f":"MedidasDispersión!C88","v":0},"",null,null,null,376.35999999999996,""]
[{"$f":"MedidasDispersión!C89","v":0},"",null,null,null,376.35999999999996,""]
[{"$f":"MedidasDispersión!C90","v":0},"",null,null,null,376.35999999999996,""]
[{"$f":"MedidasDispersión!C91","v":0},"",null,null,null,376.35999999999996,""]
[{"$f":"MedidasDispersión!C92","v":0},"",null,null,null,376.35999999999996,""]
[{"$f":"MedidasDispersión!C93","v":0},"",null,null,null,376.35999999999996,""]
[{"$f":"MedidasDispersión!C94","v":0},"",null,null,null,376.35999999999996,""]
[{"$f":"MedidasDispersión!C95","v":0},"",null,null,null,376.35999999999996,""]
[{"$f":"MedidasDispersión!C96","v":0},"",null,null,null,376.35999999999996,""]
[{"$f":"MedidasDispersión!C97","v":0},"",null,null,null,376.35999999999996,""]
[{"$f":"MedidasDispersión!C98","v":0},"",null,null,null,376.35999999999996,""]
[{"$f":"MedidasDispersión!C99","v":0},"",null,null,null,376.35999999999996,""]
[{"$f":"MedidasDispersión!C100","v":0},"",null,null,null,376.35999999999996,""]
[{"$f":"MedidasDispersión!C101","v":0},"",null,null,null,376.35999999999996,""]
[{"$f":"MedidasDispersión!C102","v":0},"",null,null,null,376.35999999999996,""]
[{"$f":"MedidasDispersión!C103","v":0},"",null,null,null,376.35999999999996,""]
[{"$f":"MedidasDispersión!C104","v":0},"",null,null,null,376.35999999999996,""]
[{"$f":"MedidasDispersión!C105","v":0},"",null,null,null,376.35999999999996,""]
[{"$f":"MedidasDispersión!C106","v":0},"",null,null,null,376.35999999999996,""]
[{"$f":"MedidasDispersión!C107","v":0},"",null,null,null,376.35999999999996,""]
[{"$f":"MedidasDispersión!C108","v":0},"",null,null,null,376.35999999999996,""]
[{"$f":"MedidasDispersión!C109","v":0},"",null,null,null,376.35999999999996,""]
[{"$f":"MedidasDispersión!C110","v":0},"",null,null,null,376.35999999999996,""]
[{"$f":"MedidasDispersión!C111","v":0},"",null,null,null,376.35999999999996,""]
[{"$f":"MedidasDispersión!C112","v":0},"",null,null,null,376.35999999999996,""]
[{"$f":"MedidasDispersión!C113","v":0},"",null,null,null,376.35999999999996,""]
[{"$f":"MedidasDispersión!C114","v":0},"",null,null,null,376.35999999999996,""]
[{"$f":"MedidasDispersión!C115","v":0},"",null,null,null,376.35999999999996,""]
[{"$f":"MedidasDispersión!C116","v":0},"",null,null,null,376.35999999999996,""]
[{"$f":"MedidasDispersión!C117","v":0},"",null,null,null,376.35999999999996,""]
[{"$f":"MedidasDispersión!C118","v":0},"",null,null,null,376.35999999999996,""]
[{"$f":"MedidasDispersión!C119","v":0},"",null,null,null,376.35999999999996,""]
[{"$f":"MedidasDispersión!C120","v":0},"",null,null,null,376.35999999999996,""]
[{"$f":"MedidasDispersión!C121","v":0},"",null,null,null,376.35999999999996,""]
[{"$f":"MedidasDispersión!C122","v":0},"",null,null,null,376.35999999999996,""]
[{"$f":"MedidasDispersión!C123","v":0},"",null,null,null,376.35999999999996,""]
[{"$f":"MedidasDispersión!C124","v":0},"",null,null,null,376.35999999999996,""]
[{"$f":"MedidasDispersión!C125","v":0},"",null,null,null,376.35999999999996,""]
[{"$f":"MedidasDispersión!C126","v":0},"",null,null,null,376.35999999999996,""]
[{"$f":"MedidasDispersión!C127","v":0},"",null,null,null,376.35999999999996,""]
[{"$f":"MedidasDispersión!C128","v":0},"",null,null,null,376.35999999999996,""]
[{"$f":"MedidasDispersión!C129","v":0},"",null,null,null,376.35999999999996,""]
[{"$f":"MedidasDispersión!C130","v":0},"",null,null,null,376.35999999999996,""]
[{"$f":"MedidasDispersión!C131","v":0},"",null,null,null,376.35999999999996,""]
[{"$f":"MedidasDispersión!C132","v":0},"",null,null,null,376.35999999999996,""]
[{"$f":"MedidasDispersión!C133","v":0},"",null,null,null,376.35999999999996,""]
[{"$f":"MedidasDispersión!C134","v":0},{"$f":"IF(A130<>0,A130,\"\")","v":""},null,null,null,{"$f":"(A130-$D$1)^2","v":376.35999999999996},{"$f":"IF(A130<>0,F130,\"\")","v":""}]
[{"$f":"MedidasDispersión!C135","v":0},"",null,null,null,376.35999999999996,""]
[{"$f":"MedidasDispersión!C136","v":0},"",null,null,null,376.35999999999996,""]
[{"$f":"MedidasDispersión!C137","v":0},"",null,null,null,376.35999999999996,""]
[{"$f":"MedidasDispersión!C138","v":0},"",null,null,null,376.35999999999996,""]
[{"$f":"MedidasDispersión!C139","v":0},"",null,null,null,376.35999999999996,""]
[{"$f":"MedidasDispersión!C140","v":0},"",null,null,null,376.35999999999996,""]
[{"$f":"MedidasDispersión!C141","v":0},"",null,null,null,376.35999999999996,""]
[{"$f":"MedidasDispersión!C142","v":0},"",null,null,null,376.35999999999996,""]
[{"$f":"MedidasDispersión!C143","v":0},"",null,null,null,376.35999999999996,""]
[{"$f":"MedidasDispersión!C144","v":0},"",null,null,null,376.35999999999996,""]
[{"$f":"MedidasDispersión!C145","v":0},"",null,null,null,376.35999999999996,""]
[{"$f":"MedidasDispersión!C146","v":0},"",null,null,null,376.35999999999996,""]
[{"$f":"MedidasDispersión!C147","v":0},"",null,null,null,376.35999999999996,""]
[{"$f":"MedidasDispersión!C148","v":0},"",null,null,null,376.35999999999996,""]
[{"$f":"MedidasDispersión!C149","v":0},"",null,null,null,376.35999999999996,""]
[{"$f":"MedidasDispersión!C150","v":0},"",null,null,null,376.35999999999996,""]
[{"$f":"MedidasDispersión!C151","v":0},"",null,null,null,376.35999999999996,""]
[{"$f":"MedidasDispersión!C152","v":0},"",null,null,null,376.35999999999996,""]
[{"$f":"MedidasDispersión!C153","v":0},"",null,null,null,376.35999999999996,""]
[{"$f":"MedidasDispersión!C154","v":0},"",null,null,null,376.35999999999996,""]
[{"$f":"MedidasDispersión!C155","v":0},"",null,null,null,376.35999999999996,""]
[{"$f":"MedidasDispersión!C156","v":0},"",null,null,null,376.35999999999996,""]
[{"$f":"MedidasDispersión!C157","v":0},"",null,null,null,376.35999999999996,""]
[{"$f":"MedidasDispersión!C158","v":0},"",null,null,null,376.35999999999996,""]
[{"$f":"MedidasDispersión!C159","v":0},"",null,null,null,376.35999999999996,""]
[{"$f":"MedidasDispersión!C160","v":0},"",null,null,null,376.35999999999996,""]
[{"$f":"MedidasDispersión!C161","v":0},"",null,null,null,376.35999999999996,""]
[{"$f":"MedidasDispersión!C162","v":0},"",null,null,null,376.35999999999996,""]
[{"$f":"MedidasDispersión!C163","v":0},"",null,null,null,376.35999999999996,""]
[{"$f":"MedidasDispersión!C164","v":0},"",null,null,null,376.35999999999996,""]
[{"$f":"MedidasDispersión!C165","v":0},"",null,null,null,376.35999999999996,""]
[{"$f":"MedidasDispersión!C166","v":0},"",null,null,null,376.35999999999996,""]
[{"$f":"MedidasDispersión!C167","v":0},"",null,null,null,376.35999999999996,""]
[{"$f":"MedidasDispersión!C168","v":0},"",null,null,null,376.35999999999996,""]
[{"$f":"MedidasDispersión!C169","v":0},"",null,null,null,376.35999999999996,""]
[{"$f":"MedidasDispersión!C170","v":0},"",null,null,null,376.35999999999996,""]
[{"$f":"MedidasDispersión!C171","v":0},"",null,null,null,376.35999999999996,""]
[{"$f":"MedidasDispersión!C172","v":0},"",null,null,null,376.35999999999996,""]
[{"$f":"MedidasDispersión!C173","v":0},"",null,null,null,376.35999999999996,""]
[{"$f":"MedidasDispersión!C174","v":0},"",null,null,null,376.35999999999996,""]
[{"$f":"MedidasDispersión!C175","v":0},"",null,null,null,376.35999999999996,""]
[{"$f":"MedidasDispersión!C176","v":0},"",null,null,null,376.35999999999996,""]
[{"$f":"MedidasDispersión!C177","v":0},"",null,null,null,376.35999999999996,""]
[{"$f":"MedidasDispersión!C178","v":0},"",null,null,null,376.35999999999996,""]
[{"$f":"MedidasDispersión!C179","v":0},"",null,null,null,376.35999999999996,""]
[{"$f":"MedidasDispersión!C180","v":0},"",null,null,null,376.35999999999996,""]
[{"$f":"MedidasDispersión!C181","v":0},"",null,null,null,376.35999999999996,""]
[{"$f":"MedidasDispersión!C182","v":0},"",null,null,null,376.35999999999996,""]
[{"$f":"MedidasDispersión!C183","v":0},"",null,null,null,376.35999999999996,""]
[{"$f":"MedidasDispersión!C184","v":0},"",null,null,null,376.35999999999996,""]
[{"$f":"MedidasDispersión!C185","v":0},"",null,null,null,376.35999999999996,""]
[{"$f":"MedidasDispersión!C186","v":0},"",null,null,null,376.35999999999996,""]
[{"$f":"MedidasDispersión!C187","v":0},"",null,null,null,376.35999999999996,""]
[{"$f":"MedidasDispersión!C188","v":0},"",null,null,null,376.35999999999996,""]
[{"$f":"MedidasDispersión!C189","v":0},"",null,null,null,376.35999999999996,""]
[{"$f":"MedidasDispersión!C190","v":0},"",null,null,null,376.35999999999996,""]
[{"$f":"MedidasDispersión!C191","v":0},"",null,null,null,376.35999999999996,""]
[{"$f":"MedidasDispersión!C192","v":0},"",null,null,null,376.35999999999996,""]
[{"$f":"MedidasDispersión!C193","v":0},"",null,null,null,376.35999999999996,""]
[{"$f":"MedidasDispersión!C194","v":0},"",null,null,null,376.35999999999996,""]
[{"$f":"MedidasDispersión!C195","v":0},"",null,null,null,376.35999999999996,""]
[{"$f":"MedidasDispersión!C196","v":0},"",null,null,null,376.35999999999996,""]
[{"$f":"MedidasDispersión!C197","v":0},"",null,null,null,376.35999999999996,""]
[{"$f":"MedidasDispersión!C198","v":0},{"$f":"IF(A194<>0,A194,\"\")","v":""},null,null,null,{"$f":"(A194-$D$1)^2","v":376.35999999999996},{"$f":"IF(A194<>0,F194,\"\")","v":""}]
[{"$f":"MedidasDispersión!C199","v":0},"",null,null,null,376.35999999999996,""]
[{"$f":"MedidasDispersión!C200","v":0},"",null,null,null,376.35999999999996,""]
[{"$f":"MedidasDispersión!C201","v":0},"",null,null,null,376.35999999999996,""]
[{"$f":"MedidasDispersión!C202","v":0},"",null,null,null,376.35999999999996,""]
[{"$f":"MedidasDispersión!C203","v":0},"",null,null,null,376.35999999999996,""]
[{"$f":"MedidasDispersión!C204","v":0},"",null,null,null,376.35999999999996,""]
[{"$f":"MedidasDispersión!C205","v":0},"",null,null,null,376.35999999999996,""]
[{"$f":"MedidasDispersión!C206","v":0},"",null,null,null,376.35999999999996,""]
[{"$f":"MedidasDispersión!C207","v":0},"",null,null,null,376.35999999999996,""]
[{"$f":"MedidasDispersión!C208","v":0},"",null,null,null,376.35999999999996,""]
[{"$f":"MedidasDispersión!C209","v":0},"",null,null,null,376.35999999999996,""]
[{"$f":"MedidasDispersión!C210","v":0},"",null,null,null,376.35999999999996,""]
[{"$f":"MedidasDispersión!C211","v":0},"",null,null,null,376.35999999999996,""]
[{"$f":"MedidasDispersión!C212","v":0},"",null,null,null,376.35999999999996,""]
[{"$f":"MedidasDispersión!C213","v":0},"",null,null,null,376.35999999999996,""]
[{"$f":"MedidasDispersión!C214","v":0},"",null,null,null,376.35999999999996,""]
[{"$f":"MedidasDispersión!C215","v":0},"",null,null,null,376.35999999999996,""]
[{"$f":"MedidasDispersión!C216","v":0},"",null,null,null,376.35999999999996,""]
[{"$f":"MedidasDispersión!C217","v":0},"",null,null,null,376.35999999999996,""]
[{"$f":"MedidasDispersión!C218","v":0},"",null,null,null,376.35999999999996,""]
[{"$f":"MedidasDispersión!C219","v":0},"",null,null,null,376.35999999999996,""]
[{"$f":"MedidasDispersión!C220","v":0},"",null,null,null,376.35999999999996,""]
[{"$f":"MedidasDispersión!C221","v":0},"",null,null,null,376.35999999999996,""]
[{"$f":"MedidasDispersión!C222","v":0},"",null,null,null,376.35999999999996,""]
[{"$f":"MedidasDispersión!C223","v":0},"",null,null,null,376.35999999999996,""]
[{"$f":"MedidasDispersión!C224","v":0},"",null,null,null,376.35999999999996,""]
[{"$f":"MedidasDispersión!C225","v":0},"",null,null,null,376.35999999999996,""]
[{"$f":"MedidasDispersión!C226","v":0},"",null,null,null,376.35999999999996,""]
[{"$f":"MedidasDispersión!C227","v":0},"",null,null,null,376.35999999999996,""]
[{"$f":"MedidasDispersión!C228","v":0},"",null,null,null,376.35999999999996,""]
[{"$f":"MedidasDispersión!C229","v":0},"",null,null,null,376.35999999999996,""]
[{"$f":"MedidasDispersión!C230","v":0},"",null,null,null,376.35999999999996,""]
[{"$f":"MedidasDispersión!C231","v":0},"",null,null,null,376.35999999999996,""]
[{"$f":"MedidasDispersión!C232","v":0},"",null,null,null,376.35999999999996,""]
[{"$f":"MedidasDispersión!C233","v":0},"",null,null,null,376.35999999999996,""]
[{"$f":"MedidasDispersión!C234","v":0},"",null,null,null,376.35999999999996,""]
[{"$f":"MedidasDispersión!C235","v":0},"",null,null,null,376.35999999999996,""]
[{"$f":"MedidasDispersión!C236","v":0},"",null,null,null,376.35999999999996,""]
[{"$f":"MedidasDispersión!C237","v":0},"",null,null,null,376.35999999999996,""]
[{"$f":"MedidasDispersión!C238","v":0},"",null,null,null,376.35999999999996,""]
[{"$f":"MedidasDispersión!C239","v":0},"",null,null,null,376.35999999999996,""]
[{"$f":"MedidasDispersión!C240","v":0},"",null,null,null,376.35999999999996,""]
[{"$f":"MedidasDispersión!C241","v":0},"",null,null,null,376.35999999999996,""]
[{"$f":"MedidasDispersión!C242","v":0},"",null,null,null,376.35999999999996,""]
[{"$f":"MedidasDispersión!C243","v":0},"",null,null,null,376.35999999999996,""]
[{"$f":"MedidasDispersión!C244","v":0},"",null,null,null,376.35999999999996,""]
[{"$f":"MedidasDispersión!C245","v":0},"",null,null,null,376.35999999999996,""]
[{"$f":"MedidasDispersión!C246","v":0},"",null,null,null,376.35999999999996,""]
[{"$f":"MedidasDispersión!C247","v":0},"",null,null,null,376.35999999999996,""]
[{"$f":"MedidasDispersión!C248","v":0},"",null,null,null,376.35999999999996,""]
[{"$f":"MedidasDispersión!C249","v":0},"",null,null,null,376.35999999999996,""]
[{"$f":"MedidasDispersión!C250","v":0},"",null,null,null,376.35999999999996,""]
[{"$f":"MedidasDispersión!C251","v":0},"",null,null,null,376.35999999999996,""]
[{"$f":"MedidasDispersión!C252","v":0},"",null,null,null,376.35999999999996,""]
[{"$f":"MedidasDispersión!C253","v":0},"",null,null,null,376.35999999999996,""]
[{"$f":"MedidasDispersión!C254","v":0},"",null,null,null,376.35999999999996,""]
[{"$f":"MedidasDispersión!C255","v":0},"",null,null,null,376.35999999999996,""]
[{"$f":"MedidasDispersión!C256","v":0},"",null,null,null,376.35999999999996,""]
[{"$f":"MedidasDispersión!C257","v":0},"",null,null,null,376.35999999999996,""]
[{"$f":"MedidasDispersión!C258","v":0},"",null,null,null,376.35999999999996,""]
[{"$f":"MedidasDispersión!C259","v":0},"",null,null,null,376.35999999999996,""]
[{"$f":"MedidasDispersión!C260","v":0},"",null,null,null,376.35999999999996,""]
[{"$f":"MedidasDispersión!C261","v":0},"",null,null,null,376.35999999999996,""]
[{"$f":"MedidasDispersión!C262","v":0},{"$f":"IF(A258<>0,A258,\"\")","v":""},null,null,null,{"$f":"(A258-$D$1)^2","v":376.35999999999996},{"$f":"IF(A258<>0,F258,\"\")","v":""}]
[{"$f":"MedidasDispersión!C263","v":0},"",null,null,null,376.35999999999996,""]
[{"$f":"MedidasDispersión!C264","v":0},"",null,null,null,376.35999999999996,""]
[{"$f":"MedidasDispersión!C265","v":0},"",null,null,null,376.35999999999996,""]
[{"$f":"MedidasDispersión!C266","v":0},"",null,null,null,376.35999999999996,""]
[{"$f":"MedidasDispersión!C267","v":0},"",null,null,null,376.35999999999996,""]
[{"$f":"MedidasDispersión!C268","v":0},"",null,null,null,376.35999999999996,""]
[{"$f":"MedidasDispersión!C269","v":0},"",null,null,null,376.35999999999996,""]
[{"$f":"MedidasDispersión!C270","v":0},"",null,null,null,376.35999999999996,""]
[{"$f":"MedidasDispersión!C271","v":0},"",null,null,null,376.35999999999996,""]
[{"$f":"MedidasDispersión!C272","v":0},"",null,null,null,376.35999999999996,""]
[{"$f":"MedidasDispersión!C273","v":0},"",null,null,null,376.35999999999996,""]
[{"$f":"MedidasDispersión!C274","v":0},"",null,null,null,376.35999999999996,""]
[{"$f":"MedidasDispersión!C275","v":0},"",null,null,null,376.35999999999996,""]
[{"$f":"MedidasDispersión!C276","v":0},"",null,null,null,376.35999999999996,""]
[{"$f":"MedidasDispersión!C277","v":0},"",null,null,null,376.35999999999996,""]
[{"$f":"MedidasDispersión!C278","v":0},"",null,null,null,376.35999999999996,""]
[{"$f":"MedidasDispersión!C279","v":0},"",null,null,null,376.35999999999996,""]
[{"$f":"MedidasDispersión!C280","v":0},"",null,null,null,376.35999999999996,""]
[{"$f":"MedidasDispersión!C281","v":0},"",null,null,null,376.35999999999996,""]
[{"$f":"MedidasDispersión!C282","v":0},"",null,null,null,376.35999999999996,""]
[{"$f":"MedidasDispersión!C283","v":0},"",null,null,null,376.35999999999996,""]
[{"$f":"MedidasDispersión!C284","v":0},"",null,null,null,376.35999999999996,""]
[{"$f":"MedidasDispersión!C285","v":0},"",null,null,null,376.35999999999996,""]
[{"$f":"MedidasDispersión!C286","v":0},"",null,null,null,376.35999999999996,""]
[{"$f":"MedidasDispersión!C287","v":0},"",null,null,null,376.35999999999996,""]
[{"$f":"MedidasDispersión!C288","v":0},"",null,null,null,376.35999999999996,""]
[{"$f":"MedidasDispersión!C289","v":0},"",null,null,null,376.35999999999996,""]
[{"$f":"MedidasDispersión!C290","v":0},"",null,null,null,376.35999999999996,""]
[{"$f":"MedidasDispersión!C291","v":0},"",null,null,null,376.35999999999996,""]
[{"$f":"MedidasDispersión!C292","v":0},"",null,null,null,376.35999999999996,""]
[{"$f":"MedidasDispersión!C293","v":0},"",null,null,null,376.35999999999996,""]
[{"$f":"MedidasDispersión!C294","v":0},"",null,null,null,376.35999999999996,""]
[{"$f":"MedidasDispersión!C295","v":0},"",null,null,null,376.35999999999996,""]
[{"$f":"MedidasDispersión!C296","v":0},"",null,null,null,376.35999999999996,""]
[{"$f":"MedidasDispersión!C297","v":0},"",null,null,null,376.35999999999996,""]
[{"$f":"MedidasDispersión!C298","v":0},"",null,null,null,376.35999999999996,""]
[{"$f":"MedidasDispersión!C299","v":0},"",null,null,null,376.35999999999996,""]
[{"$f":"MedidasDispersión!C300","v":0},"",null,null,null,376.35999999999996,""]
[{"$f":"MedidasDispersión!C301","v":0},"",null,null,null,376.35999999999996,""]
[{"$f":"MedidasDispersión!C302","v":0},"",null,null,null,376.35999999999996,""]
[{"$f":"MedidasDispersión!C303","v":0},"",null,null,null,376.35999999999996,""]
[{"$f":"MedidasDispersión!C304","v":0},"",null,null,null,376.35999999999996,""]
[{"$f":"MedidasDispersión!C305","v":0},"",null,null,null,376.35999999999996,""]
[{"$f":"MedidasDispersión!C306","v":0},"",null,null,null,376.35999999999996,""]
[{"$f":"MedidasDispersión!C307","v":0},"",null,null,null,376.35999999999996,""]
[{"$f":"MedidasDispersión!C308","v":0},"",null,null,null,376.35999999999996,""]
[{"$f":"MedidasDispersión!C309","v":0},"",null,null,null,376.35999999999996,""]
[{"$f":"MedidasDispersión!C310","v":0},"",null,null,null,376.35999999999996,""]
[{"$f":"MedidasDispersión!C311","v":0},"",null,null,null,376.35999999999996,""]
[{"$f":"MedidasDispersión!C312","v":0},"",null,null,null,376.35999999999996,""]
[{"$f":"MedidasDispersión!C313","v":0},"",null,null,null,376.35999999999996,""]
[{"$f":"MedidasDispersión!C314","v":0},"",null,null,null,376.35999999999996,""]
[{"$f":"MedidasDispersión!C315","v":0},"",null,null,null,376.35999999999996,""]
[{"$f":"MedidasDispersión!C316","v":0},"",null,null,null,376.35999999999996,""]
[{"$f":"MedidasDispersión!C317","v":0},"",null,null,null,376.35999999999996,""]
[{"$f":"MedidasDispersión!C318","v":0},"",null,null,null,376.35999999999996,""]
[{"$f":"MedidasDispersión!C319","v":0},"",null,null,null,376.35999999999996,""]
[{"$f":"MedidasDispersión!C320","v":0},"",null,null,null,376.35999999999996,""]
[{"$f":"MedidasDispersión!C321","v":0},"",null,null,null,376.35999999999996,""]
[{"$f":"MedidasDispersión!C322","v":0},"",null,null,null,376.35999999999996,""]
[{"$f":"MedidasDispersión!C323","v":0},"",null,null,null,376.35999999999996,""]
[{"$f":"MedidasDispersión!C324","v":0},"",null,null,null,376.35999999999996,""]
[{"$f":"MedidasDispersión!C325","v":0},"",null,null,null,376.35999999999996,""]
[{"$f":"MedidasDispersión!C326","v":0},{"$f":"IF(A322<>0,A322,\"\")","v":""},null,null,null,{"$f":"(A322-$D$1)^2","v":376.35999999999996},{"$f":"IF(A322<>0,F322,\"\")","v":""}]
[{"$f":"MedidasDispersión!C327","v":0},"",null,null,null,376.35999999999996,""]
[{"$f":"MedidasDispersión!C328","v":0},"",null,null,null,376.35999999999996,""]
[{"$f":"MedidasDispersión!C329","v":0},"",null,null,null,376.35999999999996,""]
[{"$f":"MedidasDispersión!C330","v":0},"",null,null,null,376.35999999999996,""]
[{"$f":"MedidasDispersión!C331","v":0},"",null,null,null,376.35999999999996,""]
[{"$f":"MedidasDispersión!C332","v":0},"",null,null,null,376.35999999999996,""]
[{"$f":"MedidasDispersión!C333","v":0},"",null,null,null,376.35999999999996,""]
[{"$f":"MedidasDispersión!C334","v":0},"",null,null,null,376.35999999999996,""]
[{"$f":"MedidasDispersión!C335","v":0},"",null,null,null,376.35999999999996,""]
[{"$f":"MedidasDispersión!C336","v":0},"",null,null,null,376.35999999999996,""]
[{"$f":"MedidasDispersión!C337","v":0},"",null,null,null,376.35999999999996,""]
[{"$f":"MedidasDispersión!C338","v":0},"",null,null,null,376.35999999999996,""]
[{"$f":"MedidasDispersión!C339","v":0},"",null,null,null,376.35999999999996,""]
[{"$f":"MedidasDispersión!C340","v":0},"",null,null,null,376.35999999999996,""]
[{"$f":"MedidasDispersión!C341","v":0},"",null,null,null,376.35999999999996,""]
[{"$f":"MedidasDispersión!C342","v":0},"",null,null,null,376.35999999999996,""]
[{"$f":"MedidasDispersión!C343","v":0},"",null,null,null,376.35999999999996,""]
[{"$f":"MedidasDispersión!C344","v":0},"",null,null,null,376.35999999999996,""]
[{"$f":"MedidasDispersión!C345","v":0},"",null,null,null,376.35999999999996,""]
[{"$f":"MedidasDispersión!C346","v":0},"",null,null,null,376.35999999999996,""]
[{"$f":"MedidasDispersión!C347","v":0},"",null,null,null,376.35999999999996,""]
[{"$f":"MedidasDispersión!C348","v":0},"",null,null,null,376.35999999999996,""]
[{"$f":"MedidasDispersión!C349","v":0},"",null,null,null,376.35999999999996,""]
[{"$f":"MedidasDispersión!C350","v":0},"",null,null,null,376.35999999999996,""]
[{"$f":"MedidasDispersión!C351","v":0},"",null,null,null,376.35999999999996,""]
[{"$f":"MedidasDispersión!C352","v":0},"",null,null,null,376.35999999999996,""]
[{"$f":"MedidasDispersión!C353","v":0},"",null,null,null,376.35999999999996,""]
[{"$f":"MedidasDispersión!C354","v":0},"",null,null,null,376.35999999999996,""]
[{"$f":"MedidasDispersión!C355","v":0},"",null,null,null,376.35999999999996,""]
[{"$f":"MedidasDispersión!C356","v":0},"",null,null,null,376.35999999999996,""]
[{"$f":"MedidasDispersión!C357","v":0},"",null,null,null,376.35999999999996,""]
[{"$f":"MedidasDispersión!C358","v":0},"",null,null,null,376.35999999999996,""]
[{"$f":"MedidasDispersión!C359","v":0},"",null,null,null,376.35999999999996,""]
[{"$f":"MedidasDispersión!C360","v":0},"",null,null,null,376.35999999999996,""]
[{"$f":"MedidasDispersión!C361","v":0},"",null,null,null,376.35999999999996,""]
[{"$f":"MedidasDispersión!C362","v":0},"",null,null,null,376.35999999999996,""]
[{"$f":"MedidasDispersión!C363","v":0},"",null,null,null,376.35999999999996,""]
[{"$f":"MedidasDispersión!C364","v":0},"",null,null,null,376.35999999999996,""]
[{"$f":"MedidasDispersión!C365","v":0},"",null,null,null,376.35999999999996,""]
[{"$f":"MedidasDispersión!C366","v":0},"",null,null,null,376.35999999999996,""]
[{"$f":"MedidasDispersión!C367","v":0},"",null,null,null,376.35999999999996,""]
[{"$f":"MedidasDispersión!C368","v":0},"",null,null,null,376.35999999999996,""]
[{"$f":"MedidasDispersión!C369","v":0},"",null,null,null,376.35999999999996,""]
[{"$f":"MedidasDispersión!C370","v":0},"",null,null,null,376.35999999999996,""]
[{"$f":"MedidasDispersión!C371","v":0},"",null,null,null,376.35999999999996,""]
[{"$f":"MedidasDispersión!C372","v":0},"",null,null,null,376.35999999999996,""]
[{"$f":"MedidasDispersión!C373","v":0},"",null,null,null,376.35999999999996,""]
[{"$f":"MedidasDispersión!C374","v":0},"",null,null,null,376.35999999999996,""]
[{"$f":"MedidasDispersión!C375","v":0},"",null,null,null,376.35999999999996,""]
[{"$f":"MedidasDispersión!C376","v":0},"",null,null,null,376.35999999999996,""]
[{"$f":"MedidasDispersión!C377","v":0},"",null,null,null,376.35999999999996,""]
[{"$f":"MedidasDispersión!C378","v":0},"",null,null,null,376.35999999999996,""]
[{"$f":"MedidasDispersión!C379","v":0},"",null,null,null,376.35999999999996,""]
[{"$f":"MedidasDispersión!C380","v":0},"",null,null,null,376.35999999999996,""]
[{"$f":"MedidasDispersión!C381","v":0},"",null,null,null,376.35999999999996,""]
[{"$f":"MedidasDispersión!C382","v":0},"",null,null,null,376.35999999999996,""]
[{"$f":"MedidasDispersión!C383","v":0},"",null,null,null,376.35999999999996,""]
[{"$f":"MedidasDispersión!C384","v":0},"",null,null,null,376.35999999999996,""]
[{"$f":"MedidasDispersión!C385","v":0},"",null,null,null,376.35999999999996,""]
[{"$f":"MedidasDispersión!C386","v":0},"",null,null,null,376.35999999999996,""]
[{"$f":"MedidasDispersión!C387","v":0},"",null,null,null,376.35999999999996,""]
[{"$f":"MedidasDispersión!C388","v":0},"",null,null,null,376.35999999999996,""]
[{"$f":"MedidasDispersión!C389","v":0},"",null,null,null,376.35999999999996,""]
[{"$f":"MedidasDispersión!C390","v":0},{"$f":"IF(A386<>0,A386,\"\")","v":""},null,null,null,{"$f":"(A386-$D$1)^2","v":376.35999999999996},{"$f":"IF(A386<>0,F386,\"\")","v":""}]
[{"$f":"MedidasDispersión!C391","v":0},"",null,null,null,376.35999999999996,""]
[{"$f":"MedidasDispersión!C392","v":0},"",null,null,null,376.35999999999996,""]
[{"$f":"MedidasDispersión!C393","v":0},"",null,null,null,376.35999999999996,""]
[{"$f":"MedidasDispersión!C394","v":0},"",null,null,null,376.35999999999996,""]
[{"$f":"MedidasDispersión!C395","v":0},"",null,null,null,376.35999999999996,""]
[{"$f":"MedidasDispersión!C396","v":0},"",null,null,null,376.35999999999996,""]
[{"$f":"MedidasDispersión!C397","v":0},"",null,null,null,376.35999999999996,""]
[{"$f":"MedidasDispersión!C398","v":0},"",null,null,null,376.35999999999996,""]
[{"$f":"MedidasDispersión!C399","v":0},"",null,null,null,376.35999999999996,""]
[{"$f":"MedidasDispersión!C400","v":0},"",null,null,null,376.35999999999996,""]
[{"$f":"MedidasDispersión!C401","v":0},"",null,null,null,376.35999999999996,""]
[{"$f":"MedidasDispersión!C402","v":0},"",null,null,null,376.35999999999996,""]
[{"$f":"MedidasDispersión!C403","v":0},"",null,null,null,376.35999999999996,""]
[{"$f":"MedidasDispersión!C404","v":0},"",null,null,null,376.35999999999996,""]
[{"$f":"MedidasDispersión!C405","v":0},"",null,null,null,376.35999999999996,""]
[{"$f":"MedidasDispersión!C406","v":0},"",null,null,null,376.35999999999996,""]
[{"$f":"MedidasDispersión!C407","v":0},"",null,null,null,376.35999999999996,""]
[{"$f":"MedidasDispersión!C408","v":0},"",null,null,null,376.35999999999996,""]
[{"$f":"MedidasDispersión!C409","v":0},"",null,null,null,376.35999999999996,""]
[{"$f":"MedidasDispersión!C410","v":0},"",null,null,null,376.35999999999996,""]
[{"$f":"MedidasDispersión!C411","v":0},"",null,null,null,376.35999999999996,""]
[{"$f":"MedidasDispersión!C412","v":0},"",null,null,null,376.35999999999996,""]
[{"$f":"MedidasDispersión!C413","v":0},"",null,null,null,376.35999999999996,""]
[{"$f":"MedidasDispersión!C414","v":0},"",null,null,null,376.35999999999996,""]
[{"$f":"MedidasDispersión!C415","v":0},"",null,null,null,376.35999999999996,""]
[{"$f":"MedidasDispersión!C416","v":0},"",null,null,null,376.35999999999996,""]
[{"$f":"MedidasDispersión!C417","v":0},"",null,null,null,376.35999999999996,""]
[{"$f":"MedidasDispersión!C418","v":0},"",null,null,null,376.35999999999996,""]
[{"$f":"MedidasDispersión!C419","v":0},"",null,null,null,376.35999999999996,""]
[{"$f":"MedidasDispersión!C420","v":0},"",null,null,null,376.35999999999996,""]
[{"$f":"MedidasDispersión!C421","v":0},"",null,null,null,376.35999999999996,""]
[{"$f":"MedidasDispersión!C422","v":0},"",null,null,null,376.35999999999996,""]
[{"$f":"MedidasDispersión!C423","v":0},"",null,null,null,376.35999999999996,""]
[{"$f":"MedidasDispersión!C424","v":0},"",null,null,null,376.35999999999996,""]
[{"$f":"MedidasDispersión!C425","v":0},"",null,null,null,376.35999999999996,""]
[{"$f":"MedidasDispersión!C426","v":0},"",null,null,null,376.35999999999996,""]
[{"$f":"MedidasDispersión!C427","v":0},"",null,null,null,376.35999999999996,""]
[{"$f":"MedidasDispersión!C428","v":0},"",null,null,null,376.35999999999996,""]
[{"$f":"MedidasDispersión!C429","v":0},"",null,null,null,376.35999999999996,""]
[{"$f":"MedidasDispersión!C430","v":0},"",null,null,null,376.35999999999996,""]
[{"$f":"MedidasDispersión!C431","v":0},"",null,null,null,376.35999999999996,""]
[{"$f":"MedidasDispersión!C432","v":0},"",null,null,null,376.35999999999996,""]
[{"$f":"MedidasDispersión!C433","v":0},"",null,null,null,376.35999999999996,""]
[{"$f":"MedidasDispersión!C434","v":0},"",null,null,null,376.35999999999996,""]
[{"$f":"MedidasDispersión!C435","v":0},"",null,null,null,376.35999999999996,""]
[{"$f":"MedidasDispersión!C436","v":0},"",null,null,null,376.35999999999996,""]
[{"$f":"MedidasDispersión!C437","v":0},"",null,null,null,376.35999999999996,""]
[{"$f":"MedidasDispersión!C438","v":0},"",null,null,null,376.35999999999996,""]
[{"$f":"MedidasDispersión!C439","v":0},"",null,null,null,376.35999999999996,""]
[{"$f":"MedidasDispersión!C440","v":0},"",null,null,null,376.35999999999996,""]
[{"$f":"MedidasDispersión!C441","v":0},"",null,null,null,376.35999999999996,""]
[{"$f":"MedidasDispersión!C442","v":0},"",null,null,null,376.35999999999996,""]
[{"$f":"MedidasDispersión!C443","v":0},"",null,null,null,376.35999999999996,""]
[{"$f":"MedidasDispersión!C444","v":0},"",null,null,null,376.35999999999996,""]
[{"$f":"MedidasDispersión!C445","v":0},"",null,null,null,376.35999999999996,""]
[{"$f":"MedidasDispersión!C446","v":0},"",null,null,null,376.35999999999996,""]
[{"$f":"MedidasDispersión!C447","v":0},"",null,null,null,376.35999999999996,""]
[{"$f":"MedidasDispersión!C448","v":0},"",null,null,null,376.35999999999996,""]
[{"$f":"MedidasDispersión!C449","v":0},"",null,null,null,376.35999999999996,""]
[{"$f":"MedidasDispersión!C450","v":0},"",null,null,null,376.35999999999996,""]
[{"$f":"MedidasDispersión!C451","v":0},"",null,null,null,376.35999999999996,""]
[{"$f":"MedidasDispersión!C452","v":0},"",null,null,null,376.35999999999996,""]
[{"$f":"MedidasDispersión!C453","v":0},"",null,null,null,376.35999999999996,""]
[{"$f":"MedidasDispersión!C454","v":0},{"$f":"IF(A450<>0,A450,\"\")","v":""},null,null,null,{"$f":"(A450-$D$1)^2","v":376.35999999999996},{"$f":"IF(A450<>0,F450,\"\")","v":""}]
[{"$f":"MedidasDispersión!C455","v":0},"",null,null,null,376.35999999999996,""]
[{"$f":"MedidasDispersión!C456","v":0},"",null,null,null,376.35999999999996,""]
[{"$f":"MedidasDispersión!C457","v":0},"",null,null,null,376.35999999999996,""]
[{"$f":"MedidasDispersión!C458","v":0},"",null,null,null,376.35999999999996,""]
[{"$f":"MedidasDispersión!C459","v":0},"",null,null,null,376.35999999999996,""]
[{"$f":"MedidasDispersión!C460","v":0},"",null,null,null,376.35999999999996,""]
[{"$f":"MedidasDispersión!C461","v":0},"",null,null,null,376.35999999999996,""]
[{"$f":"MedidasDispersión!C462","v":0},"",null,null,null,376.35999999999996,""]
[{"$f":"MedidasDispersión!C463","v":0},"",null,null,null,376.35999999999996,""]
[{"$f":"MedidasDispersión!C464","v":0},"",null,null,null,376.35999999999996,""]
[{"$f":"MedidasDispersión!C465","v":0},"",null,null,null,376.35999999999996,""]
[{"$f":"MedidasDispersión!C466","v":0},"",null,null,null,376.35999999999996,""]
[{"$f":"MedidasDispersión!C467","v":0},"",null,null,null,376.35999999999996,""]
[{"$f":"MedidasDispersión!C468","v":0},"",null,null,null,376.35999999999996,""]
[{"$f":"MedidasDispersión!C469","v":0},"",null,null,null,376.35999999999996,""]
[{"$f":"MedidasDispersión!C470","v":0},"",null,null,null,376.35999999999996,""]
[{"$f":"MedidasDispersión!C471","v":0},"",null,null,null,376.35999999999996,""]
[{"$f":"MedidasDispersión!C472","v":0},"",null,null,null,376.35999999999996,""]
[{"$f":"MedidasDispersión!C473","v":0},"",null,null,null,376.35999999999996,""]
[{"$f":"MedidasDispersión!C474","v":0},"",null,null,null,376.35999999999996,""]
[{"$f":"MedidasDispersión!C475","v":0},"",null,null,null,376.35999999999996,""]
[{"$f":"MedidasDispersión!C476","v":0},"",null,null,null,376.35999999999996,""]
[{"$f":"MedidasDispersión!C477","v":0},"",null,null,null,376.35999999999996,""]
[{"$f":"MedidasDispersión!C478","v":0},"",null,null,null,376.35999999999996,""]
[{"$f":"MedidasDispersión!C479","v":0},"",null,null,null,376.35999999999996,""]
[{"$f":"MedidasDispersión!C480","v":0},"",null,null,null,376.35999999999996,""]
[{"$f":"MedidasDispersión!C481","v":0},"",null,null,null,376.35999999999996,""]
[{"$f":"MedidasDispersión!C482","v":0},"",null,null,null,376.35999999999996,""]
[{"$f":"MedidasDispersión!C483","v":0},"",null,null,null,376.35999999999996,""]
[{"$f":"MedidasDispersión!C484","v":0},"",null,null,null,376.35999999999996,""]
[{"$f":"MedidasDispersión!C485","v":0},"",null,null,null,376.35999999999996,""]
[{"$f":"MedidasDispersión!C486","v":0},"",null,null,null,376.35999999999996,""]
[{"$f":"MedidasDispersión!C487","v":0},"",null,null,null,376.35999999999996,""]
[{"$f":"MedidasDispersión!C488","v":0},"",null,null,null,376.35999999999996,""]
[{"$f":"MedidasDispersión!C489","v":0},"",null,null,null,376.35999999999996,""]
[{"$f":"MedidasDispersión!C490","v":0},"",null,null,null,376.35999999999996,""]
[{"$f":"MedidasDispersión!C491","v":0},"",null,null,null,376.35999999999996,""]
[{"$f":"MedidasDispersión!C492","v":0},"",null,null,null,376.35999999999996,""]
[{"$f":"MedidasDispersión!C493","v":0},"",null,null,null,376.35999999999996,""]
[{"$f":"MedidasDispersión!C494","v":0},"",null,null,null,376.35999999999996,""]
[{"$f":"MedidasDispersión!C495","v":0},"",null,null,null,376.35999999999996,""]
[{"$f":"MedidasDispersión!C496","v":0},"",null,null,null,376.35999999999996,""]
[{"$f":"MedidasDispersión!C497","v":0},"",null,null,null,376.35999999999996,""]
[{"$f":"MedidasDispersión!C498","v":0},"",null,null,null,376.35999999999996,""]
[{"$f":"MedidasDispersión!C499","v":0},"",null,null,null,376.35999999999996,""]
[{"$f":"MedidasDispersión!C500","v":0},"",null,null,null,376.35999999999996,""]
[{"$f":"MedidasDispersión!C501","v":0},"",null,null,null,376.35999999999996,""]
[{"$f":"MedidasDispersión!C502","v":0},"",null,null,null,376.35999999999996,""]
[{"$f":"MedidasDispersión!C503","v":0},"",null,null,null,376.35999999999996,""]
[{"$f":"MedidasDispersión!C504","v":0},"",null,null,null,376.35999999999996,""]

{"sheet":"Prueba Z","index":18,"n_rows":11,"n_cols":18,"rows_kept":11,"cut":false,"hidden":false,"merged":[[0,1,0,4]]}
[null,"Prueba Z",null,null,null,null,null,null,null,null,null,null,null,null,null,null,null,{"$f":"(C7-C8)/C9","v":-0.89743589743589747}]
[null,null,null,null,null,null,null,null,null,null,null,null,null,null,null,null,null,{"$f":"(D7-D8)/D9","v":0.33333333333333331}]
[]
[]
[]
[null,null,"A","B"]
[null,"Xi",270000,295000]
[null,null,305000,285000]
[null,"S",39000,30000]
[null,"Z",{"$f":"R1","v":-0.89743589743589747},{"$f":"R2","v":0.33333333333333331}]
[null,null,null,null,"Inicio"]

{"sheet":"Prueba Hipótesis","index":19,"n_rows":19,"n_cols":13,"rows_kept":19,"cut":false,"hidden":false,"merged":[[1,1,1,4]]}
[]
[null,"Prueba hipótesis"]
[]
[null,null,null,{"$f":"M5","v":8.9179264274104594E-2}]
[null,null,null,null,null,null,null,null,null,null,null,null,{"$f":"(E10)/SQRT(E11)","v":8.9179264274104594E-2}]
[]
[null,null,null,{"$f":"M10","v":13.456042834258378}]
[null,null,null,null,null,null,null,null,null,null,null,null,{"$f":"SQRT(E11)","v":29.154759474226502}]
[]
[null,"Desviación estándar",null,null,2.6,null,null,null,null,null,null,null,{"$f":"(E13-E17)/D4","v":13.456042834258378}]
[null,"Muestra",null,null,850]
[null,"Nivel de significancia",null,null,0.05]
[null,"Tiempo promedio clientes",null,null,8.1999999999999993]
[]
[]
[]
[null,"Tiempo promedio",null,null,7]
[]
[null,null,null,null,"Inicio"]

{"sheet":"PruebaChiCuadrado","index":20,"n_rows":14,"n_cols":10,"rows_kept":14,"cut":false,"hidden":false,"merged":[[2,6,2,9]]}
[]
[null,"Número de campañas",null,3]
[null,null,null,null,null,null,"Resultados"]
[null,"Año","Número de niños atendidos ","Mes de campaña"]
[null,1,11700,"Julio"]
[null,2,12350,"Mayo",null,null,null,null,{"$f":"Hoja4!K1","v":11650}]
[null,3,10900,"Septiembre"]
[]
[]
[null,null,null,null,null,null,null,null,{"$f":"Hoja4!G2","v":90.557939914163086}]
[]
[]
[]
[null,null,null,null,null,null,null,null,null,"Inicio"]

{"sheet":"Hoja4","index":21,"n_rows":500,"n_cols":11,"rows_kept":500,"cut":false,"hidden":true,"merged":[]}
[{"$f":"PruebaChiCuadrado!B5","v":1},{"$f":"PruebaChiCuadrado!C5","v":11700},{"$f":"IF(A1<>0,A1,\"\")","v":1},{"$f":"IF(B1<>0,B1,\"\")","v":11700},{"$f":"(B1-$K$1)^2","v":2500},{"$f":"IFERROR(E1,0)","v":2500},{"$f":"SUM(F1:F500)","v":1055000},"Suma",{"$f":"SUM(D1:D500)","v":34950},{"$f":"I1/I2","v":11650},{"$f":"TRUNC(J1)","v":11650}]
[{"$f":"PruebaChiCuadrado!B6","v":2},{"$f":"PruebaChiCuadrado!C6","v":12350},{"$f":"IF(A2<>0,A2,\"\")","v":2},12350,{"$f":"(B2-$K$1)^2","v":490000},{"$f":"IFERROR(E2,0)","v":490000},{"$f":"G1/K1","v":90.557939914163086},"Cuenta",{"$f":"COUNT(C1:C500)","v":3}]
[{"$f":"PruebaChiCuadrado!B7","v":3},{"$f":"PruebaChiCuadrado!C7","v":10900},3,10900,{"$f":"(B3-$K$1)^2","v":562500},{"$f":"IFERROR(E3,0)","v":562500}]
[{"$f":"PruebaChiCuadrado!B8","v":0},{"$f":"PruebaChiCuadrado!C8","v":0},"","",{"$f":"(D4-$K$1)^2","v":{"$error":"#VALUE!"}},{"$f":"IFERROR(E4,0)","v":0}]
[{"$f":"PruebaChiCuadrado!B9","v":0},{"$f":"PruebaChiCuadrado!C9","v":0},"","",{"$error":"#VALUE!"},{"$f":"IFERROR(E5,0)","v":0}]
[{"$f":"PruebaChiCuadrado!B10","v":0},{"$f":"PruebaChiCuadrado!C10","v":0},"","",{"$error":"#VALUE!"},0]
[{"$f":"PruebaChiCuadrado!B11","v":0},{"$f":"PruebaChiCuadrado!C11","v":0},"","",{"$error":"#VALUE!"},0]
[{"$f":"PruebaChiCuadrado!B12","v":0},{"$f":"PruebaChiCuadrado!C12","v":0},"","",{"$error":"#VALUE!"},0]
[{"$f":"PruebaChiCuadrado!B13","v":0},{"$f":"PruebaChiCuadrado!C13","v":0},"","",{"$error":"#VALUE!"},0]
[{"$f":"PruebaChiCuadrado!B14","v":0},{"$f":"PruebaChiCuadrado!C14","v":0},"","",{"$error":"#VALUE!"},0]
[{"$f":"PruebaChiCuadrado!B15","v":0},{"$f":"PruebaChiCuadrado!C15","v":0},"","",{"$error":"#VALUE!"},0]
[{"$f":"PruebaChiCuadrado!B16","v":0},{"$f":"PruebaChiCuadrado!C16","v":0},"","",{"$error":"#VALUE!"},0]
[{"$f":"PruebaChiCuadrado!B17","v":0},{"$f":"PruebaChiCuadrado!C17","v":0},"","",{"$error":"#VALUE!"},0]
[{"$f":"PruebaChiCuadrado!B18","v":0},{"$f":"PruebaChiCuadrado!C18","v":0},"","",{"$error":"#VALUE!"},0]
[{"$f":"PruebaChiCuadrado!B19","v":0},{"$f":"PruebaChiCuadrado!C19","v":0},"","",{"$error":"#VALUE!"},0]
[{"$f":"PruebaChiCuadrado!B20","v":0},{"$f":"PruebaChiCuadrado!C20","v":0},"","",{"$error":"#VALUE!"},0]
[{"$f":"PruebaChiCuadrado!B21","v":0},{"$f":"PruebaChiCuadrado!C21","v":0},"","",{"$error":"#VALUE!"},0]
[{"$f":"PruebaChiCuadrado!B22","v":0},{"$f":"PruebaChiCuadrado!C22","v":0},"","",{"$error":"#VALUE!"},0]
[{"$f":"PruebaChiCuadrado!B23","v":0},{"$f":"PruebaChiCuadrado!C23","v":0},"","",{"$error":"#VALUE!"},0]
[{"$f":"PruebaChiCuadrado!B24","v":0},{"$f":"PruebaChiCuadrado!C24","v":0},"","",{"$error":"#VALUE!"},0]
[{"$f":"PruebaChiCuadrado!B25","v":0},{"$f":"PruebaChiCuadrado!C25","v":0},"","",{"$error":"#VALUE!"},0]
[{"$f":"PruebaChiCuadrado!B26","v":0},{"$f":"PruebaChiCuadrado!C26","v":0},"","",{"$error":"#VALUE!"},0]
[{"$f":"PruebaChiCuadrado!B27","v":0},{"$f":"PruebaChiCuadrado!C27","v":0},"","",{"$error":"#VALUE!"},0]
[{"$f":"PruebaChiCuadrado!B28","v":0},{"$f":"PruebaChiCuadrado!C28","v":0},"","",{"$error":"#VALUE!"},0]
[{"$f":"PruebaChiCuadrado!B29","v":0},{"$f":"PruebaChiCuadrado!C29","v":0},"","",{"$error":"#VALUE!"},0]
[{"$f":"PruebaChiCuadrado!B30","v":0},{"$f":"PruebaChiCuadrado!C30","v":0},"","",{"$error":"#VALUE!"},0]
[{"$f":"PruebaChiCuadrado!B31","v":0},{"$f":"PruebaChiCuadrado!C31","v":0},"","",{"$error":"#VALUE!"},0]
[{"$f":"PruebaChiCuadrado!B32","v":0},{"$f":"PruebaChiCuadrado!C32","v":0},"","",{"$error":"#VALUE!"},0]
[{"$f":"PruebaChiCuadrado!B33","v":0},{"$f":"PruebaChiCuadrado!C33","v":0},"","",{"$error":"#VALUE!"},0]
[{"$f":"PruebaChiCuadrado!B34","v":0},{"$f":"PruebaChiCuadrado!C34","v":0},"","",{"$error":"#VALUE!"},0]
[{"$f":"PruebaChiCuadrado!B35","v":0},{"$f":"PruebaChiCuadrado!C35","v":0},"","",{"$error":"#VALUE!"},0]
[{"$f":"PruebaChiCuadrado!B36","v":0},{"$f":"PruebaChiCuadrado!C36","v":0},"","",{"$error":"#VALUE!"},0]
[{"$f":"PruebaChiCuadrado!B37","v":0},{"$f":"PruebaChiCuadrado!C37","v":0},"","",{"$error":"#VALUE!"},0]
[{"$f":"PruebaChiCuadrado!B38","v":0},{"$f":"PruebaChiCuadrado!C38","v":0},"","",{"$error":"#VALUE!"},0]
[{"$f":"PruebaChiCuadrado!B39","v":0},{"$f":"PruebaChiCuadrado!C39","v":0},"","",{"$error":"#VALUE!"},0]
[{"$f":"PruebaChiCuadrado!B40","v":0},{"$f":"PruebaChiCuadrado!C40","v":0},"","",{"$f":"(D36-$K$1)^2","v":{"$error":"#VALUE!"}},0]
[{"$f":"PruebaChiCuadrado!B41","v":0},{"$f":"PruebaChiCuadrado!C41","v":0},"","",{"$error":"#VALUE!"},0]
[{"$f":"PruebaChiCuadrado!B42","v":0},{"$f":"PruebaChiCuadrado!C42","v":0},"","",{"$error":"#VALUE!"},0]
[{"$f":"PruebaChiCuadrado!B43","v":0},{"$f":"PruebaChiCuadrado!C43","v":0},"","",{"$error":"#VALUE!"},0]
[{"$f":"PruebaChiCuadrado!B44","v":0},{"$f":"PruebaChiCuadrado!C44","v":0},"","",{"$error":"#VALUE!"},0]
[{"$f":"PruebaChiCuadrado!B45","v":0},{"$f":"PruebaChiCuadrado!C45","v":0},"","",{"$error":"#VALUE!"},0]
[{"$f":"PruebaChiCuadrado!B46","v":0},{"$f":"PruebaChiCuadrado!C46","v":0},"","",{"$error":"#VALUE!"},0]
[{"$f":"PruebaChiCuadrado!B47","v":0},{"$f":"PruebaChiCuadrado!C47","v":0},"","",{"$error":"#VALUE!"},0]
[{"$f":"PruebaChiCuadrado!B48","v":0},{"$f":"PruebaChiCuadrado!C48","v":0},"","",{"$error":"#VALUE!"},0]
[{"$f":"PruebaChiCuadrado!B49","v":0},{"$f":"PruebaChiCuadrado!C49","v":0},"","",{"$error":"#VALUE!"},0]
[{"$f":"PruebaChiCuadrado!B50","v":0},{"$f":"PruebaChiCuadrado!C50","v":0},"","",{"$error":"#VALUE!"},0]
[{"$f":"PruebaChiCuadrado!B51","v":0},{"$f":"PruebaChiCuadrado!C51","v":0},"","",{"$error":"#VALUE!"},0]
[{"$f":"PruebaChiCuadrado!B52","v":0},{"$f":"PruebaChiCuadrado!C52","v":0},"","",{"$error":"#VALUE!"},0]
[{"$f":"PruebaChiCuadrado!B53","v":0},{"$f":"PruebaChiCuadrado!C53","v":0},"","",{"$error":"#VALUE!"},0]
[{"$f":"PruebaChiCuadrado!B54","v":0},{"$f":"PruebaChiCuadrado!C54","v":0},"","",{"$error":"#VALUE!"},0]
[{"$f":"PruebaChiCuadrado!B55","v":0},{"$f":"PruebaChiCuadrado!C55","v":0},"","",{"$error":"#VALUE!"},0]
[{"$f":"PruebaChiCuadrado!B56","v":0},{"$f":"PruebaChiCuadrado!C56","v":0},"","",{"$error":"#VALUE!"},0]
[{"$f":"PruebaChiCuadrado!B57","v":0},{"$f":"PruebaChiCuadrado!C57","v":0},"","",{"$error":"#VALUE!"},0]
[{"$f":"PruebaChiCuadrado!B58","v":0},{"$f":"PruebaChiCuadrado!C58","v":0},"","",{"$error":"#VALUE!"},0]
[{"$f":"PruebaChiCuadrado!B59","v":0},{"$f":"PruebaChiCuadrado!C59","v":0},"","",{"$error":"#VALUE!"},0]
[{"$f":"PruebaChiCuadrado!B60","v":0},{"$f":"PruebaChiCuadrado!C60","v":0},"","",{"$error":"#VALUE!"},0]
[{"$f":"PruebaChiCuadrado!B61","v":0},{"$f":"PruebaChiCuadrado!C61","v":0},"","",{"$error":"#VALUE!"},0]
[{"$f":"PruebaChiCuadrado!B62","v":0},{"$f":"PruebaChiCuadrado!C62","v":0},"","",{"$error":"#VALUE!"},0]
[{"$f":"PruebaChiCuadrado!B63","v":0},{"$f":"PruebaChiCuadrado!C63","v":0},"","",{"$error":"#VALUE!"},0]
[{"$f":"PruebaChiCuadrado!B64","v":0},{"$f":"PruebaChiCuadrado!C64","v":0},"","",{"$error":"#VALUE!"},0]
[{"$f":"PruebaChiCuadrado!B65","v":0},{"$f":"PruebaChiCuadrado!C65","v":0},"","",{"$error":"#VALUE!"},0]
[{"$f":"PruebaChiCuadrado!B66","v":0},{"$f":"PruebaChiCuadrado!C66","v":0},"","",{"$error":"#VALUE!"},0]
[{"$f":"PruebaChiCuadrado!B67","v":0},{"$f":"PruebaChiCuadrado!C67","v":0},"","",{"$error":"#VALUE!"},0]
[{"$f":"PruebaChiCuadrado!B68","v":0},{"$f":"PruebaChiCuadrado!C68","v":0},"","",{"$error":"#VALUE!"},0]
[{"$f":"PruebaChiCuadrado!B69","v":0},{"$f":"PruebaChiCuadrado!C69","v":0},"","",{"$error":"#VALUE!"},0]
[{"$f":"PruebaChiCuadrado!B70","v":0},{"$f":"PruebaChiCuadrado!C70","v":0},{"$f":"IF(A66<>0,A66,\"\")","v":""},"",{"$f":"(D66-$K$1)^2","v":{"$error":"#VALUE!"}},0]
[{"$f":"PruebaChiCuadrado!B71","v":0},{"$f":"PruebaChiCuadrado!C71","v":0},"","",{"$error":"#VALUE!"},0]
[{"$f":"PruebaChiCuadrado!B72","v":0},{"$f":"PruebaChiCuadrado!C72","v":0},"","",{"$error":"#VALUE!"},0]
[{"$f":"PruebaChiCuadrado!B73","v":0},{"$f":"PruebaChiCuadrado!C73","v":0},"","",{"$error":"#VALUE!"},{"$f":"IFERROR(E69,0)","v":0}]
[{"$f":"PruebaChiCuadrado!B74","v":0},{"$f":"PruebaChiCuadrado!C74","v":0},"","",{"$error":"#VALUE!"},0]
[{"$f":"PruebaChiCuadrado!B75","v":0},{"$f":"PruebaChiCuadrado!C75","v":0},"","",{"$error":"#VALUE!"},0]
[{"$f":"PruebaChiCuadrado!B76","v":0},{"$f":"PruebaChiCuadrado!C76","v":0},"","",{"$error":"#VALUE!"},0]
[{"$f":"PruebaChiCuadrado!B77","v":0},{"$f":"PruebaChiCuadrado!C77","v":0},"","",{"$error":"#VALUE!"},0]
[{"$f":"PruebaChiCuadrado!B78","v":0},{"$f":"PruebaChiCuadrado!C78","v":0},"","",{"$error":"#VALUE!"},0]
[{"$f":"PruebaChiCuadrado!B79","v":0},{"$f":"PruebaChiCuadrado!C79","v":0},"","",{"$error":"#VALUE!"},0]
[{"$f":"PruebaChiCuadrado!B80","v":0},{"$f":"PruebaChiCuadrado!C80","v":0},"","",{"$error":"#VALUE!"},0]
[{"$f":"PruebaChiCuadrado!B81","v":0},{"$f":"PruebaChiCuadrado!C81","v":0},"","",{"$error":"#VALUE!"},0]
[{"$f":"PruebaChiCuadrado!B82","v":0},{"$f":"PruebaChiCuadrado!C82","v":0},"","",{"$error":"#VALUE!"},0]
[{"$f":"PruebaChiCuadrado!B83","v":0},{"$f":"PruebaChiCuadrado!C83","v":0},"","",{"$error":"#VALUE!"},0]
[{"$f":"PruebaChiCuadrado!B84","v":0},{"$f":"PruebaChiCuadrado!C84","v":0},"","",{"$error":"#VALUE!"},0]
[{"$f":"PruebaChiCuadrado!B85","v":0},{"$f":"PruebaChiCuadrado!C85","v":0},"","",{"$error":"#VALUE!"},0]
[{"$f":"PruebaChiCuadrado!B86","v":0},{"$f":"PruebaChiCuadrado!C86","v":0},"","",{"$error":"#VALUE!"},0]
[{"$f":"PruebaChiCuadrado!B87","v":0},{"$f":"PruebaChiCuadrado!C87","v":0},"","",{"$error":"#VALUE!"},0]
[{"$f":"PruebaChiCuadrado!B88","v":0},{"$f":"PruebaChiCuadrado!C88","v":0},"","",{"$error":"#VALUE!"},0]
[{"$f":"PruebaChiCuadrado!B89","v":0},{"$f":"PruebaChiCuadrado!C89","v":0},"","",{"$error":"#VALUE!"},0]
[{"$f":"PruebaChiCuadrado!B90","v":0},{"$f":"PruebaChiCuadrado!C90","v":0},"","",{"$error":"#VALUE!"},0]
[{"$f":"PruebaChiCuadrado!B91","v":0},{"$f":"PruebaChiCuadrado!C91","v":0},"","",{"$error":"#VALUE!"},0]
[{"$f":"PruebaChiCuadrado!B92","v":0},{"$f":"PruebaChiCuadrado!C92","v":0},"","",{"$error":"#VALUE!"},0]
[{"$f":"PruebaChiCuadrado!B93","v":0},{"$f":"PruebaChiCuadrado!C93","v":0},"","",{"$error":"#VALUE!"},0]
[{"$f":"PruebaChiCuadrado!B94","v":0},{"$f":"PruebaChiCuadrado!C94","v":0},"","",{"$error":"#VALUE!"},0]
[{"$f":"PruebaChiCuadrado!B95","v":0},{"$f":"PruebaChiCuadrado!C95","v":0},"","",{"$error":"#VALUE!"},0]
[{"$f":"PruebaChiCuadrado!B96","v":0},{"$f":"PruebaChiCuadrado!C96","v":0},"","",{"$error":"#VALUE!"},0]
[{"$f":"PruebaChiCuadrado!B97","v":0},{"$f":"PruebaChiCuadrado!C97","v":0},"","",{"$error":"#VALUE!"},0]
[{"$f":"PruebaChiCuadrado!B98","v":0},{"$f":"PruebaChiCuadrado!C98","v":0},"","",{"$error":"#VALUE!"},0]
[{"$f":"PruebaChiCuadrado!B99","v":0},{"$f":"PruebaChiCuadrado!C99","v":0},"","",{"$error":"#VALUE!"},0]
[{"$f":"PruebaChiCuadrado!B100","v":0},{"$f":"PruebaChiCuadrado!C100","v":0},"","",{"$error":"#VALUE!"},0]
[{"$f":"PruebaChiCuadrado!B101","v":0},{"$f":"PruebaChiCuadrado!C101","v":0},"","",{"$error":"#VALUE!"},0]
[{"$f":"PruebaChiCuadrado!B102","v":0},{"$f":"PruebaChiCuadrado!C102","v":0},"","",{"$error":"#VALUE!"},0]
[{"$f":"PruebaChiCuadrado!B103","v":0},{"$f":"PruebaChiCuadrado!C103","v":0},"","",{"$error":"#VALUE!"},0]
[{"$f":"PruebaChiCuadrado!B104","v":0},{"$f":"PruebaChiCuadrado!C104","v":0},"","",{"$error":"#VALUE!"},0]
[{"$f":"PruebaChiCuadrado!B105","v":0},{"$f":"PruebaChiCuadrado!C105","v":0},"","",{"$error":"#VALUE!"},0]
[{"$f":"PruebaChiCuadrado!B106","v":0},{"$f":"PruebaChiCuadrado!C106","v":0},"","",{"$error":"#VALUE!"},0]
[{"$f":"PruebaChiCuadrado!B107","v":0},{"$f":"PruebaChiCuadrado!C107","v":0},"","",{"$error":"#VALUE!"},0]
[{"$f":"PruebaChiCuadrado!B108","v":0},{"$f":"PruebaChiCuadrado!C108","v":0},"","",{"$error":"#VALUE!"},0]
[{"$f":"PruebaChiCuadrado!B109","v":0},{"$f":"PruebaChiCuadrado!C109","v":0},"","",{"$error":"#VALUE!"},0]
[{"$f":"PruebaChiCuadrado!B110","v":0},{"$f":"PruebaChiCuadrado!C110","v":0},"","",{"$error":"#VALUE!"},0]
[{"$f":"PruebaChiCuadrado!B111","v":0},{"$f":"PruebaChiCuadrado!C111","v":0},"","",{"$error":"#VALUE!"},0]
[{"$f":"PruebaChiCuadrado!B112","v":0},{"$f":"PruebaChiCuadrado!C112","v":0},"","",{"$error":"#VALUE!"},0]
[{"$f":"PruebaChiCuadrado!B113","v":0},{"$f":"PruebaChiCuadrado!C113","v":0},"","",{"$error":"#VALUE!"},0]
[{"$f":"PruebaChiCuadrado!B114","v":0},{"$f":"PruebaChiCuadrado!C114","v":0},"","",{"$error":"#VALUE!"},0]
[{"$f":"PruebaChiCuadrado!B115","v":0},{"$f":"PruebaChiCuadrado!C115","v":0},"","",{"$error":"#VALUE!"},0]
[{"$f":"PruebaChiCuadrado!B116","v":0},{"$f":"PruebaChiCuadrado!C116","v":0},"","",{"$error":"#VALUE!"},0]
[{"$f":"PruebaChiCuadrado!B117","v":0},{"$f":"PruebaChiCuadrado!C117","v":0},"","",{"$error":"#VALUE!"},0]
[{"$f":"PruebaChiCuadrado!B118","v":0},{"$f":"PruebaChiCuadrado!C118","v":0},"","",{"$error":"#VALUE!"},0]
[{"$f":"PruebaChiCuadrado!B119","v":0},{"$f":"PruebaChiCuadrado!C119","v":0},"","",{"$error":"#VALUE!"},0]
[{"$f":"PruebaChiCuadrado!B120","v":0},{"$f":"PruebaChiCuadrado!C120","v":0},"","",{"$error":"#VALUE!"},0]
[{"$f":"PruebaChiCuadrado!B121","v":0},{"$f":"PruebaChiCuadrado!C121","v":0},"","",{"$error":"#VALUE!"},0]
[{"$f":"PruebaChiCuadrado!B122","v":0},{"$f":"PruebaChiCuadrado!C122","v":0},"","",{"$error":"#VALUE!"},0]
[{"$f":"PruebaChiCuadrado!B123","v":0},{"$f":"PruebaChiCuadrado!C123","v":0},"","",{"$error":"#VALUE!"},0]
[{"$f":"PruebaChiCuadrado!B124","v":0},{"$f":"PruebaChiCuadrado!C124","v":0},"","",{"$error":"#VALUE!"},0]
[{"$f":"PruebaChiCuadrado!B125","v":0},{"$f":"PruebaChiCuadrado!C125","v":0},"","",{"$error":"#VALUE!"},0]
[{"$f":"PruebaChiCuadrado!B126","v":0},{"$f":"PruebaChiCuadrado!C126","v":0},"","",{"$error":"#VALUE!"},0]
[{"$f":"PruebaChiCuadrado!B127","v":0},{"$f":"PruebaChiCuadrado!C127","v":0},"","",{"$error":"#VALUE!"},0]
[{"$f":"PruebaChiCuadrado!B128","v":0},{"$f":"PruebaChiCuadrado!C128","v":0},"","",{"$error":"#VALUE!"},0]
[{"$f":"PruebaChiCuadrado!B129","v":0},{"$f":"PruebaChiCuadrado!C129","v":0},"","",{"$error":"#VALUE!"},0]
[{"$f":"PruebaChiCuadrado!B130","v":0},{"$f":"PruebaChiCuadrado!C130","v":0},"","",{"$error":"#VALUE!"},0]
[{"$f":"PruebaChiCuadrado!B131","v":0},{"$f":"PruebaChiCuadrado!C131","v":0},"","",{"$error":"#VALUE!"},0]
[{"$f":"PruebaChiCuadrado!B132","v":0},{"$f":"PruebaChiCuadrado!C132","v":0},"","",{"$error":"#VALUE!"},0]
[{"$f":"PruebaChiCuadrado!B133","v":0},{"$f":"PruebaChiCuadrado!C133","v":0},"","",{"$error":"#VALUE!"},0]
[{"$f":"PruebaChiCuadrado!B134","v":0},{"$f":"PruebaChiCuadrado!C134","v":0},{"$f":"IF(A130<>0,A130,\"\")","v":""},"",{"$f":"(D130-$K$1)^2","v":{"$error":"#VALUE!"}},0]
[{"$f":"PruebaChiCuadrado!B135","v":0},{"$f":"PruebaChiCuadrado!C135","v":0},"","",{"$error":"#VALUE!"},0]
[{"$f":"PruebaChiCuadrado!B136","v":0},{"$f":"PruebaChiCuadrado!C136","v":0},"","",{"$error":"#VALUE!"},0]
[{"$f":"PruebaChiCuadrado!B137","v":0},{"$f":"PruebaChiCuadrado!C137","v":0},"","",{"$error":"#VALUE!"},{"$f":"IFERROR(E133,0)","v":0}]
[{"$f":"PruebaChiCuadrado!B138","v":0},{"$f":"PruebaChiCuadrado!C138","v":0},"","",{"$error":"#VALUE!"},0]
[{"$f":"PruebaChiCuadrado!B139","v":0},{"$f":"PruebaChiCuadrado!C139","v":0},"","",{"$error":"#VALUE!"},0]
[{"$f":"PruebaChiCuadrado!B140","v":0},{"$f":"PruebaChiCuadrado!C140","v":0},"","",{"$error":"#VALUE!"},0]
[{"$f":"PruebaChiCuadrado!B141","v":0},{"$f":"PruebaChiCuadrado!C141","v":0},"","",{"$error":"#VALUE!"},0]
[{"$f":"PruebaChiCuadrado!B142","v":0},{"$f":"PruebaChiCuadrado!C142","v":0},"","",{"$error":"#VALUE!"},0]
[{"$f":"PruebaChiCuadrado!B143","v":0},{"$f":"PruebaChiCuadrado!C143","v":0},"","",{"$error":"#VALUE!"},0]
[{"$f":"PruebaChiCuadrado!B144","v":0},{"$f":"PruebaChiCuadrado!C144","v":0},"","",{"$error":"#VALUE!"},0]
[{"$f":"PruebaChiCuadrado!B145","v":0},{"$f":"PruebaChiCuadrado!C145","v":0},"","",{"$error":"#VALUE!"},0]
[{"$f":"PruebaChiCuadrado!B146","v":0},{"$f":"PruebaChiCuadrado!C146","v":0},"","",{"$error":"#VALUE!"},0]
[{"$f":"PruebaChiCuadrado!B147","v":0},{"$f":"PruebaChiCuadrado!C147","v":0},"","",{"$error":"#VALUE!"},0]
[{"$f":"PruebaChiCuadrado!B148","v":0},{"$f":"PruebaChiCuadrado!C148","v":0},"","",{"$error":"#VALUE!"},0]
[{"$f":"PruebaChiCuadrado!B149","v":0},{"$f":"PruebaChiCuadrado!C149","v":0},"","",{"$error":"#VALUE!"},0]
[{"$f":"PruebaChiCuadrado!B150","v":0},{"$f":"PruebaChiCuadrado!C150","v":0},"","",{"$error":"#VALUE!"},0]
[{"$f":"PruebaChiCuadrado!B151","v":0},{"$f":"PruebaChiCuadrado!C151","v":0},"","",{"$error":"#VALUE!"},0]
[{"$f":"PruebaChiCuadrado!B152","v":0},{"$f":"PruebaChiCuadrado!C152","v":0},"","",{"$error":"#VALUE!"},0]
[{"$f":"PruebaChiCuadrado!B153","v":0},{"$f":"PruebaChiCuadrado!C153","v":0},"","",{"$error":"#VALUE!"},0]
[{"$f":"PruebaChiCuadrado!B154","v":0},{"$f":"PruebaChiCuadrado!C154","v":0},"","",{"$error":"#VALUE!"},0]
[{"$f":"PruebaChiCuadrado!B155","v":0},{"$f":"PruebaChiCuadrado!C155","v":0},"","",{"$error":"#VALUE!"},0]
[{"$f":"PruebaChiCuadrado!B156","v":0},{"$f":"PruebaChiCuadrado!C156","v":0},"","",{"$error":"#VALUE!"},0]
[{"$f":"PruebaChiCuadrado!B157","v":0},{"$f":"PruebaChiCuadrado!C157","v":0},"","",{"$error":"#VALUE!"},0]
[{"$f":"PruebaChiCuadrado!B158","v":0},{"$f":"PruebaChiCuadrado!C158","v":0},"","",{"$error":"#VALUE!"},0]
[{"$f":"PruebaChiCuadrado!B159","v":0},{"$f":"PruebaChiCuadrado!C159","v":0},"","",{"$error":"#VALUE!"},0]
[{"$f":"PruebaChiCuadrado!B160","v":0},{"$f":"PruebaChiCuadrado!C160","v":0},"","",{"$error":"#VALUE!"},0]
[{"$f":"PruebaChiCuadrado!B161","v":0},{"$f":"PruebaChiCuadrado!C161","v":0},"","",{"$error":"#VALUE!"},0]
[{"$f":"PruebaChiCuadrado!B162","v":0},{"$f":"PruebaChiCuadrado!C162","v":0},"","",{"$error":"#VALUE!"},0]
[{"$f":"PruebaChiCuadrado!B163","v":0},{"$f":"PruebaChiCuadrado!C163","v":0},"","",{"$error":"#VALUE!"},0]
[{"$f":"PruebaChiCuadrado!B164","v":0},{"$f":"PruebaChiCuadrado!C164","v":0},"","",{"$error":"#VALUE!"},0]
[{"$f":"PruebaChiCuadrado!B165","v":0},{"$f":"PruebaChiCuadrado!C165","v":0},"","",{"$error":"#VALUE!"},0]
[{"$f":"PruebaChiCuadrado!B166","v":0},{"$f":"PruebaChiCuadrado!C166","v":0},"","",{"$error":"#VALUE!"},0]
[{"$f":"PruebaChiCuadrado!B167","v":0},{"$f":"PruebaChiCuadrado!C167","v":0},"","",{"$error":"#VALUE!"},0]
[{"$f":"PruebaChiCuadrado!B168","v":0},{"$f":"PruebaChiCuadrado!C168","v":0},"","",{"$error":"#VALUE!"},0]
[{"$f":"PruebaChiCuadrado!B169","v":0},{"$f":"PruebaChiCuadrado!C169","v":0},"","",{"$error":"#VALUE!"},0]
[{"$f":"PruebaChiCuadrado!B170","v":0},{"$f":"PruebaChiCuadrado!C170","v":0},"","",{"$error":"#VALUE!"},0]
[{"$f":"PruebaChiCuadrado!B171","v":0},{"$f":"PruebaChiCuadrado!C171","v":0},"","",{"$error":"#VALUE!"},0]
[{"$f":"PruebaChiCuadrado!B172","v":0},{"$f":"PruebaChiCuadrado!C172","v":0},"","",{"$error":"#VALUE!"},0]
[{"$f":"PruebaChiCuadrado!B173","v":0},{"$f":"PruebaChiCuadrado!C173","v":0},"","",{"$error":"#VALUE!"},0]
[{"$f":"PruebaChiCuadrado!B174","v":0},{"$f":"PruebaChiCuadrado!C174","v":0},"","",{"$error":"#VALUE!"},0]
[{"$f":"PruebaChiCuadrado!B175","v":0},{"$f":"PruebaChiCuadrado!C175","v":0},"","",{"$error":"#VALUE!"},0]
[{"$f":"PruebaChiCuadrado!B176","v":0},{"$f":"PruebaChiCuadrado!C176","v":0},"","",{"$error":"#VALUE!"},0]
[{"$f":"PruebaChiCuadrado!B177","v":0},{"$f":"PruebaChiCuadrado!C177","v":0},"","",{"$error":"#VALUE!"},0]
[{"$f":"PruebaChiCuadrado!B178","v":0},{"$f":"PruebaChiCuadrado!C178","v":0},"","",{"$error":"#VALUE!"},0]
[{"$f":"PruebaChiCuadrado!B179","v":0},{"$f":"PruebaChiCuadrado!C179","v":0},"","",{"$error":"#VALUE!"},0]
[{"$f":"PruebaChiCuadrado!B180","v":0},{"$f":"PruebaChiCuadrado!C180","v":0},"","",{"$error":"#VALUE!"},0]
[{"$f":"PruebaChiCuadrado!B181","v":0},{"$f":"PruebaChiCuadrado!C181","v":0},"","",{"$error":"#VALUE!"},0]
[{"$f":"PruebaChiCuadrado!B182","v":0},{"$f":"PruebaChiCuadrado!C182","v":0},"","",{"$error":"#VALUE!"},0]
[{"$f":"PruebaChiCuadrado!B183","v":0},{"$f":"PruebaChiCuadrado!C183","v":0},"","",{"$error":"#VALUE!"},0]
[{"$f":"PruebaChiCuadrado!B184","v":0},{"$f":"PruebaChiCuadrado!C184","v":0},"","",{"$error":"#VALUE!"},0]
[{"$f":"PruebaChiCuadrado!B185","v":0},{"$f":"PruebaChiCuadrado!C185","v":0},"","",{"$error":"#VALUE!"},0]
[{"$f":"PruebaChiCuadrado!B186","v":0},{"$f":"PruebaChiCuadrado!C186","v":0},"","",{"$error":"#VALUE!"},0]
[{"$f":"PruebaChiCuadrado!B187","v":0},{"$f":"PruebaChiCuadrado!C187","v":0},"","",{"$error":"#VALUE!"},0]
[{"$f":"PruebaChiCuadrado!B188","v":0},{"$f":"PruebaChiCuadrado!C188","v":0},"","",{"$error":"#VALUE!"},0]
[{"$f":"PruebaChiCuadrado!B189","v":0},{"$f":"PruebaChiCuadrado!C189","v":0},"","",{"$error":"#VALUE!"},0]
[{"$f":"PruebaChiCuadrado!B190","v":0},{"$f":"PruebaChiCuadrado!C190","v":0},"","",{"$error":"#VALUE!"},0]
[{"$f":"PruebaChiCuadrado!B191","v":0},{"$f":"PruebaChiCuadrado!C191","v":0},"","",{"$error":"#VALUE!"},0]
[{"$f":"PruebaChiCuadrado!B192","v":0},{"$f":"PruebaChiCuadrado!C192","v":0},"","",{"$error":"#VALUE!"},0]
[{"$f":"PruebaChiCuadrado!B193","v":0},{"$f":"PruebaChiCuadrado!C193","v":0},"","",{"$error":"#VALUE!"},0]
[{"$f":"PruebaChiCuadrado!B194","v":0},{"$f":"PruebaChiCuadrado!C194","v":0},"","",{"$error":"#VALUE!"},0]
[{"$f":"PruebaChiCuadrado!B195","v":0},{"$f":"PruebaChiCuadrado!C195","v":0},"","",{"$error":"#VALUE!"},0]
[{"$f":"PruebaChiCuadrado!B196","v":0},{"$f":"PruebaChiCuadrado!C196","v":0},"","",{"$error":"#VALUE!"},0]
[{"$f":"PruebaChiCuadrado!B197","v":0},{"$f":"PruebaChiCuadrado!C197","v":0},"","",{"$error":"#VALUE!"},0]
[{"$f":"PruebaChiCuadrado!B198","v":0},{"$f":"PruebaChiCuadrado!C198","v":0},{"$f":"IF(A194<>0,A194,\"\")","v":""},"",{"$f":"(D194-$K$1)^2","v":{"$error":"#VALUE!"}},0]
[{"$f":"PruebaChiCuadrado!B199","v":0},{"$f":"PruebaChiCuadrado!C199","v":0},"","",{"$error":"#VALUE!"},0]
[{"$f":"PruebaChiCuadrado!B200","v":0},{"$f":"PruebaChiCuadrado!C200","v":0},"","",{"$error":"#VALUE!"},0]
[{"$f":"PruebaChiCuadrado!B201","v":0},{"$f":"PruebaChiCuadrado!C201","v":0},"","",{"$error":"#VALUE!"},{"$f":"IFERROR(E197,0)","v":0}]
[{"$f":"PruebaChiCuadrado!B202","v":0},{"$f":"PruebaChiCuadrado!C202","v":0},"","",{"$error":"#VALUE!"},0]
[{"$f":"PruebaChiCuadrado!B203","v":0},{"$f":"PruebaChiCuadrado!C203","v":0},"","",{"$error":"#VALUE!"},0]
[{"$f":"PruebaChiCuadrado!B204","v":0},{"$f":"PruebaChiCuadrado!C204","v":0},"","",{"$error":"#VALUE!"},0]
[{"$f":"PruebaChiCuadrado!B205","v":0},{"$f":"PruebaChiCuadrado!C205","v":0},"","",{"$error":"#VALUE!"},0]
[{"$f":"PruebaChiCuadrado!B206","v":0},{"$f":"PruebaChiCuadrado!C206","v":0},"","",{"$error":"#VALUE!"},0]
[{"$f":"PruebaChiCuadrado!B207","v":0},{"$f":"PruebaChiCuadrado!C207","v":0},"","",{"$error":"#VALUE!"},0]
[{"$f":"PruebaChiCuadrado!B208","v":0},{"$f":"PruebaChiCuadrado!C208","v":0},"","",{"$error":"#VALUE!"},0]
[{"$f":"PruebaChiCuadrado!B209","v":0},{"$f":"PruebaChiCuadrado!C209","v":0},"","",{"$error":"#VALUE!"},0]
[{"$f":"PruebaChiCuadrado!B210","v":0},{"$f":"PruebaChiCuadrado!C210","v":0},"","",{"$error":"#VALUE!"},0]
[{"$f":"PruebaChiCuadrado!B211","v":0},{"$f":"PruebaChiCuadrado!C211","v":0},"","",{"$error":"#VALUE!"},0]
[{"$f":"PruebaChiCuadrado!B212","v":0},{"$f":"PruebaChiCuadrado!C212","v":0},"","",{"$error":"#VALUE!"},0]
[{"$f":"PruebaChiCuadrado!B213","v":0},{"$f":"PruebaChiCuadrado!C213","v":0},"","",{"$error":"#VALUE!"},0]
[{"$f":"PruebaChiCuadrado!B214","v":0},{"$f":"PruebaChiCuadrado!C214","v":0},"","",{"$error":"#VALUE!"},0]
[{"$f":"PruebaChiCuadrado!B215","v":0},{"$f":"PruebaChiCuadrado!C215","v":0},"","",{"$error":"#VALUE!"},0]
[{"$f":"PruebaChiCuadrado!B216","v":0},{"$f":"PruebaChiCuadrado!C216","v":0},"","",{"$error":"#VALUE!"},0]
[{"$f":"PruebaChiCuadrado!B217","v":0},{"$f":"PruebaChiCuadrado!C217","v":0},"","",{"$error":"#VALUE!"},0]
[{"$f":"PruebaChiCuadrado!B218","v":0},{"$f":"PruebaChiCuadrado!C218","v":0},"","",{"$error":"#VALUE!"},0]
[{"$f":"PruebaChiCuadrado!B219","v":0},{"$f":"PruebaChiCuadrado!C219","v":0},"","",{"$error":"#VALUE!"},0]
[{"$f":"PruebaChiCuadrado!B220","v":0},{"$f":"PruebaChiCuadrado!C220","v":0},"","",{"$error":"#VALUE!"},0]
[{"$f":"PruebaChiCuadrado!B221","v":0},{"$f":"PruebaChiCuadrado!C221","v":0},"","",{"$error":"#VALUE!"},0]
[{"$f":"PruebaChiCuadrado!B222","v":0},{"$f":"PruebaChiCuadrado!C222","v":0},"","",{"$error":"#VALUE!"},0]
[{"$f":"PruebaChiCuadrado!B223","v":0},{"$f":"PruebaChiCuadrado!C223","v":0},"","",{"$error":"#VALUE!"},0]
[{"$f":"PruebaChiCuadrado!B224","v":0},{"$f":"PruebaChiCuadrado!C224","v":0},"","",{"$error":"#VALUE!"},0]
[{"$f":"PruebaChiCuadrado!B225","v":0},{"$f":"PruebaChiCuadrado!C225","v":0},"","",{"$error":"#VALUE!"},0]
[{"$f":"PruebaChiCuadrado!B226","v":0},{"$f":"PruebaChiCuadrado!C226","v":0},"","",{"$error":"#VALUE!"},0]
[{"$f":"PruebaChiCuadrado!B227","v":0},{"$f":"PruebaChiCuadrado!C227","v":0},"","",{"$error":"#VALUE!"},0]
[{"$f":"PruebaChiCuadrado!B228","v":0},{"$f":"PruebaChiCuadrado!C228","v":0},"","",{"$error":"#VALUE!"},0]
[{"$f":"PruebaChiCuadrado!B229","v":0},{"$f":"PruebaChiCuadrado!C229","v":0},"","",{"$error":"#VALUE!"},0]
[{"$f":"PruebaChiCuadrado!B230","v":0},{"$f":"PruebaChiCuadrado!C230","v":0},"","",{"$error":"#VALUE!"},0]
[{"$f":"PruebaChiCuadrado!B231","v":0},{"$f":"PruebaChiCuadrado!C231","v":0},"","",{"$error":"#VALUE!"},0]
[{"$f":"PruebaChiCuadrado!B232","v":0},{"$f":"PruebaChiCuadrado!C232","v":0},"","",{"$error":"#VALUE!"},0]
[{"$f":"PruebaChiCuadrado!B233","v":0},{"$f":"PruebaChiCuadrado!C233","v":0},"","",{"$error":"#VALUE!"},0]
[{"$f":"PruebaChiCuadrado!B234","v":0},{"$f":"PruebaChiCuadrado!C234","v":0},"","",{"$error":"#VALUE!"},0]
[{"$f":"PruebaChiCuadrado!B235","v":0},{"$f":"PruebaChiCuadrado!C235","v":0},"","",{"$error":"#VALUE!"},0]
[{"$f":"PruebaChiCuadrado!B236","v":0},{"$f":"PruebaChiCuadrado!C236","v":0},"","",{"$error":"#VALUE!"},0]
[{"$f":"PruebaChiCuadrado!B237","v":0},{"$f":"PruebaChiCuadrado!C237","v":0},"","",{"$error":"#VALUE!"},0]
[{"$f":"PruebaChiCuadrado!B238","v":0},{"$f":"PruebaChiCuadrado!C238","v":0},"","",{"$error":"#VALUE!"},0]
[{"$f":"PruebaChiCuadrado!B239","v":0},{"$f":"PruebaChiCuadrado!C239","v":0},"","",{"$error":"#VALUE!"},0]
[{"$f":"PruebaChiCuadrado!B240","v":0},{"$f":"PruebaChiCuadrado!C240","v":0},"","",{"$error":"#VALUE!"},0]
[{"$f":"PruebaChiCuadrado!B241","v":0},{"$f":"PruebaChiCuadrado!C241","v":0},"","",{"$error":"#VALUE!"},0]
[{"$f":"PruebaChiCuadrado!B242","v":0},{"$f":"PruebaChiCuadrado!C242","v":0},"","",{"$error":"#VALUE!"},0]
[{"$f":"PruebaChiCuadrado!B243","v":0},{"$f":"PruebaChiCuadrado!C243","v":0},"","",{"$error":"#VALUE!"},0]
[{"$f":"PruebaChiCuadrado!B244","v":0},{"$f":"PruebaChiCuadrado!C244","v":0},"","",{"$error":"#VALUE!"},0]
[{"$f":"PruebaChiCuadrado!B245","v":0},{"$f":"PruebaChiCuadrado!C245","v":0},"","",{"$error":"#VALUE!"},0]
[{"$f":"PruebaChiCuadrado!B246","v":0},{"$f":"PruebaChiCuadrado!C246","v":0},"","",{"$error":"#VALUE!"},0]
[{"$f":"PruebaChiCuadrado!B247","v":0},{"$f":"PruebaChiCuadrado!C247","v":0},"","",{"$error":"#VALUE!"},0]
[{"$f":"PruebaChiCuadrado!B248","v":0},{"$f":"PruebaChiCuadrado!C248","v":0},"","",{"$error":"#VALUE!"},0]
[{"$f":"PruebaChiCuadrado!B249","v":0},{"$f":"PruebaChiCuadrado!C249","v":0},"","",{"$error":"#VALUE!"},0]
[{"$f":"PruebaChiCuadrado!B250","v":0},{"$f":"PruebaChiCuadrado!C250","v":0},"","",{"$error":"#VALUE!"},0]
[{"$f":"PruebaChiCuadrado!B251","v":0},{"$f":"PruebaChiCuadrado!C251","v":0},"","",{"$error":"#VALUE!"},0]
[{"$f":"PruebaChiCuadrado!B252","v":0},{"$f":"PruebaChiCuadrado!C252","v":0},"","",{"$error":"#VALUE!"},0]
[{"$f":"PruebaChiCuadrado!B253","v":0},{"$f":"PruebaChiCuadrado!C253","v":0},"","",{"$error":"#VALUE!"},0]
[{"$f":"PruebaChiCuadrado!B254","v":0},{"$f":"PruebaChiCuadrado!C254","v":0},"","",{"$error":"#VALUE!"},0]
[{"$f":"PruebaChiCuadrado!B255","v":0},{"$f":"PruebaChiCuadrado!C255","v":0},"","",{"$error":"#VALUE!"},0]
[{"$f":"PruebaChiCuadrado!B256","v":0},{"$f":"PruebaChiCuadrado!C256","v":0},"","",{"$error":"#VALUE!"},0]
[{"$f":"PruebaChiCuadrado!B257","v":0},{"$f":"PruebaChiCuadrado!C257","v":0},"","",{"$error":"#VALUE!"},0]
[{"$f":"PruebaChiCuadrado!B258","v":0},{"$f":"PruebaChiCuadrado!C258","v":0},"","",{"$error":"#VALUE!"},0]
[{"$f":"PruebaChiCuadrado!B259","v":0},{"$f":"PruebaChiCuadrado!C259","v":0},"","",{"$error":"#VALUE!"},0]
[{"$f":"PruebaChiCuadrado!B260","v":0},{"$f":"PruebaChiCuadrado!C260","v":0},"","",{"$error":"#VALUE!"},0]
[{"$f":"PruebaChiCuadrado!B261","v":0},{"$f":"PruebaChiCuadrado!C261","v":0},"","",{"$error":"#VALUE!"},0]
[{"$f":"PruebaChiCuadrado!B262","v":0},{"$f":"PruebaChiCuadrado!C262","v":0},{"$f":"IF(A258<>0,A258,\"\")","v":""},"",{"$f":"(D258-$K$1)^2","v":{"$error":"#VALUE!"}},0]
[{"$f":"PruebaChiCuadrado!B263","v":0},{"$f":"PruebaChiCuadrado!C263","v":0},"","",{"$error":"#VALUE!"},0]
[{"$f":"PruebaChiCuadrado!B264","v":0},{"$f":"PruebaChiCuadrado!C264","v":0},"","",{"$error":"#VALUE!"},0]
[{"$f":"PruebaChiCuadrado!B265","v":0},{"$f":"PruebaChiCuadrado!C265","v":0},"","",{"$error":"#VALUE!"},{"$f":"IFERROR(E261,0)","v":0}]
[{"$f":"PruebaChiCuadrado!B266","v":0},{"$f":"PruebaChiCuadrado!C266","v":0},"","",{"$error":"#VALUE!"},0]
[{"$f":"PruebaChiCuadrado!B267","v":0},{"$f":"PruebaChiCuadrado!C267","v":0},"","",{"$error":"#VALUE!"},0]
[{"$f":"PruebaChiCuadrado!B268","v":0},{"$f":"PruebaChiCuadrado!C268","v":0},"","",{"$error":"#VALUE!"},0]
[{"$f":"PruebaChiCuadrado!B269","v":0},{"$f":"PruebaChiCuadrado!C269","v":0},"","",{"$error":"#VALUE!"},0]
[{"$f":"PruebaChiCuadrado!B270","v":0},{"$f":"PruebaChiCuadrado!C270","v":0},"","",{"$error":"#VALUE!"},0]
[{"$f":"PruebaChiCuadrado!B271","v":0},{"$f":"PruebaChiCuadrado!C271","v":0},"","",{"$error":"#VALUE!"},0]
[{"$f":"PruebaChiCuadrado!B272","v":0},{"$f":"PruebaChiCuadrado!C272","v":0},"","",{"$error":"#VALUE!"},0]
[{"$f":"PruebaChiCuadrado!B273","v":0},{"$f":"PruebaChiCuadrado!C273","v":0},"","",{"$error":"#VALUE!"},0]
[{"$f":"PruebaChiCuadrado!B274","v":0},{"$f":"PruebaChiCuadrado!C274","v":0},"","",{"$error":"#VALUE!"},0]
[{"$f":"PruebaChiCuadrado!B275","v":0},{"$f":"PruebaChiCuadrado!C275","v":0},"","",{"$error":"#VALUE!"},0]
[{"$f":"PruebaChiCuadrado!B276","v":0},{"$f":"PruebaChiCuadrado!C276","v":0},"","",{"$error":"#VALUE!"},0]
[{"$f":"PruebaChiCuadrado!B277","v":0},{"$f":"PruebaChiCuadrado!C277","v":0},"","",{"$error":"#VALUE!"},0]
[{"$f":"PruebaChiCuadrado!B278","v":0},{"$f":"PruebaChiCuadrado!C278","v":0},"","",{"$error":"#VALUE!"},0]
[{"$f":"PruebaChiCuadrado!B279","v":0},{"$f":"PruebaChiCuadrado!C279","v":0},"","",{"$error":"#VALUE!"},0]
[{"$f":"PruebaChiCuadrado!B280","v":0},{"$f":"PruebaChiCuadrado!C280","v":0},"","",{"$error":"#VALUE!"},0]
[{"$f":"PruebaChiCuadrado!B281","v":0},{"$f":"PruebaChiCuadrado!C281","v":0},"","",{"$error":"#VALUE!"},0]
[{"$f":"PruebaChiCuadrado!B282","v":0},{"$f":"PruebaChiCuadrado!C282","v":0},"","",{"$error":"#VALUE!"},0]
[{"$f":"PruebaChiCuadrado!B283","v":0},{"$f":"PruebaChiCuadrado!C283","v":0},"","",{"$error":"#VALUE!"},0]
[{"$f":"PruebaChiCuadrado!B284","v":0},{"$f":"PruebaChiCuadrado!C284","v":0},"","",{"$error":"#VALUE!"},0]
[{"$f":"PruebaChiCuadrado!B285","v":0},{"$f":"PruebaChiCuadrado!C285","v":0},"","",{"$error":"#VALUE!"},0]
[{"$f":"PruebaChiCuadrado!B286","v":0},{"$f":"PruebaChiCuadrado!C286","v":0},"","",{"$error":"#VALUE!"},0]
[{"$f":"PruebaChiCuadrado!B287","v":0},{"$f":"PruebaChiCuadrado!C287","v":0},"","",{"$error":"#VALUE!"},0]
[{"$f":"PruebaChiCuadrado!B288","v":0},{"$f":"PruebaChiCuadrado!C288","v":0},"","",{"$error":"#VALUE!"},0]
[{"$f":"PruebaChiCuadrado!B289","v":0},{"$f":"PruebaChiCuadrado!C289","v":0},"","",{"$error":"#VALUE!"},0]
[{"$f":"PruebaChiCuadrado!B290","v":0},{"$f":"PruebaChiCuadrado!C290","v":0},"","",{"$error":"#VALUE!"},0]
[{"$f":"PruebaChiCuadrado!B291","v":0},{"$f":"PruebaChiCuadrado!C291","v":0},"","",{"$error":"#VALUE!"},0]
[{"$f":"PruebaChiCuadrado!B292","v":0},{"$f":"PruebaChiCuadrado!C292","v":0},"","",{"$error":"#VALUE!"},0]
[{"$f":"PruebaChiCuadrado!B293","v":0},{"$f":"PruebaChiCuadrado!C293","v":0},"","",{"$error":"#VALUE!"},0]
[{"$f":"PruebaChiCuadrado!B294","v":0},{"$f":"PruebaChiCuadrado!C294","v":0},"","",{"$error":"#VALUE!"},0]
[{"$f":"PruebaChiCuadrado!B295","v":0},{"$f":"PruebaChiCuadrado!C295","v":0},"","",{"$error":"#VALUE!"},0]
[{"$f":"PruebaChiCuadrado!B296","v":0},{"$f":"PruebaChiCuadrado!C296","v":0},"","",{"$error":"#VALUE!"},0]
[{"$f":"PruebaChiCuadrado!B297","v":0},{"$f":"PruebaChiCuadrado!C297","v":0},"","",{"$error":"#VALUE!"},0]
[{"$f":"PruebaChiCuadrado!B298","v":0},{"$f":"PruebaChiCuadrado!C298","v":0},"","",{"$error":"#VALUE!"},0]
[{"$f":"PruebaChiCuadrado!B299","v":0},{"$f":"PruebaChiCuadrado!C299","v":0},"","",{"$error":"#VALUE!"},0]
[{"$f":"PruebaChiCuadrado!B300","v":0},{"$f":"PruebaChiCuadrado!C300","v":0},"","",{"$error":"#VALUE!"},0]
[{"$f":"PruebaChiCuadrado!B301","v":0},{"$f":"PruebaChiCuadrado!C301","v":0},"","",{"$error":"#VALUE!"},0]
[{"$f":"PruebaChiCuadrado!B302","v":0},{"$f":"PruebaChiCuadrado!C302","v":0},"","",{"$error":"#VALUE!"},0]
[{"$f":"PruebaChiCuadrado!B303","v":0},{"$f":"PruebaChiCuadrado!C303","v":0},"","",{"$error":"#VALUE!"},0]
[{"$f":"PruebaChiCuadrado!B304","v":0},{"$f":"PruebaChiCuadrado!C304","v":0},"","",{"$error":"#VALUE!"},0]
[{"$f":"PruebaChiCuadrado!B305","v":0},{"$f":"PruebaChiCuadrado!C305","v":0},"","",{"$error":"#VALUE!"},0]
[{"$f":"PruebaChiCuadrado!B306","v":0},{"$f":"PruebaChiCuadrado!C306","v":0},"","",{"$error":"#VALUE!"},0]
[{"$f":"PruebaChiCuadrado!B307","v":0},{"$f":"PruebaChiCuadrado!C307","v":0},"","",{"$error":"#VALUE!"},0]
[{"$f":"PruebaChiCuadrado!B308","v":0},{"$f":"PruebaChiCuadrado!C308","v":0},"","",{"$error":"#VALUE!"},0]
[{"$f":"PruebaChiCuadrado!B309","v":0},{"$f":"PruebaChiCuadrado!C309","v":0},"","",{"$error":"#VALUE!"},0]
[{"$f":"PruebaChiCuadrado!B310","v":0},{"$f":"PruebaChiCuadrado!C310","v":0},"","",{"$error":"#VALUE!"},0]
[{"$f":"PruebaChiCuadrado!B311","v":0},{"$f":"PruebaChiCuadrado!C311","v":0},"","",{"$error":"#VALUE!"},0]
[{"$f":"PruebaChiCuadrado!B312","v":0},{"$f":"PruebaChiCuadrado!C312","v":0},"","",{"$error":"#VALUE!"},0]
[{"$f":"PruebaChiCuadrado!B313","v":0},{"$f":"PruebaChiCuadrado!C313","v":0},"","",{"$error":"#VALUE!"},0]
[{"$f":"PruebaChiCuadrado!B314","v":0},{"$f":"PruebaChiCuadrado!C314","v":0},"","",{"$error":"#VALUE!"},0]
[{"$f":"PruebaChiCuadrado!B315","v":0},{"$f":"PruebaChiCuadrado!C315","v":0},"","",{"$error":"#VALUE!"},0]
[{"$f":"PruebaChiCuadrado!B316","v":0},{"$f":"PruebaChiCuadrado!C316","v":0},"","",{"$error":"#VALUE!"},0]
[{"$f":"PruebaChiCuadrado!B317","v":0},{"$f":"PruebaChiCuadrado!C317","v":0},"","",{"$error":"#VALUE!"},0]
[{"$f":"PruebaChiCuadrado!B318","v":0},{"$f":"PruebaChiCuadrado!C318","v":0},"","",{"$error":"#VALUE!"},0]
[{"$f":"PruebaChiCuadrado!B319","v":0},{"$f":"PruebaChiCuadrado!C319","v":0},"","",{"$error":"#VALUE!"},0]
[{"$f":"PruebaChiCuadrado!B320","v":0},{"$f":"PruebaChiCuadrado!C320","v":0},"","",{"$error":"#VALUE!"},0]
[{"$f":"PruebaChiCuadrado!B321","v":0},{"$f":"PruebaChiCuadrado!C321","v":0},"","",{"$error":"#VALUE!"},0]
[{"$f":"PruebaChiCuadrado!B322","v":0},{"$f":"PruebaChiCuadrado!C322","v":0},"","",{"$error":"#VALUE!"},0]
[{"$f":"PruebaChiCuadrado!B323","v":0},{"$f":"PruebaChiCuadrado!C323","v":0},"","",{"$error":"#VALUE!"},0]
[{"$f":"PruebaChiCuadrado!B324","v":0},{"$f":"PruebaChiCuadrado!C324","v":0},"","",{"$error":"#VALUE!"},0]
[{"$f":"PruebaChiCuadrado!B325","v":0},{"$f":"PruebaChiCuadrado!C325","v":0},"","",{"$error":"#VALUE!"},0]
[{"$f":"PruebaChiCuadrado!B326","v":0},{"$f":"PruebaChiCuadrado!C326","v":0},{"$f":"IF(A322<>0,A322,\"\")","v":""},"",{"$f":"(D322-$K$1)^2","v":{"$error":"#VALUE!"}},0]
[{"$f":"PruebaChiCuadrado!B327","v":0},{"$f":"PruebaChiCuadrado!C327","v":0},"","",{"$error":"#VALUE!"},0]
[{"$f":"PruebaChiCuadrado!B328","v":0},{"$f":"PruebaChiCuadrado!C328","v":0},"","",{"$error":"#VALUE!"},0]
[{"$f":"PruebaChiCuadrado!B329","v":0},{"$f":"PruebaChiCuadrado!C329","v":0},"","",{"$error":"#VALUE!"},{"$f":"IFERROR(E325,0)","v":0}]
[{"$f":"PruebaChiCuadrado!B330","v":0},{"$f":"PruebaChiCuadrado!C330","v":0},"","",{"$error":"#VALUE!"},0]
[{"$f":"PruebaChiCuadrado!B331","v":0},{"$f":"PruebaChiCuadrado!C331","v":0},"","",{"$error":"#VALUE!"},0]
[{"$f":"PruebaChiCuadrado!B332","v":0},{"$f":"PruebaChiCuadrado!C332","v":0},"","",{"$error":"#VALUE!"},0]
[{"$f":"PruebaChiCuadrado!B333","v":0},{"$f":"PruebaChiCuadrado!C333","v":0},"","",{"$error":"#VALUE!"},0]
[{"$f":"PruebaChiCuadrado!B334","v":0},{"$f":"PruebaChiCuadrado!C334","v":0},"","",{"$error":"#VALUE!"},0]
[{"$f":"PruebaChiCuadrado!B335","v":0},{"$f":"PruebaChiCuadrado!C335","v":0},"","",{"$error":"#VALUE!"},0]
[{"$f":"PruebaChiCuadrado!B336","v":0},{"$f":"PruebaChiCuadrado!C336","v":0},"","",{"$error":"#VALUE!"},0]
[{"$f":"PruebaChiCuadrado!B337","v":0},{"$f":"PruebaChiCuadrado!C337","v":0},"","",{"$error":"#VALUE!"},0]
[{"$f":"PruebaChiCuadrado!B338","v":0},{"$f":"PruebaChiCuadrado!C338","v":0},"","",{"$error":"#VALUE!"},0]
[{"$f":"PruebaChiCuadrado!B339","v":0},{"$f":"PruebaChiCuadrado!C339","v":0},"","",{"$error":"#VALUE!"},0]
[{"$f":"PruebaChiCuadrado!B340","v":0},{"$f":"PruebaChiCuadrado!C340","v":0},"","",{"$error":"#VALUE!"},0]
[{"$f":"PruebaChiCuadrado!B341","v":0},{"$f":"PruebaChiCuadrado!C341","v":0},"","",{"$error":"#VALUE!"},0]
[{"$f":"PruebaChiCuadrado!B342","v":0},{"$f":"PruebaChiCuadrado!C342","v":0},"","",{"$error":"#VALUE!"},0]
[{"$f":"PruebaChiCuadrado!B343","v":0},{"$f":"PruebaChiCuadrado!C343","v":0},"","",{"$error":"#VALUE!"},0]
[{"$f":"PruebaChiCuadrado!B344","v":0},{"$f":"PruebaChiCuadrado!C344","v":0},"","",{"$error":"#VALUE!"},0]
[{"$f":"PruebaChiCuadrado!B345","v":0},{"$f":"PruebaChiCuadrado!C345","v":0},"","",{"$error":"#VALUE!"},0]
[{"$f":"PruebaChiCuadrado!B346","v":0},{"$f":"PruebaChiCuadrado!C346","v":0},"","",{"$error":"#VALUE!"},0]
[{"$f":"PruebaChiCuadrado!B347","v":0},{"$f":"PruebaChiCuadrado!C347","v":0},"","",{"$error":"#VALUE!"},0]
[{"$f":"PruebaChiCuadrado!B348","v":0},{"$f":"PruebaChiCuadrado!C348","v":0},"","",{"$error":"#VALUE!"},0]
[{"$f":"PruebaChiCuadrado!B349","v":0},{"$f":"PruebaChiCuadrado!C349","v":0},"","",{"$error":"#VALUE!"},0]
[{"$f":"PruebaChiCuadrado!B350","v":0},{"$f":"PruebaChiCuadrado!C350","v":0},"","",{"$error":"#VALUE!"},0]
[{"$f":"PruebaChiCuadrado!B351","v":0},{"$f":"PruebaChiCuadrado!C351","v":0},"","",{"$error":"#VALUE!"},0]
[{"$f":"PruebaChiCuadrado!B352","v":0},{"$f":"PruebaChiCuadrado!C352","v":0},"","",{"$error":"#VALUE!"},0]
[{"$f":"PruebaChiCuadrado!B353","v":0},{"$f":"PruebaChiCuadrado!C353","v":0},"","",{"$error":"#VALUE!"},0]
[{"$f":"PruebaChiCuadrado!B354","v":0},{"$f":"PruebaChiCuadrado!C354","v":0},"","",{"$error":"#VALUE!"},0]
[{"$f":"PruebaChiCuadrado!B355","v":0},{"$f":"PruebaChiCuadrado!C355","v":0},"","",{"$error":"#VALUE!"},0]
[{"$f":"PruebaChiCuadrado!B356","v":0},{"$f":"PruebaChiCuadrado!C356","v":0},"","",{"$error":"#VALUE!"},0]
[{"$f":"PruebaChiCuadrado!B357","v":0},{"$f":"PruebaChiCuadrado!C357","v":0},"","",{"$error":"#VALUE!"},0]
[{"$f":"PruebaChiCuadrado!B358","v":0},{"$f":"PruebaChiCuadrado!C358","v":0},"","",{"$error":"#VALUE!"},0]
[{"$f":"PruebaChiCuadrado!B359","v":0},{"$f":"PruebaChiCuadrado!C359","v":0},"","",{"$error":"#VALUE!"},0]
[{"$f":"PruebaChiCuadrado!B360","v":0},{"$f":"PruebaChiCuadrado!C360","v":0},"","",{"$error":"#VALUE!"},0]
[{"$f":"PruebaChiCuadrado!B361","v":0},{"$f":"PruebaChiCuadrado!C361","v":0},"","",{"$error":"#VALUE!"},0]
[{"$f":"PruebaChiCuadrado!B362","v":0},{"$f":"PruebaChiCuadrado!C362","v":0},"","",{"$error":"#VALUE!"},0]
[{"$f":"PruebaChiCuadrado!B363","v":0},{"$f":"PruebaChiCuadrado!C363","v":0},"","",{"$error":"#VALUE!"},0]
[{"$f":"PruebaChiCuadrado!B364","v":0},{"$f":"PruebaChiCuadrado!C364","v":0},"","",{"$error":"#VALUE!"},0]
[{"$f":"PruebaChiCuadrado!B365","v":0},{"$f":"PruebaChiCuadrado!C365","v":0},"","",{"$error":"#VALUE!"},0]
[{"$f":"PruebaChiCuadrado!B366","v":0},{"$f":"PruebaChiCuadrado!C366","v":0},"","",{"$error":"#VALUE!"},0]
[{"$f":"PruebaChiCuadrado!B367","v":0},{"$f":"PruebaChiCuadrado!C367","v":0},"","",{"$error":"#VALUE!"},0]
[{"$f":"PruebaChiCuadrado!B368","v":0},{"$f":"PruebaChiCuadrado!C368","v":0},"","",{"$error":"#VALUE!"},0]
[{"$f":"PruebaChiCuadrado!B369","v":0},{"$f":"PruebaChiCuadrado!C369","v":0},"","",{"$error":"#VALUE!"},0]
[{"$f":"PruebaChiCuadrado!B370","v":0},{"$f":"PruebaChiCuadrado!C370","v":0},"","",{"$error":"#VALUE!"},0]
[{"$f":"PruebaChiCuadrado!B371","v":0},{"$f":"PruebaChiCuadrado!C371","v":0},"","",{"$error":"#VALUE!"},0]
[{"$f":"PruebaChiCuadrado!B372","v":0},{"$f":"PruebaChiCuadrado!C372","v":0},"","",{"$error":"#VALUE!"},0]
[{"$f":"PruebaChiCuadrado!B373","v":0},{"$f":"PruebaChiCuadrado!C373","v":0},"","",{"$error":"#VALUE!"},0]
[{"$f":"PruebaChiCuadrado!B374","v":0},{"$f":"PruebaChiCuadrado!C374","v":0},"","",{"$error":"#VALUE!"},0]
[{"$f":"PruebaChiCuadrado!B375","v":0},{"$f":"PruebaChiCuadrado!C375","v":0},"","",{"$error":"#VALUE!"},0]
[{"$f":"PruebaChiCuadrado!B376","v":0},{"$f":"PruebaChiCuadrado!C376","v":0},"","",{"$error":"#VALUE!"},0]
[{"$f":"PruebaChiCuadrado!B377","v":0},{"$f":"PruebaChiCuadrado!C377","v":0},"","",{"$error":"#VALUE!"},0]
[{"$f":"PruebaChiCuadrado!B378","v":0},{"$f":"PruebaChiCuadrado!C378","v":0},"","",{"$error":"#VALUE!"},0]
[{"$f":"PruebaChiCuadrado!B379","v":0},{"$f":"PruebaChiCuadrado!C379","v":0},"","",{"$error":"#VALUE!"},0]
[{"$f":"PruebaChiCuadrado!B380","v":0},{"$f":"PruebaChiCuadrado!C380","v":0},"","",{"$error":"#VALUE!"},0]
[{"$f":"PruebaChiCuadrado!B381","v":0},{"$f":"PruebaChiCuadrado!C381","v":0},"","",{"$error":"#VALUE!"},0]
[{"$f":"PruebaChiCuadrado!B382","v":0},{"$f":"PruebaChiCuadrado!C382","v":0},"","",{"$error":"#VALUE!"},0]
[{"$f":"PruebaChiCuadrado!B383","v":0},{"$f":"PruebaChiCuadrado!C383","v":0},"","",{"$error":"#VALUE!"},0]
[{"$f":"PruebaChiCuadrado!B384","v":0},{"$f":"PruebaChiCuadrado!C384","v":0},"","",{"$error":"#VALUE!"},0]
[{"$f":"PruebaChiCuadrado!B385","v":0},{"$f":"PruebaChiCuadrado!C385","v":0},"","",{"$error":"#VALUE!"},0]
[{"$f":"PruebaChiCuadrado!B386","v":0},{"$f":"PruebaChiCuadrado!C386","v":0},"","",{"$error":"#VALUE!"},0]
[{"$f":"PruebaChiCuadrado!B387","v":0},{"$f":"PruebaChiCuadrado!C387","v":0},"","",{"$error":"#VALUE!"},0]
[{"$f":"PruebaChiCuadrado!B388","v":0},{"$f":"PruebaChiCuadrado!C388","v":0},"","",{"$error":"#VALUE!"},0]
[{"$f":"PruebaChiCuadrado!B389","v":0},{"$f":"PruebaChiCuadrado!C389","v":0},"","",{"$error":"#VALUE!"},0]
[{"$f":"PruebaChiCuadrado!B390","v":0},{"$f":"PruebaChiCuadrado!C390","v":0},{"$f":"IF(A386<>0,A386,\"\")","v":""},"",{"$f":"(D386-$K$1)^2","v":{"$error":"#VALUE!"}},0]
[{"$f":"PruebaChiCuadrado!B391","v":0},{"$f":"PruebaChiCuadrado!C391","v":0},"","",{"$error":"#VALUE!"},0]
[{"$f":"PruebaChiCuadrado!B392","v":0},{"$f":"PruebaChiCuadrado!C392","v":0},"","",{"$error":"#VALUE!"},0]
[{"$f":"PruebaChiCuadrado!B393","v":0},{"$f":"PruebaChiCuadrado!C393","v":0},"","",{"$error":"#VALUE!"},{"$f":"IFERROR(E389,0)","v":0}]
[{"$f":"PruebaChiCuadrado!B394","v":0},{"$f":"PruebaChiCuadrado!C394","v":0},"","",{"$error":"#VALUE!"},0]
[{"$f":"PruebaChiCuadrado!B395","v":0},{"$f":"PruebaChiCuadrado!C395","v":0},"","",{"$error":"#VALUE!"},0]
[{"$f":"PruebaChiCuadrado!B396","v":0},{"$f":"PruebaChiCuadrado!C396","v":0},"","",{"$error":"#VALUE!"},0]
[{"$f":"PruebaChiCuadrado!B397","v":0},{"$f":"PruebaChiCuadrado!C397","v":0},"","",{"$error":"#VALUE!"},0]
[{"$f":"PruebaChiCuadrado!B398","v":0},{"$f":"PruebaChiCuadrado!C398","v":0},"","",{"$error":"#VALUE!"},0]
[{"$f":"PruebaChiCuadrado!B399","v":0},{"$f":"PruebaChiCuadrado!C399","v":0},"","",{"$error":"#VALUE!"},0]
[{"$f":"PruebaChiCuadrado!B400","v":0},{"$f":"PruebaChiCuadrado!C400","v":0},"","",{"$error":"#VALUE!"},0]
[{"$f":"PruebaChiCuadrado!B401","v":0},{"$f":"PruebaChiCuadrado!C401","v":0},"","",{"$error":"#VALUE!"},0]
[{"$f":"PruebaChiCuadrado!B402","v":0},{"$f":"PruebaChiCuadrado!C402","v":0},"","",{"$error":"#VALUE!"},0]
[{"$f":"PruebaChiCuadrado!B403","v":0},{"$f":"PruebaChiCuadrado!C403","v":0},"","",{"$error":"#VALUE!"},0]
[{"$f":"PruebaChiCuadrado!B404","v":0},{"$f":"PruebaChiCuadrado!C404","v":0},"","",{"$error":"#VALUE!"},0]
[{"$f":"PruebaChiCuadrado!B405","v":0},{"$f":"PruebaChiCuadrado!C405","v":0},"","",{"$error":"#VALUE!"},0]
[{"$f":"PruebaChiCuadrado!B406","v":0},{"$f":"PruebaChiCuadrado!C406","v":0},"","",{"$error":"#VALUE!"},0]
[{"$f":"PruebaChiCuadrado!B407","v":0},{"$f":"PruebaChiCuadrado!C407","v":0},"","",{"$error":"#VALUE!"},0]
[{"$f":"PruebaChiCuadrado!B408","v":0},{"$f":"PruebaChiCuadrado!C408","v":0},"","",{"$error":"#VALUE!"},0]
[{"$f":"PruebaChiCuadrado!B409","v":0},{"$f":"PruebaChiCuadrado!C409","v":0},"","",{"$error":"#VALUE!"},0]
[{"$f":"PruebaChiCuadrado!B410","v":0},{"$f":"PruebaChiCuadrado!C410","v":0},"","",{"$error":"#VALUE!"},0]
[{"$f":"PruebaChiCuadrado!B411","v":0},{"$f":"PruebaChiCuadrado!C411","v":0},"","",{"$error":"#VALUE!"},0]
[{"$f":"PruebaChiCuadrado!B412","v":0},{"$f":"PruebaChiCuadrado!C412","v":0},"","",{"$error":"#VALUE!"},0]
[{"$f":"PruebaChiCuadrado!B413","v":0},{"$f":"PruebaChiCuadrado!C413","v":0},"","",{"$error":"#VALUE!"},0]
[{"$f":"PruebaChiCuadrado!B414","v":0},{"$f":"PruebaChiCuadrado!C414","v":0},"","",{"$error":"#VALUE!"},0]
[{"$f":"PruebaChiCuadrado!B415","v":0},{"$f":"PruebaChiCuadrado!C415","v":0},"","",{"$error":"#VALUE!"},0]
[{"$f":"PruebaChiCuadrado!B416","v":0},{"$f":"PruebaChiCuadrado!C416","v":0},"","",{"$error":"#VALUE!"},0]
[{"$f":"PruebaChiCuadrado!B417","v":0},{"$f":"PruebaChiCuadrado!C417","v":0},"","",{"$error":"#VALUE!"},0]
[{"$f":"PruebaChiCuadrado!B418","v":0},{"$f":"PruebaChiCuadrado!C418","v":0},"","",{"$error":"#VALUE!"},0]
[{"$f":"PruebaChiCuadrado!B419","v":0},{"$f":"PruebaChiCuadrado!C419","v":0},"","",{"$error":"#VALUE!"},0]
[{"$f":"PruebaChiCuadrado!B420","v":0},{"$f":"PruebaChiCuadrado!C420","v":0},"","",{"$error":"#VALUE!"},0]
[{"$f":"PruebaChiCuadrado!B421","v":0},{"$f":"PruebaChiCuadrado!C421","v":0},"","",{"$error":"#VALUE!"},0]
[{"$f":"PruebaChiCuadrado!B422","v":0},{"$f":"PruebaChiCuadrado!C422","v":0},"","",{"$error":"#VALUE!"},0]
[{"$f":"PruebaChiCuadrado!B423","v":0},{"$f":"PruebaChiCuadrado!C423","v":0},"","",{"$error":"#VALUE!"},0]
[{"$f":"PruebaChiCuadrado!B424","v":0},{"$f":"PruebaChiCuadrado!C424","v":0},"","",{"$error":"#VALUE!"},0]
[{"$f":"PruebaChiCuadrado!B425","v":0},{"$f":"PruebaChiCuadrado!C425","v":0},"","",{"$error":"#VALUE!"},0]
[{"$f":"PruebaChiCuadrado!B426","v":0},{"$f":"PruebaChiCuadrado!C426","v":0},"","",{"$error":"#VALUE!"},0]
[{"$f":"PruebaChiCuadrado!B427","v":0},{"$f":"PruebaChiCuadrado!C427","v":0},"","",{"$error":"#VALUE!"},0]
[{"$f":"PruebaChiCuadrado!B428","v":0},{"$f":"PruebaChiCuadrado!C428","v":0},"","",{"$error":"#VALUE!"},0]
[{"$f":"PruebaChiCuadrado!B429","v":0},{"$f":"PruebaChiCuadrado!C429","v":0},"","",{"$error":"#VALUE!"},0]
[{"$f":"PruebaChiCuadrado!B430","v":0},{"$f":"PruebaChiCuadrado!C430","v":0},"","",{"$error":"#VALUE!"},0]
[{"$f":"PruebaChiCuadrado!B431","v":0},{"$f":"PruebaChiCuadrado!C431","v":0},"","",{"$error":"#VALUE!"},0]
[{"$f":"PruebaChiCuadrado!B432","v":0},{"$f":"PruebaChiCuadrado!C432","v":0},"","",{"$error":"#VALUE!"},0]
[{"$f":"PruebaChiCuadrado!B433","v":0},{"$f":"PruebaChiCuadrado!C433","v":0},"","",{"$error":"#VALUE!"},0]
[{"$f":"PruebaChiCuadrado!B434","v":0},{"$f":"PruebaChiCuadrado!C434","v":0},"","",{"$error":"#VALUE!"},0]
[{"$f":"PruebaChiCuadrado!B435","v":0},{"$f":"PruebaChiCuadrado!C435","v":0},"","",{"$error":"#VALUE!"},0]
[{"$f":"PruebaChiCuadrado!B436","v":0},{"$f":"PruebaChiCuadrado!C436","v":0},"","",{"$error":"#VALUE!"},0]
[{"$f":"PruebaChiCuadrado!B437","v":0},{"$f":"PruebaChiCuadrado!C437","v":0},"","",{"$error":"#VALUE!"},0]
[{"$f":"PruebaChiCuadrado!B438","v":0},{"$f":"PruebaChiCuadrado!C438","v":0},"","",{"$error":"#VALUE!"},0]
[{"$f":"PruebaChiCuadrado!B439","v":0},{"$f":"PruebaChiCuadrado!C439","v":0},"","",{"$error":"#VALUE!"},0]
[{"$f":"PruebaChiCuadrado!B440","v":0},{"$f":"PruebaChiCuadrado!C440","v":0},"","",{"$error":"#VALUE!"},0]
[{"$f":"PruebaChiCuadrado!B441","v":0},{"$f":"PruebaChiCuadrado!C441","v":0},"","",{"$error":"#VALUE!"},0]
[{"$f":"PruebaChiCuadrado!B442","v":0},{"$f":"PruebaChiCuadrado!C442","v":0},"","",{"$error":"#VALUE!"},0]
[{"$f":"PruebaChiCuadrado!B443","v":0},{"$f":"PruebaChiCuadrado!C443","v":0},"","",{"$error":"#VALUE!"},0]
[{"$f":"PruebaChiCuadrado!B444","v":0},{"$f":"PruebaChiCuadrado!C444","v":0},"","",{"$error":"#VALUE!"},0]
[{"$f":"PruebaChiCuadrado!B445","v":0},{"$f":"PruebaChiCuadrado!C445","v":0},"","",{"$error":"#VALUE!"},0]
[{"$f":"PruebaChiCuadrado!B446","v":0},{"$f":"PruebaChiCuadrado!C446","v":0},"","",{"$error":"#VALUE!"},0]
[{"$f":"PruebaChiCuadrado!B447","v":0},{"$f":"PruebaChiCuadrado!C447","v":0},"","",{"$error":"#VALUE!"},0]
[{"$f":"PruebaChiCuadrado!B448","v":0},{"$f":"PruebaChiCuadrado!C448","v":0},"","",{"$error":"#VALUE!"},0]
[{"$f":"PruebaChiCuadrado!B449","v":0},{"$f":"PruebaChiCuadrado!C449","v":0},"","",{"$error":"#VALUE!"},0]
[{"$f":"PruebaChiCuadrado!B450","v":0},{"$f":"PruebaChiCuadrado!C450","v":0},"","",{"$error":"#VALUE!"},0]
[{"$f":"PruebaChiCuadrado!B451","v":0},{"$f":"PruebaChiCuadrado!C451","v":0},"","",{"$error":"#VALUE!"},0]
[{"$f":"PruebaChiCuadrado!B452","v":0},{"$f":"PruebaChiCuadrado!C452","v":0},"","",{"$error":"#VALUE!"},0]
[{"$f":"PruebaChiCuadrado!B453","v":0},{"$f":"PruebaChiCuadrado!C453","v":0},"","",{"$error":"#VALUE!"},0]
[{"$f":"PruebaChiCuadrado!B454","v":0},{"$f":"PruebaChiCuadrado!C454","v":0},{"$f":"IF(A450<>0,A450,\"\")","v":""},"",{"$f":"(D450-$K$1)^2","v":{"$error":"#VALUE!"}},0]
[{"$f":"PruebaChiCuadrado!B455","v":0},{"$f":"PruebaChiCuadrado!C455","v":0},"","",{"$error":"#VALUE!"},0]
[{"$f":"PruebaChiCuadrado!B456","v":0},{"$f":"PruebaChiCuadrado!C456","v":0},"","",{"$error":"#VALUE!"},0]
[{"$f":"PruebaChiCuadrado!B457","v":0},{"$f":"PruebaChiCuadrado!C457","v":0},"","",{"$error":"#VALUE!"},{"$f":"IFERROR(E453,0)","v":0}]
[{"$f":"PruebaChiCuadrado!B458","v":0},{"$f":"PruebaChiCuadrado!C458","v":0},"","",{"$error":"#VALUE!"},0]
[{"$f":"PruebaChiCuadrado!B459","v":0},{"$f":"PruebaChiCuadrado!C459","v":0},"","",{"$error":"#VALUE!"},0]
[{"$f":"PruebaChiCuadrado!B460","v":0},{"$f":"PruebaChiCuadrado!C460","v":0},"","",{"$error":"#VALUE!"},0]
[{"$f":"PruebaChiCuadrado!B461","v":0},{"$f":"PruebaChiCuadrado!C461","v":0},"","",{"$error":"#VALUE!"},0]
[{"$f":"PruebaChiCuadrado!B462","v":0},{"$f":"PruebaChiCuadrado!C462","v":0},"","",{"$error":"#VALUE!"},0]
[{"$f":"PruebaChiCuadrado!B463","v":0},{"$f":"PruebaChiCuadrado!C463","v":0},"","",{"$error":"#VALUE!"},0]
[{"$f":"PruebaChiCuadrado!B464","v":0},{"$f":"PruebaChiCuadrado!C464","v":0},"","",{"$error":"#VALUE!"},0]
[{"$f":"PruebaChiCuadrado!B465","v":0},{"$f":"PruebaChiCuadrado!C465","v":0},"","",{"$error":"#VALUE!"},0]
[{"$f":"PruebaChiCuadrado!B466","v":0},{"$f":"PruebaChiCuadrado!C466","v":0},"","",{"$error":"#VALUE!"},0]
[{"$f":"PruebaChiCuadrado!B467","v":0},{"$f":"PruebaChiCuadrado!C467","v":0},"","",{"$error":"#VALUE!"},0]
[{"$f":"PruebaChiCuadrado!B468","v":0},{"$f":"PruebaChiCuadrado!C468","v":0},"","",{"$error":"#VALUE!"},0]
[{"$f":"PruebaChiCuadrado!B469","v":0},{"$f":"PruebaChiCuadrado!C469","v":0},"","",{"$error":"#VALUE!"},0]
[{"$f":"PruebaChiCuadrado!B470","v":0},{"$f":"PruebaChiCuadrado!C470","v":0},"","",{"$error":"#VALUE!"},0]
[{"$f":"PruebaChiCuadrado!B471","v":0},{"$f":"PruebaChiCuadrado!C471","v":0},"","",{"$error":"#VALUE!"},0]
[{"$f":"PruebaChiCuadrado!B472","v":0},{"$f":"PruebaChiCuadrado!C472","v":0},"","",{"$error":"#VALUE!"},0]
[{"$f":"PruebaChiCuadrado!B473","v":0},{"$f":"PruebaChiCuadrado!C473","v":0},"","",{"$error":"#VALUE!"},0]
[{"$f":"PruebaChiCuadrado!B474","v":0},{"$f":"PruebaChiCuadrado!C474","v":0},"","",{"$error":"#VALUE!"},0]
[{"$f":"PruebaChiCuadrado!B475","v":0},{"$f":"PruebaChiCuadrado!C475","v":0},"","",{"$error":"#VALUE!"},0]
[{"$f":"PruebaChiCuadrado!B476","v":0},{"$f":"PruebaChiCuadrado!C476","v":0},"","",{"$error":"#VALUE!"},0]
[{"$f":"PruebaChiCuadrado!B477","v":0},{"$f":"PruebaChiCuadrado!C477","v":0},"","",{"$error":"#VALUE!"},0]
[{"$f":"PruebaChiCuadrado!B478","v":0},{"$f":"PruebaChiCuadrado!C478","v":0},"","",{"$error":"#VALUE!"},0]
[{"$f":"PruebaChiCuadrado!B479","v":0},{"$f":"PruebaChiCuadrado!C479","v":0},"","",{"$error":"#VALUE!"},0]
[{"$f":"PruebaChiCuadrado!B480","v":0},{"$f":"PruebaChiCuadrado!C480","v":0},"","",{"$error":"#VALUE!"},0]
[{"$f":"PruebaChiCuadrado!B481","v":0},{"$f":"PruebaChiCuadrado!C481","v":0},"","",{"$error":"#VALUE!"},0]
[{"$f":"PruebaChiCuadrado!B482","v":0},{"$f":"PruebaChiCuadrado!C482","v":0},"","",{"$error":"#VALUE!"},0]
[{"$f":"PruebaChiCuadrado!B483","v":0},{"$f":"PruebaChiCuadrado!C483","v":0},"","",{"$error":"#VALUE!"},0]
[{"$f":"PruebaChiCuadrado!B484","v":0},{"$f":"PruebaChiCuadrado!C484","v":0},"","",{"$error":"#VALUE!"},0]
[{"$f":"PruebaChiCuadrado!B485","v":0},{"$f":"PruebaChiCuadrado!C485","v":0},"","",{"$error":"#VALUE!"},0]
[{"$f":"PruebaChiCuadrado!B486","v":0},{"$f":"PruebaChiCuadrado!C486","v":0},"","",{"$error":"#VALUE!"},0]
[{"$f":"PruebaChiCuadrado!B487","v":0},{"$f":"PruebaChiCuadrado!C487","v":0},"","",{"$error":"#VALUE!"},0]
[{"$f":"PruebaChiCuadrado!B488","v":0},{"$f":"PruebaChiCuadrado!C488","v":0},"","",{"$error":"#VALUE!"},0]
[{"$f":"PruebaChiCuadrado!B489","v":0},{"$f":"PruebaChiCuadrado!C489","v":0},"","",{"$error":"#VALUE!"},0]
[{"$f":"PruebaChiCuadrado!B490","v":0},{"$f":"PruebaChiCuadrado!C490","v":0},"","",{"$error":"#VALUE!"},0]
[{"$f":"PruebaChiCuadrado!B491","v":0},{"$f":"PruebaChiCuadrado!C491","v":0},"","",{"$error":"#VALUE!"},0]
[{"$f":"PruebaChiCuadrado!B492","v":0},{"$f":"PruebaChiCuadrado!C492","v":0},"","",{"$error":"#VALUE!"},0]
[{"$f":"PruebaChiCuadrado!B493","v":0},{"$f":"PruebaChiCuadrado!C493","v":0},"","",{"$error":"#VALUE!"},0]
[{"$f":"PruebaChiCuadrado!B494","v":0},{"$f":"PruebaChiCuadrado!C494","v":0},"","",{"$error":"#VALUE!"},0]
[{"$f":"PruebaChiCuadrado!B495","v":0},{"$f":"PruebaChiCuadrado!C495","v":0},"","",{"$error":"#VALUE!"},0]
[{"$f":"PruebaChiCuadrado!B496","v":0},{"$f":"PruebaChiCuadrado!C496","v":0},"","",{"$error":"#VALUE!"},0]
[{"$f":"PruebaChiCuadrado!B497","v":0},{"$f":"PruebaChiCuadrado!C497","v":0},"","",{"$error":"#VALUE!"},0]
[{"$f":"PruebaChiCuadrado!B498","v":0},{"$f":"PruebaChiCuadrado!C498","v":0},"","",{"$error":"#VALUE!"},0]
[{"$f":"PruebaChiCuadrado!B499","v":0},{"$f":"PruebaChiCuadrado!C499","v":0},"","",{"$error":"#VALUE!"},0]
[{"$f":"PruebaChiCuadrado!B500","v":0},{"$f":"PruebaChiCuadrado!C500","v":0},"","",{"$error":"#VALUE!"},0]
[{"$f":"PruebaChiCuadrado!B501","v":0},{"$f":"PruebaChiCuadrado!C501","v":0},"","",{"$error":"#VALUE!"},0]
[{"$f":"PruebaChiCuadrado!B502","v":0},{"$f":"PruebaChiCuadrado!C502","v":0},"","",{"$error":"#VALUE!"},0]
[{"$f":"PruebaChiCuadrado!B503","v":0},{"$f":"PruebaChiCuadrado!C503","v":0},"","",{"$error":"#VALUE!"},0]
[{"$f":"PruebaChiCuadrado!B504","v":0},{"$f":"PruebaChiCuadrado!C504","v":0},"","",{"$error":"#VALUE!"},0]

{"sheet":"Regr_Lineal","index":22,"n_rows":10,"n_cols":6,"rows_kept":10,"cut":false,"hidden":false,"merged":[]}
[]
[null,"Meses de actividad",6]
[]
[null,"Mes de actividad","Número de clientes atendidos por mes (miles)","Número de quejas recibidas por mes"]
[null,1,6.6,75,null,"Ir a Cálculo "]
[null,2,5.3,69,null,"Inicio"]
[null,3,4.9000000000000004,71]
[null,4,7.4,86]
[null,5,7.1,78]
[null,6,5.6,73]

{"sheet":"Cálculo Ecuación","index":23,"n_rows":500,"n_cols":11,"rows_kept":500,"cut":false,"hidden":false,"merged":[[1,8,1,9]]}
[]
[null,"Mes de actividad","X","Y","X^2","XY","Y^2",null,"Resultados"]
[null,{"$f":"Hoja8!G2","v":1},{"$f":"Hoja8!H2","v":6.6},{"$f":"Hoja8!I2","v":75},{"$f":"Hoja8!J2","v":43.559999999999995},{"$f":"Hoja8!K2","v":495},{"$f":"Hoja8!L2","v":5625},null,"Total X",{"$f":"Hoja8!O1","v":36.9}]
[null,{"$f":"Hoja8!G3","v":2},{"$f":"Hoja8!H3","v":5.3},{"$f":"Hoja8!I3","v":69},{"$f":"Hoja8!J3","v":28.09},{"$f":"Hoja8!K3","v":365.7},{"$f":"Hoja8!L3","v":4761},null,"Total Y",{"$f":"Hoja8!O2","v":452}]
[null,{"$f":"Hoja8!G4","v":3},{"$f":"Hoja8!H4","v":4.9000000000000004},{"$f":"Hoja8!I4","v":71},{"$f":"Hoja8!J4","v":24.010000000000005},{"$f":"Hoja8!K4","v":347.90000000000003},{"$f":"Hoja8!L4","v":5041},null,"Total X^2",{"$f":"Hoja8!O3","v":232.19}]
[null,{"$f":"Hoja8!G5","v":4},{"$f":"Hoja8!H5","v":7.4},{"$f":"Hoja8!I5","v":86},{"$f":"Hoja8!J5","v":54.760000000000005},{"$f":"Hoja8!K5","v":636.4},{"$f":"Hoja8!L5","v":7396},null,"Total XY",{"$f":"Hoja8!O4","v":2807.6000000000004}]
[null,{"$f":"Hoja8!G6","v":5},{"$f":"Hoja8!H6","v":7.1},{"$f":"Hoja8!I6","v":78},{"$f":"Hoja8!J6","v":50.41},{"$f":"Hoja8!K6","v":553.79999999999995},{"$f":"Hoja8!L6","v":6084},null,"Total Y^2",{"$f":"Hoja8!O5","v":34236}]
[null,{"$f":"Hoja8!G7","v":6},{"$f":"Hoja8!H7","v":5.6},{"$f":"Hoja8!I7","v":73},{"$f":"Hoja8!J7","v":31.359999999999996},{"$f":"Hoja8!K7","v":408.79999999999995},{"$f":"Hoja8!L7","v":5329}]
[null,{"$f":"Hoja8!G8","v":""},{"$f":"Hoja8!H8","v":""},{"$f":"Hoja8!I8","v":""},{"$f":"Hoja8!J8","v":""},{"$f":"Hoja8!K8","v":""},{"$f":"Hoja8!L8","v":""}]
[null,{"$f":"Hoja8!G9","v":""},{"$f":"Hoja8!H9","v":""},{"$f":"Hoja8!I9","v":""},{"$f":"Hoja8!J9","v":""},{"$f":"Hoja8!K9","v":""},{"$f":"Hoja8!L9","v":""},null,null,null,{"$f":"Hoja8!O7","v":42.798604503647432}]
[null,{"$f":"Hoja8!G10","v":""},{"$f":"Hoja8!H10","v":""},{"$f":"Hoja8!I10","v":""},{"$f":"Hoja8!J10","v":""},{"$f":"Hoja8!K10","v":""},{"$f":"Hoja8!L10","v":""}]
[null,{"$f":"Hoja8!G11","v":""},{"$f":"Hoja8!H11","v":""},{"$f":"Hoja8!I11","v":""},{"$f":"Hoja8!J11","v":""},{"$f":"Hoja8!K11","v":""},{"$f":"Hoja8!L11","v":""}]
[null,{"$f":"Hoja8!G12","v":""},{"$f":"Hoja8!H12","v":""},null,null,null,{"$f":"Hoja8!L12","v":""}]
[null,{"$f":"Hoja8!G13","v":""},{"$f":"Hoja8!H13","v":""},null,null,null,{"$f":"Hoja8!L13","v":""},null,null,null,{"$f":"Hoja8!N12","v":5.2901998097051397}]
[null,{"$f":"Hoja8!G14","v":""},{"$f":"Hoja8!H14","v":""},{"$f":"Hoja8!I14","v":""},null,null,{"$f":"Hoja8!L14","v":""}]
[null,{"$f":"Hoja8!G15","v":""},{"$f":"Hoja8!H15","v":""},{"$f":"Hoja8!I15","v":""},{"$f":"Hoja8!J15","v":""},{"$f":"Hoja8!K15","v":""},{"$f":"Hoja8!L15","v":""},null,null,null,"Ir a regresión"]
[null,{"$f":"Hoja8!G16","v":""},{"$f":"Hoja8!H16","v":""},{"$f":"Hoja8!I16","v":""},{"$f":"Hoja8!J16","v":""},{"$f":"Hoja8!K16","v":""},{"$f":"Hoja8!L16","v":""},null,null,null,"Ir a Correlación"]
[null,{"$f":"Hoja8!G17","v":""},{"$f":"Hoja8!H17","v":""},{"$f":"Hoja8!I17","v":""},{"$f":"Hoja8!J17","v":""},{"$f":"Hoja8!K17","v":""},{"$f":"Hoja8!L17","v":""},null,{"$f":"Hoja8!N15","v":"Y = 42.8 + 5.29x"},null,"Inicio"]
[null,{"$f":"Hoja8!G18","v":""},{"$f":"Hoja8!H18","v":""},{"$f":"Hoja8!I18","v":""},{"$f":"Hoja8!J18","v":""},{"$f":"Hoja8!K18","v":""},{"$f":"Hoja8!L18","v":""}]
[null,{"$f":"Hoja8!G19","v":""},{"$f":"Hoja8!H19","v":""},{"$f":"Hoja8!I19","v":""},{"$f":"Hoja8!J19","v":""},{"$f":"Hoja8!K19","v":""},{"$f":"Hoja8!L19","v":""}]
[null,{"$f":"Hoja8!G20","v":""},{"$f":"Hoja8!H20","v":""},{"$f":"Hoja8!I20","v":""},{"$f":"Hoja8!J20","v":""},{"$f":"Hoja8!K20","v":""},{"$f":"Hoja8!L20","v":""}]
[null,{"$f":"Hoja8!G21","v":""},{"$f":"Hoja8!H21","v":""},{"$f":"Hoja8!I21","v":""},{"$f":"Hoja8!J21","v":""},{"$f":"Hoja8!K21","v":""},{"$f":"Hoja8!L21","v":""}]
[null,{"$f":"Hoja8!G22","v":""},{"$f":"Hoja8!H22","v":""},{"$f":"Hoja8!I22","v":""},{"$f":"Hoja8!J22","v":""},{"$f":"Hoja8!K22","v":""},{"$f":"Hoja8!L22","v":""}]
[null,{"$f":"Hoja8!G23","v":""},{"$f":"Hoja8!H23","v":""},{"$f":"Hoja8!I23","v":""},{"$f":"Hoja8!J23","v":""},{"$f":"Hoja8!K23","v":""},{"$f":"Hoja8!L23","v":""}]
[null,{"$f":"Hoja8!G24","v":""},{"$f":"Hoja8!H24","v":""},{"$f":"Hoja8!I24","v":""},{"$f":"Hoja8!J24","v":""},{"$f":"Hoja8!K24","v":""},{"$f":"Hoja8!L24","v":""}]
[null,{"$f":"Hoja8!G25","v":""},{"$f":"Hoja8!H25","v":""},{"$f":"Hoja8!I25","v":""},{"$f":"Hoja8!J25","v":""},{"$f":"Hoja8!K25","v":""},{"$f":"Hoja8!L25","v":""}]
[null,{"$f":"Hoja8!G26","v":""},{"$f":"Hoja8!H26","v":""},{"$f":"Hoja8!I26","v":""},{"$f":"Hoja8!J26","v":""},{"$f":"Hoja8!K26","v":""},{"$f":"Hoja8!L26","v":""}]
[null,{"$f":"Hoja8!G27","v":""},{"$f":"Hoja8!H27","v":""},{"$f":"Hoja8!I27","v":""},{"$f":"Hoja8!J27","v":""},{"$f":"Hoja8!K27","v":""},{"$f":"Hoja8!L27","v":""}]
[null,{"$f":"Hoja8!G28","v":""},{"$f":"Hoja8!H28","v":""},{"$f":"Hoja8!I28","v":""},{"$f":"Hoja8!J28","v":""},{"$f":"Hoja8!K28","v":""},{"$f":"Hoja8!L28","v":""}]
[null,{"$f":"Hoja8!G29","v":""},{"$f":"Hoja8!H29","v":""},{"$f":"Hoja8!I29","v":""},{"$f":"Hoja8!J29","v":""},{"$f":"Hoja8!K29","v":""},{"$f":"Hoja8!L29","v":""}]
[null,{"$f":"Hoja8!G30","v":""},{"$f":"Hoja8!H30","v":""},{"$f":"Hoja8!I30","v":""},{"$f":"Hoja8!J30","v":""},{"$f":"Hoja8!K30","v":""},{"$f":"Hoja8!L30","v":""}]
[null,{"$f":"Hoja8!G31","v":""},{"$f":"Hoja8!H31","v":""},{"$f":"Hoja8!I31","v":""},{"$f":"Hoja8!J31","v":""},{"$f":"Hoja8!K31","v":""},{"$f":"Hoja8!L31","v":""}]
[null,{"$f":"Hoja8!G32","v":""},{"$f":"Hoja8!H32","v":""},{"$f":"Hoja8!I32","v":""},{"$f":"Hoja8!J32","v":""},{"$f":"Hoja8!K32","v":""},{"$f":"Hoja8!L32","v":""}]
[null,{"$f":"Hoja8!G33","v":""},{"$f":"Hoja8!H33","v":""},{"$f":"Hoja8!I33","v":""},{"$f":"Hoja8!J33","v":""},{"$f":"Hoja8!K33","v":""},{"$f":"Hoja8!L33","v":""}]
[null,{"$f":"Hoja8!G34","v":""},{"$f":"Hoja8!H34","v":""},{"$f":"Hoja8!I34","v":""},{"$f":"Hoja8!J34","v":""},{"$f":"Hoja8!K34","v":""},{"$f":"Hoja8!L34","v":""}]
[null,{"$f":"Hoja8!G35","v":""},{"$f":"Hoja8!H35","v":""},{"$f":"Hoja8!I35","v":""},{"$f":"Hoja8!J35","v":""},{"$f":"Hoja8!K35","v":""},{"$f":"Hoja8!L35","v":""}]
[null,{"$f":"Hoja8!G36","v":""},{"$f":"Hoja8!H36","v":""},{"$f":"Hoja8!I36","v":""},{"$f":"Hoja8!J36","v":""},{"$f":"Hoja8!K36","v":""},{"$f":"Hoja8!L36","v":""}]
[null,{"$f":"Hoja8!G37","v":""},{"$f":"Hoja8!H37","v":""},{"$f":"Hoja8!I37","v":""},{"$f":"Hoja8!J37","v":""},{"$f":"Hoja8!K37","v":""},{"$f":"Hoja8!L37","v":""}]
[null,{"$f":"Hoja8!G38","v":""},{"$f":"Hoja8!H38","v":""},{"$f":"Hoja8!I38","v":""},{"$f":"Hoja8!J38","v":""},{"$f":"Hoja8!K38","v":""},{"$f":"Hoja8!L38","v":""}]
[null,{"$f":"Hoja8!G39","v":""},{"$f":"Hoja8!H39","v":""},{"$f":"Hoja8!I39","v":""},{"$f":"Hoja8!J39","v":""},{"$f":"Hoja8!K39","v":""},{"$f":"Hoja8!L39","v":""}]
[null,{"$f":"Hoja8!G40","v":""},{"$f":"Hoja8!H40","v":""},{"$f":"Hoja8!I40","v":""},{"$f":"Hoja8!J40","v":""},{"$f":"Hoja8!K40","v":""},{"$f":"Hoja8!L40","v":""}]
[null,{"$f":"Hoja8!G41","v":""},{"$f":"Hoja8!H41","v":""},{"$f":"Hoja8!I41","v":""},{"$f":"Hoja8!J41","v":""},{"$f":"Hoja8!K41","v":""},{"$f":"Hoja8!L41","v":""}]
[null,{"$f":"Hoja8!G42","v":""},{"$f":"Hoja8!H42","v":""},{"$f":"Hoja8!I42","v":""},{"$f":"Hoja8!J42","v":""},{"$f":"Hoja8!K42","v":""},{"$f":"Hoja8!L42","v":""}]
[null,{"$f":"Hoja8!G43","v":""},{"$f":"Hoja8!H43","v":""},{"$f":"Hoja8!I43","v":""},{"$f":"Hoja8!J43","v":""},{"$f":"Hoja8!K43","v":""},{"$f":"Hoja8!L43","v":""}]
[null,{"$f":"Hoja8!G44","v":""},{"$f":"Hoja8!H44","v":""},{"$f":"Hoja8!I44","v":""},{"$f":"Hoja8!J44","v":""},{"$f":"Hoja8!K44","v":""},{"$f":"Hoja8!L44","v":""}]
[null,{"$f":"Hoja8!G45","v":""},{"$f":"Hoja8!H45","v":""},{"$f":"Hoja8!I45","v":""},{"$f":"Hoja8!J45","v":""},{"$f":"Hoja8!K45","v":""},{"$f":"Hoja8!L45","v":""}]
[null,{"$f":"Hoja8!G46","v":""},{"$f":"Hoja8!H46","v":""},{"$f":"Hoja8!I46","v":""},{"$f":"Hoja8!J46","v":""},{"$f":"Hoja8!K46","v":""},{"$f":"Hoja8!L46","v":""}]
[null,{"$f":"Hoja8!G47","v":""},{"$f":"Hoja8!H47","v":""},{"$f":"Hoja8!I47","v":""},{"$f":"Hoja8!J47","v":""},{"$f":"Hoja8!K47","v":""},{"$f":"Hoja8!L47","v":""}]
[null,{"$f":"Hoja8!G48","v":""},{"$f":"Hoja8!H48","v":""},{"$f":"Hoja8!I48","v":""},{"$f":"Hoja8!J48","v":""},{"$f":"Hoja8!K48","v":""},{"$f":"Hoja8!L48","v":""}]
[null,{"$f":"Hoja8!G49","v":""},{"$f":"Hoja8!H49","v":""},{"$f":"Hoja8!I49","v":""},{"$f":"Hoja8!J49","v":""},{"$f":"Hoja8!K49","v":""},{"$f":"Hoja8!L49","v":""}]
[null,{"$f":"Hoja8!G50","v":""},{"$f":"Hoja8!H50","v":""},{"$f":"Hoja8!I50","v":""},{"$f":"Hoja8!J50","v":""},{"$f":"Hoja8!K50","v":""},{"$f":"Hoja8!L50","v":""}]
[null,{"$f":"Hoja8!G51","v":""},{"$f":"Hoja8!H51","v":""},{"$f":"Hoja8!I51","v":""},{"$f":"Hoja8!J51","v":""},{"$f":"Hoja8!K51","v":""},{"$f":"Hoja8!L51","v":""}]
[null,{"$f":"Hoja8!G52","v":""},{"$f":"Hoja8!H52","v":""},{"$f":"Hoja8!I52","v":""},{"$f":"Hoja8!J52","v":""},{"$f":"Hoja8!K52","v":""},{"$f":"Hoja8!L52","v":""}]
[null,{"$f":"Hoja8!G53","v":""},{"$f":"Hoja8!H53","v":""},{"$f":"Hoja8!I53","v":""},{"$f":"Hoja8!J53","v":""},{"$f":"Hoja8!K53","v":""},{"$f":"Hoja8!L53","v":""}]
[null,{"$f":"Hoja8!G54","v":""},{"$f":"Hoja8!H54","v":""},{"$f":"Hoja8!I54","v":""},{"$f":"Hoja8!J54","v":""},{"$f":"Hoja8!K54","v":""},{"$f":"Hoja8!L54","v":""}]
[null,{"$f":"Hoja8!G55","v":""},{"$f":"Hoja8!H55","v":""},{"$f":"Hoja8!I55","v":""},{"$f":"Hoja8!J55","v":""},{"$f":"Hoja8!K55","v":""},{"$f":"Hoja8!L55","v":""}]
[null,{"$f":"Hoja8!G56","v":""},{"$f":"Hoja8!H56","v":""},{"$f":"Hoja8!I56","v":""},{"$f":"Hoja8!J56","v":""},{"$f":"Hoja8!K56","v":""},{"$f":"Hoja8!L56","v":""}]
[null,{"$f":"Hoja8!G57","v":""},{"$f":"Hoja8!H57","v":""},{"$f":"Hoja8!I57","v":""},{"$f":"Hoja8!J57","v":""},{"$f":"Hoja8!K57","v":""},{"$f":"Hoja8!L57","v":""}]
[null,{"$f":"Hoja8!G58","v":""},{"$f":"Hoja8!H58","v":""},{"$f":"Hoja8!I58","v":""},{"$f":"Hoja8!J58","v":""},{"$f":"Hoja8!K58","v":""},{"$f":"Hoja8!L58","v":""}]
[null,{"$f":"Hoja8!G59","v":""},{"$f":"Hoja8!H59","v":""},{"$f":"Hoja8!I59","v":""},{"$f":"Hoja8!J59","v":""},{"$f":"Hoja8!K59","v":""},{"$f":"Hoja8!L59","v":""}]
[null,{"$f":"Hoja8!G60","v":""},{"$f":"Hoja8!H60","v":""},{"$f":"Hoja8!I60","v":""},{"$f":"Hoja8!J60","v":""},{"$f":"Hoja8!K60","v":""},{"$f":"Hoja8!L60","v":""}]
[null,{"$f":"Hoja8!G61","v":""},{"$f":"Hoja8!H61","v":""},{"$f":"Hoja8!I61","v":""},{"$f":"Hoja8!J61","v":""},{"$f":"Hoja8!K61","v":""},{"$f":"Hoja8!L61","v":""}]
[null,{"$f":"Hoja8!G62","v":""},{"$f":"Hoja8!H62","v":""},{"$f":"Hoja8!I62","v":""},{"$f":"Hoja8!J62","v":""},{"$f":"Hoja8!K62","v":""},{"$f":"Hoja8!L62","v":""}]
[null,{"$f":"Hoja8!G63","v":""},{"$f":"Hoja8!H63","v":""},{"$f":"Hoja8!I63","v":""},{"$f":"Hoja8!J63","v":""},{"$f":"Hoja8!K63","v":""},{"$f":"Hoja8!L63","v":""}]
[null,{"$f":"Hoja8!G64","v":""},{"$f":"Hoja8!H64","v":""},{"$f":"Hoja8!I64","v":""},{"$f":"Hoja8!J64","v":""},{"$f":"Hoja8!K64","v":""},{"$f":"Hoja8!L64","v":""}]
[null,{"$f":"Hoja8!G65","v":""},{"$f":"Hoja8!H65","v":""},{"$f":"Hoja8!I65","v":""},{"$f":"Hoja8!J65","v":""},{"$f":"Hoja8!K65","v":""},{"$f":"Hoja8!L65","v":""}]
[null,{"$f":"Hoja8!G66","v":""},{"$f":"Hoja8!H66","v":""},{"$f":"Hoja8!I66","v":""},{"$f":"Hoja8!J66","v":""},{"$f":"Hoja8!K66","v":""},{"$f":"Hoja8!L66","v":""}]
[null,{"$f":"Hoja8!G67","v":""},{"$f":"Hoja8!H67","v":""},{"$f":"Hoja8!I67","v":""},{"$f":"Hoja8!J67","v":""},{"$f":"Hoja8!K67","v":""},{"$f":"Hoja8!L67","v":""}]
[null,{"$f":"Hoja8!G68","v":""},{"$f":"Hoja8!H68","v":""},{"$f":"Hoja8!I68","v":""},{"$f":"Hoja8!J68","v":""},{"$f":"Hoja8!K68","v":""},{"$f":"Hoja8!L68","v":""}]
[null,{"$f":"Hoja8!G69","v":""},{"$f":"Hoja8!H69","v":""},{"$f":"Hoja8!I69","v":""},{"$f":"Hoja8!J69","v":""},{"$f":"Hoja8!K69","v":""},{"$f":"Hoja8!L69","v":""}]
[null,{"$f":"Hoja8!G70","v":""},{"$f":"Hoja8!H70","v":""},{"$f":"Hoja8!I70","v":""},{"$f":"Hoja8!J70","v":""},{"$f":"Hoja8!K70","v":""},{"$f":"Hoja8!L70","v":""}]
[null,{"$f":"Hoja8!G71","v":""},{"$f":"Hoja8!H71","v":""},{"$f":"Hoja8!I71","v":""},{"$f":"Hoja8!J71","v":""},{"$f":"Hoja8!K71","v":""},{"$f":"Hoja8!L71","v":""}]
[null,{"$f":"Hoja8!G72","v":""},{"$f":"Hoja8!H72","v":""},{"$f":"Hoja8!I72","v":""},{"$f":"Hoja8!J72","v":""},{"$f":"Hoja8!K72","v":""},{"$f":"Hoja8!L72","v":""}]
[null,{"$f":"Hoja8!G73","v":""},{"$f":"Hoja8!H73","v":""},{"$f":"Hoja8!I73","v":""},{"$f":"Hoja8!J73","v":""},{"$f":"Hoja8!K73","v":""},{"$f":"Hoja8!L73","v":""}]
[null,{"$f":"Hoja8!G74","v":""},{"$f":"Hoja8!H74","v":""},{"$f":"Hoja8!I74","v":""},{"$f":"Hoja8!J74","v":""},{"$f":"Hoja8!K74","v":""},{"$f":"Hoja8!L74","v":""}]
[null,{"$f":"Hoja8!G75","v":""},{"$f":"Hoja8!H75","v":""},{"$f":"Hoja8!I75","v":""},{"$f":"Hoja8!J75","v":""},{"$f":"Hoja8!K75","v":""},{"$f":"Hoja8!L75","v":""}]
[null,{"$f":"Hoja8!G76","v":""},{"$f":"Hoja8!H76","v":""},{"$f":"Hoja8!I76","v":""},{"$f":"Hoja8!J76","v":""},{"$f":"Hoja8!K76","v":""},{"$f":"Hoja8!L76","v":""}]
[null,{"$f":"Hoja8!G77","v":""},{"$f":"Hoja8!H77","v":""},{"$f":"Hoja8!I77","v":""},{"$f":"Hoja8!J77","v":""},{"$f":"Hoja8!K77","v":""},{"$f":"Hoja8!L77","v":""}]
[null,{"$f":"Hoja8!G78","v":""},{"$f":"Hoja8!H78","v":""},{"$f":"Hoja8!I78","v":""},{"$f":"Hoja8!J78","v":""},{"$f":"Hoja8!K78","v":""},{"$f":"Hoja8!L78","v":""}]
[null,{"$f":"Hoja8!G79","v":""},{"$f":"Hoja8!H79","v":""},{"$f":"Hoja8!I79","v":""},{"$f":"Hoja8!J79","v":""},{"$f":"Hoja8!K79","v":""},{"$f":"Hoja8!L79","v":""}]
[null,{"$f":"Hoja8!G80","v":""},{"$f":"Hoja8!H80","v":""},{"$f":"Hoja8!I80","v":""},{"$f":"Hoja8!J80","v":""},{"$f":"Hoja8!K80","v":""},{"$f":"Hoja8!L80","v":""}]
[null,{"$f":"Hoja8!G81","v":""},{"$f":"Hoja8!H81","v":""},{"$f":"Hoja8!I81","v":""},{"$f":"Hoja8!J81","v":""},{"$f":"Hoja8!K81","v":""},{"$f":"Hoja8!L81","v":""}]
[null,{"$f":"Hoja8!G82","v":""},{"$f":"Hoja8!H82","v":""},{"$f":"Hoja8!I82","v":""},{"$f":"Hoja8!J82","v":""},{"$f":"Hoja8!K82","v":""},{"$f":"Hoja8!L82","v":""}]
[null,{"$f":"Hoja8!G83","v":""},{"$f":"Hoja8!H83","v":""},{"$f":"Hoja8!I83","v":""},{"$f":"Hoja8!J83","v":""},{"$f":"Hoja8!K83","v":""},{"$f":"Hoja8!L83","v":""}]
[null,{"$f":"Hoja8!G84","v":""},{"$f":"Hoja8!H84","v":""},{"$f":"Hoja8!I84","v":""},{"$f":"Hoja8!J84","v":""},{"$f":"Hoja8!K84","v":""},{"$f":"Hoja8!L84","v":""}]
[null,{"$f":"Hoja8!G85","v":""},{"$f":"Hoja8!H85","v":""},{"$f":"Hoja8!I85","v":""},{"$f":"Hoja8!J85","v":""},{"$f":"Hoja8!K85","v":""},{"$f":"Hoja8!L85","v":""}]
[null,{"$f":"Hoja8!G86","v":""},{"$f":"Hoja8!H86","v":""},{"$f":"Hoja8!I86","v":""},{"$f":"Hoja8!J86","v":""},{"$f":"Hoja8!K86","v":""},{"$f":"Hoja8!L86","v":""}]
[null,{"$f":"Hoja8!G87","v":""},{"$f":"Hoja8!H87","v":""},{"$f":"Hoja8!I87","v":""},{"$f":"Hoja8!J87","v":""},{"$f":"Hoja8!K87","v":""},{"$f":"Hoja8!L87","v":""}]
[null,{"$f":"Hoja8!G88","v":""},{"$f":"Hoja8!H88","v":""},{"$f":"Hoja8!I88","v":""},{"$f":"Hoja8!J88","v":""},{"$f":"Hoja8!K88","v":""},{"$f":"Hoja8!L88","v":""}]
[null,{"$f":"Hoja8!G89","v":""},{"$f":"Hoja8!H89","v":""},{"$f":"Hoja8!I89","v":""},{"$f":"Hoja8!J89","v":""},{"$f":"Hoja8!K89","v":""},{"$f":"Hoja8!L89","v":""}]
[null,{"$f":"Hoja8!G90","v":""},{"$f":"Hoja8!H90","v":""},{"$f":"Hoja8!I90","v":""},{"$f":"Hoja8!J90","v":""},{"$f":"Hoja8!K90","v":""},{"$f":"Hoja8!L90","v":""}]
[null,{"$f":"Hoja8!G91","v":""},{"$f":"Hoja8!H91","v":""},{"$f":"Hoja8!I91","v":""},{"$f":"Hoja8!J91","v":""},{"$f":"Hoja8!K91","v":""},{"$f":"Hoja8!L91","v":""}]
[null,{"$f":"Hoja8!G92","v":""},{"$f":"Hoja8!H92","v":""},{"$f":"Hoja8!I92","v":""},{"$f":"Hoja8!J92","v":""},{"$f":"Hoja8!K92","v":""},{"$f":"Hoja8!L92","v":""}]
[null,{"$f":"Hoja8!G93","v":""},{"$f":"Hoja8!H93","v":""},{"$f":"Hoja8!I93","v":""},{"$f":"Hoja8!J93","v":""},{"$f":"Hoja8!K93","v":""},{"$f":"Hoja8!L93","v":""}]
[null,{"$f":"Hoja8!G94","v":""},{"$f":"Hoja8!H94","v":""},{"$f":"Hoja8!I94","v":""},{"$f":"Hoja8!J94","v":""},{"$f":"Hoja8!K94","v":""},{"$f":"Hoja8!L94","v":""}]
[null,{"$f":"Hoja8!G95","v":""},{"$f":"Hoja8!H95","v":""},{"$f":"Hoja8!I95","v":""},{"$f":"Hoja8!J95","v":""},{"$f":"Hoja8!K95","v":""},{"$f":"Hoja8!L95","v":""}]
[null,{"$f":"Hoja8!G96","v":""},{"$f":"Hoja8!H96","v":""},{"$f":"Hoja8!I96","v":""},{"$f":"Hoja8!J96","v":""},{"$f":"Hoja8!K96","v":""},{"$f":"Hoja8!L96","v":""}]
[null,{"$f":"Hoja8!G97","v":""},{"$f":"Hoja8!H97","v":""},{"$f":"Hoja8!I97","v":""},{"$f":"Hoja8!J97","v":""},{"$f":"Hoja8!K97","v":""},{"$f":"Hoja8!L97","v":""}]
[null,{"$f":"Hoja8!G98","v":""},{"$f":"Hoja8!H98","v":""},{"$f":"Hoja8!I98","v":""},{"$f":"Hoja8!J98","v":""},{"$f":"Hoja8!K98","v":""},{"$f":"Hoja8!L98","v":""}]
[null,{"$f":"Hoja8!G99","v":""},{"$f":"Hoja8!H99","v":""},{"$f":"Hoja8!I99","v":""},{"$f":"Hoja8!J99","v":""},{"$f":"Hoja8!K99","v":""},{"$f":"Hoja8!L99","v":""}]
[null,{"$f":"Hoja8!G100","v":""},{"$f":"Hoja8!H100","v":""},{"$f":"Hoja8!I100","v":""},{"$f":"Hoja8!J100","v":""},{"$f":"Hoja8!K100","v":""},{"$f":"Hoja8!L100","v":""}]
[null,{"$f":"Hoja8!G101","v":""},{"$f":"Hoja8!H101","v":""},{"$f":"Hoja8!I101","v":""},{"$f":"Hoja8!J101","v":""},{"$f":"Hoja8!K101","v":""},{"$f":"Hoja8!L101","v":""}]
[null,{"$f":"Hoja8!G102","v":""},{"$f":"Hoja8!H102","v":""},{"$f":"Hoja8!I102","v":""},{"$f":"Hoja8!J102","v":""},{"$f":"Hoja8!K102","v":""},{"$f":"Hoja8!L102","v":""}]
[null,{"$f":"Hoja8!G103","v":""},{"$f":"Hoja8!H103","v":""},{"$f":"Hoja8!I103","v":""},{"$f":"Hoja8!J103","v":""},{"$f":"Hoja8!K103","v":""},{"$f":"Hoja8!L103","v":""}]
[null,{"$f":"Hoja8!G104","v":""},{"$f":"Hoja8!H104","v":""},{"$f":"Hoja8!I104","v":""},{"$f":"Hoja8!J104","v":""},{"$f":"Hoja8!K104","v":""},{"$f":"Hoja8!L104","v":""}]
[null,{"$f":"Hoja8!G105","v":""},{"$f":"Hoja8!H105","v":""},{"$f":"Hoja8!I105","v":""},{"$f":"Hoja8!J105","v":""},{"$f":"Hoja8!K105","v":""},{"$f":"Hoja8!L105","v":""}]
[null,{"$f":"Hoja8!G106","v":""},{"$f":"Hoja8!H106","v":""},{"$f":"Hoja8!I106","v":""},{"$f":"Hoja8!J106","v":""},{"$f":"Hoja8!K106","v":""},{"$f":"Hoja8!L106","v":""}]
[null,{"$f":"Hoja8!G107","v":""},{"$f":"Hoja8!H107","v":""},{"$f":"Hoja8!I107","v":""},{"$f":"Hoja8!J107","v":""},{"$f":"Hoja8!K107","v":""},{"$f":"Hoja8!L107","v":""}]
[null,{"$f":"Hoja8!G108","v":""},{"$f":"Hoja8!H108","v":""},{"$f":"Hoja8!I108","v":""},{"$f":"Hoja8!J108","v":""},{"$f":"Hoja8!K108","v":""},{"$f":"Hoja8!L108","v":""}]
[null,{"$f":"Hoja8!G109","v":""},{"$f":"Hoja8!H109","v":""},{"$f":"Hoja8!I109","v":""},{"$f":"Hoja8!J109","v":""},{"$f":"Hoja8!K109","v":""},{"$f":"Hoja8!L109","v":""}]
[null,{"$f":"Hoja8!G110","v":""},{"$f":"Hoja8!H110","v":""},{"$f":"Hoja8!I110","v":""},{"$f":"Hoja8!J110","v":""},{"$f":"Hoja8!K110","v":""},{"$f":"Hoja8!L110","v":""}]
[null,{"$f":"Hoja8!G111","v":""},{"$f":"Hoja8!H111","v":""},{"$f":"Hoja8!I111","v":""},{"$f":"Hoja8!J111","v":""},{"$f":"Hoja8!K111","v":""},{"$f":"Hoja8!L111","v":""}]
[null,{"$f":"Hoja8!G112","v":""},{"$f":"Hoja8!H112","v":""},{"$f":"Hoja8!I112","v":""},{"$f":"Hoja8!J112","v":""},{"$f":"Hoja8!K112","v":""},{"$f":"Hoja8!L112","v":""}]
[null,{"$f":"Hoja8!G113","v":""},{"$f":"Hoja8!H113","v":""},{"$f":"Hoja8!I113","v":""},{"$f":"Hoja8!J113","v":""},{"$f":"Hoja8!K113","v":""},{"$f":"Hoja8!L113","v":""}]
[null,{"$f":"Hoja8!G114","v":""},{"$f":"Hoja8!H114","v":""},{"$f":"Hoja8!I114","v":""},{"$f":"Hoja8!J114","v":""},{"$f":"Hoja8!K114","v":""},{"$f":"Hoja8!L114","v":""}]
[null,{"$f":"Hoja8!G115","v":""},{"$f":"Hoja8!H115","v":""},{"$f":"Hoja8!I115","v":""},{"$f":"Hoja8!J115","v":""},{"$f":"Hoja8!K115","v":""},{"$f":"Hoja8!L115","v":""}]
[null,{"$f":"Hoja8!G116","v":""},{"$f":"Hoja8!H116","v":""},{"$f":"Hoja8!I116","v":""},{"$f":"Hoja8!J116","v":""},{"$f":"Hoja8!K116","v":""},{"$f":"Hoja8!L116","v":""}]
[null,{"$f":"Hoja8!G117","v":""},{"$f":"Hoja8!H117","v":""},{"$f":"Hoja8!I117","v":""},{"$f":"Hoja8!J117","v":""},{"$f":"Hoja8!K117","v":""},{"$f":"Hoja8!L117","v":""}]
[null,{"$f":"Hoja8!G118","v":""},{"$f":"Hoja8!H118","v":""},{"$f":"Hoja8!I118","v":""},{"$f":"Hoja8!J118","v":""},{"$f":"Hoja8!K118","v":""},{"$f":"Hoja8!L118","v":""}]
[null,{"$f":"Hoja8!G119","v":""},{"$f":"Hoja8!H119","v":""},{"$f":"Hoja8!I119","v":""},{"$f":"Hoja8!J119","v":""},{"$f":"Hoja8!K119","v":""},{"$f":"Hoja8!L119","v":""}]
[null,{"$f":"Hoja8!G120","v":""},{"$f":"Hoja8!H120","v":""},{"$f":"Hoja8!I120","v":""},{"$f":"Hoja8!J120","v":""},{"$f":"Hoja8!K120","v":""},{"$f":"Hoja8!L120","v":""}]
[null,{"$f":"Hoja8!G121","v":""},{"$f":"Hoja8!H121","v":""},{"$f":"Hoja8!I121","v":""},{"$f":"Hoja8!J121","v":""},{"$f":"Hoja8!K121","v":""},{"$f":"Hoja8!L121","v":""}]
[null,{"$f":"Hoja8!G122","v":""},{"$f":"Hoja8!H122","v":""},{"$f":"Hoja8!I122","v":""},{"$f":"Hoja8!J122","v":""},{"$f":"Hoja8!K122","v":""},{"$f":"Hoja8!L122","v":""}]
[null,{"$f":"Hoja8!G123","v":""},{"$f":"Hoja8!H123","v":""},{"$f":"Hoja8!I123","v":""},{"$f":"Hoja8!J123","v":""},{"$f":"Hoja8!K123","v":""},{"$f":"Hoja8!L123","v":""}]
[null,{"$f":"Hoja8!G124","v":""},{"$f":"Hoja8!H124","v":""},{"$f":"Hoja8!I124","v":""},{"$f":"Hoja8!J124","v":""},{"$f":"Hoja8!K124","v":""},{"$f":"Hoja8!L124","v":""}]
[null,{"$f":"Hoja8!G125","v":""},{"$f":"Hoja8!H125","v":""},{"$f":"Hoja8!I125","v":""},{"$f":"Hoja8!J125","v":""},{"$f":"Hoja8!K125","v":""},{"$f":"Hoja8!L125","v":""}]
[null,{"$f":"Hoja8!G126","v":""},{"$f":"Hoja8!H126","v":""},{"$f":"Hoja8!I126","v":""},{"$f":"Hoja8!J126","v":""},{"$f":"Hoja8!K126","v":""},{"$f":"Hoja8!L126","v":""}]
[null,{"$f":"Hoja8!G127","v":""},{"$f":"Hoja8!H127","v":""},{"$f":"Hoja8!I127","v":""},{"$f":"Hoja8!J127","v":""},{"$f":"Hoja8!K127","v":""},{"$f":"Hoja8!L127","v":""}]
[null,{"$f":"Hoja8!G128","v":""},{"$f":"Hoja8!H128","v":""},{"$f":"Hoja8!I128","v":""},{"$f":"Hoja8!J128","v":""},{"$f":"Hoja8!K128","v":""},{"$f":"Hoja8!L128","v":""}]
[null,{"$f":"Hoja8!G129","v":""},{"$f":"Hoja8!H129","v":""},{"$f":"Hoja8!I129","v":""},{"$f":"Hoja8!J129","v":""},{"$f":"Hoja8!K129","v":""},{"$f":"Hoja8!L129","v":""}]
[null,{"$f":"Hoja8!G130","v":""},{"$f":"Hoja8!H130","v":""},{"$f":"Hoja8!I130","v":""},{"$f":"Hoja8!J130","v":""},{"$f":"Hoja8!K130","v":""},{"$f":"Hoja8!L130","v":""}]
[null,{"$f":"Hoja8!G131","v":""},{"$f":"Hoja8!H131","v":""},{"$f":"Hoja8!I131","v":""},{"$f":"Hoja8!J131","v":""},{"$f":"Hoja8!K131","v":""},{"$f":"Hoja8!L131","v":""}]
[null,{"$f":"Hoja8!G132","v":""},{"$f":"Hoja8!H132","v":""},{"$f":"Hoja8!I132","v":""},{"$f":"Hoja8!J132","v":""},{"$f":"Hoja8!K132","v":""},{"$f":"Hoja8!L132","v":""}]
[null,{"$f":"Hoja8!G133","v":""},{"$f":"Hoja8!H133","v":""},{"$f":"Hoja8!I133","v":""},{"$f":"Hoja8!J133","v":""},{"$f":"Hoja8!K133","v":""},{"$f":"Hoja8!L133","v":""}]
[null,{"$f":"Hoja8!G134","v":""},{"$f":"Hoja8!H134","v":""},{"$f":"Hoja8!I134","v":""},{"$f":"Hoja8!J134","v":""},{"$f":"Hoja8!K134","v":""},{"$f":"Hoja8!L134","v":""}]
[null,{"$f":"Hoja8!G135","v":""},{"$f":"Hoja8!H135","v":""},{"$f":"Hoja8!I135","v":""},{"$f":"Hoja8!J135","v":""},{"$f":"Hoja8!K135","v":""},{"$f":"Hoja8!L135","v":""}]
[null,{"$f":"Hoja8!G136","v":""},{"$f":"Hoja8!H136","v":""},{"$f":"Hoja8!I136","v":""},{"$f":"Hoja8!J136","v":""},{"$f":"Hoja8!K136","v":""},{"$f":"Hoja8!L136","v":""}]
[null,{"$f":"Hoja8!G137","v":""},{"$f":"Hoja8!H137","v":""},{"$f":"Hoja8!I137","v":""},{"$f":"Hoja8!J137","v":""},{"$f":"Hoja8!K137","v":""},{"$f":"Hoja8!L137","v":""}]
[null,{"$f":"Hoja8!G138","v":""},{"$f":"Hoja8!H138","v":""},{"$f":"Hoja8!I138","v":""},{"$f":"Hoja8!J138","v":""},{"$f":"Hoja8!K138","v":""},{"$f":"Hoja8!L138","v":""}]
[null,{"$f":"Hoja8!G139","v":""},{"$f":"Hoja8!H139","v":""},{"$f":"Hoja8!I139","v":""},{"$f":"Hoja8!J139","v":""},{"$f":"Hoja8!K139","v":""},{"$f":"Hoja8!L139","v":""}]
[null,{"$f":"Hoja8!G140","v":""},{"$f":"Hoja8!H140","v":""},{"$f":"Hoja8!I140","v":""},{"$f":"Hoja8!J140","v":""},{"$f":"Hoja8!K140","v":""},{"$f":"Hoja8!L140","v":""}]
[null,{"$f":"Hoja8!G141","v":""},{"$f":"Hoja8!H141","v":""},{"$f":"Hoja8!I141","v":""},{"$f":"Hoja8!J141","v":""},{"$f":"Hoja8!K141","v":""},{"$f":"Hoja8!L141","v":""}]
[null,{"$f":"Hoja8!G142","v":""},{"$f":"Hoja8!H142","v":""},{"$f":"Hoja8!I142","v":""},{"$f":"Hoja8!J142","v":""},{"$f":"Hoja8!K142","v":""},{"$f":"Hoja8!L142","v":""}]
[null,{"$f":"Hoja8!G143","v":""},{"$f":"Hoja8!H143","v":""},{"$f":"Hoja8!I143","v":""},{"$f":"Hoja8!J143","v":""},{"$f":"Hoja8!K143","v":""},{"$f":"Hoja8!L143","v":""}]
[null,{"$f":"Hoja8!G144","v":""},{"$f":"Hoja8!H144","v":""},{"$f":"Hoja8!I144","v":""},{"$f":"Hoja8!J144","v":""},{"$f":"Hoja8!K144","v":""},{"$f":"Hoja8!L144","v":""}]
[null,{"$f":"Hoja8!G145","v":""},{"$f":"Hoja8!H145","v":""},{"$f":"Hoja8!I145","v":""},{"$f":"Hoja8!J145","v":""},{"$f":"Hoja8!K145","v":""},{"$f":"Hoja8!L145","v":""}]
[null,{"$f":"Hoja8!G146","v":""},{"$f":"Hoja8!H146","v":""},{"$f":"Hoja8!I146","v":""},{"$f":"Hoja8!J146","v":""},{"$f":"Hoja8!K146","v":""},{"$f":"Hoja8!L146","v":""}]
[null,{"$f":"Hoja8!G147","v":""},{"$f":"Hoja8!H147","v":""},{"$f":"Hoja8!I147","v":""},{"$f":"Hoja8!J147","v":""},{"$f":"Hoja8!K147","v":""},{"$f":"Hoja8!L147","v":""}]
[null,{"$f":"Hoja8!G148","v":""},{"$f":"Hoja8!H148","v":""},{"$f":"Hoja8!I148","v":""},{"$f":"Hoja8!J148","v":""},{"$f":"Hoja8!K148","v":""},{"$f":"Hoja8!L148","v":""}]
[null,{"$f":"Hoja8!G149","v":""},{"$f":"Hoja8!H149","v":""},{"$f":"Hoja8!I149","v":""},{"$f":"Hoja8!J149","v":""},{"$f":"Hoja8!K149","v":""},{"$f":"Hoja8!L149","v":""}]
[null,{"$f":"Hoja8!G150","v":""},{"$f":"Hoja8!H150","v":""},{"$f":"Hoja8!I150","v":""},{"$f":"Hoja8!J150","v":""},{"$f":"Hoja8!K150","v":""},{"$f":"Hoja8!L150","v":""}]
[null,{"$f":"Hoja8!G151","v":""},{"$f":"Hoja8!H151","v":""},{"$f":"Hoja8!I151","v":""},{"$f":"Hoja8!J151","v":""},{"$f":"Hoja8!K151","v":""},{"$f":"Hoja8!L151","v":""}]
[null,{"$f":"Hoja8!G152","v":""},{"$f":"Hoja8!H152","v":""},{"$f":"Hoja8!I152","v":""},{"$f":"Hoja8!J152","v":""},{"$f":"Hoja8!K152","v":""},{"$f":"Hoja8!L152","v":""}]
[null,{"$f":"Hoja8!G153","v":""},{"$f":"Hoja8!H153","v":""},{"$f":"Hoja8!I153","v":""},{"$f":"Hoja8!J153","v":""},{"$f":"Hoja8!K153","v":""},{"$f":"Hoja8!L153","v":""}]
[null,{"$f":"Hoja8!G154","v":""},{"$f":"Hoja8!H154","v":""},{"$f":"Hoja8!I154","v":""},{"$f":"Hoja8!J154","v":""},{"$f":"Hoja8!K154","v":""},{"$f":"Hoja8!L154","v":""}]
[null,{"$f":"Hoja8!G155","v":""},{"$f":"Hoja8!H155","v":""},{"$f":"Hoja8!I155","v":""},{"$f":"Hoja8!J155","v":""},{"$f":"Hoja8!K155","v":""},{"$f":"Hoja8!L155","v":""}]
[null,{"$f":"Hoja8!G156","v":""},{"$f":"Hoja8!H156","v":""},{"$f":"Hoja8!I156","v":""},{"$f":"Hoja8!J156","v":""},{"$f":"Hoja8!K156","v":""},{"$f":"Hoja8!L156","v":""}]
[null,{"$f":"Hoja8!G157","v":""},{"$f":"Hoja8!H157","v":""},{"$f":"Hoja8!I157","v":""},{"$f":"Hoja8!J157","v":""},{"$f":"Hoja8!K157","v":""},{"$f":"Hoja8!L157","v":""}]
[null,{"$f":"Hoja8!G158","v":""},{"$f":"Hoja8!H158","v":""},{"$f":"Hoja8!I158","v":""},{"$f":"Hoja8!J158","v":""},{"$f":"Hoja8!K158","v":""},{"$f":"Hoja8!L158","v":""}]
[null,{"$f":"Hoja8!G159","v":""},{"$f":"Hoja8!H159","v":""},{"$f":"Hoja8!I159","v":""},{"$f":"Hoja8!J159","v":""},{"$f":"Hoja8!K159","v":""},{"$f":"Hoja8!L159","v":""}]
[null,{"$f":"Hoja8!G160","v":""},{"$f":"Hoja8!H160","v":""},{"$f":"Hoja8!I160","v":""},{"$f":"Hoja8!J160","v":""},{"$f":"Hoja8!K160","v":""},{"$f":"Hoja8!L160","v":""}]
[null,{"$f":"Hoja8!G161","v":""},{"$f":"Hoja8!H161","v":""},{"$f":"Hoja8!I161","v":""},{"$f":"Hoja8!J161","v":""},{"$f":"Hoja8!K161","v":""},{"$f":"Hoja8!L161","v":""}]
[null,{"$f":"Hoja8!G162","v":""},{"$f":"Hoja8!H162","v":""},{"$f":"Hoja8!I162","v":""},{"$f":"Hoja8!J162","v":""},{"$f":"Hoja8!K162","v":""},{"$f":"Hoja8!L162","v":""}]
[null,{"$f":"Hoja8!G163","v":""},{"$f":"Hoja8!H163","v":""},{"$f":"Hoja8!I163","v":""},{"$f":"Hoja8!J163","v":""},{"$f":"Hoja8!K163","v":""},{"$f":"Hoja8!L163","v":""}]
[null,{"$f":"Hoja8!G164","v":""},{"$f":"Hoja8!H164","v":""},{"$f":"Hoja8!I164","v":""},{"$f":"Hoja8!J164","v":""},{"$f":"Hoja8!K164","v":""},{"$f":"Hoja8!L164","v":""}]
[null,{"$f":"Hoja8!G165","v":""},{"$f":"Hoja8!H165","v":""},{"$f":"Hoja8!I165","v":""},{"$f":"Hoja8!J165","v":""},{"$f":"Hoja8!K165","v":""},{"$f":"Hoja8!L165","v":""}]
[null,{"$f":"Hoja8!G166","v":""},{"$f":"Hoja8!H166","v":""},{"$f":"Hoja8!I166","v":""},{"$f":"Hoja8!J166","v":""},{"$f":"Hoja8!K166","v":""},{"$f":"Hoja8!L166","v":""}]
[null,{"$f":"Hoja8!G167","v":""},{"$f":"Hoja8!H167","v":""},{"$f":"Hoja8!I167","v":""},{"$f":"Hoja8!J167","v":""},{"$f":"Hoja8!K167","v":""},{"$f":"Hoja8!L167","v":""}]
[null,{"$f":"Hoja8!G168","v":""},{"$f":"Hoja8!H168","v":""},{"$f":"Hoja8!I168","v":""},{"$f":"Hoja8!J168","v":""},{"$f":"Hoja8!K168","v":""},{"$f":"Hoja8!L168","v":""}]
[null,{"$f":"Hoja8!G169","v":""},{"$f":"Hoja8!H169","v":""},{"$f":"Hoja8!I169","v":""},{"$f":"Hoja8!J169","v":""},{"$f":"Hoja8!K169","v":""},{"$f":"Hoja8!L169","v":""}]
[null,{"$f":"Hoja8!G170","v":""},{"$f":"Hoja8!H170","v":""},{"$f":"Hoja8!I170","v":""},{"$f":"Hoja8!J170","v":""},{"$f":"Hoja8!K170","v":""},{"$f":"Hoja8!L170","v":""}]
[null,{"$f":"Hoja8!G171","v":""},{"$f":"Hoja8!H171","v":""},{"$f":"Hoja8!I171","v":""},{"$f":"Hoja8!J171","v":""},{"$f":"Hoja8!K171","v":""},{"$f":"Hoja8!L171","v":""}]
[null,{"$f":"Hoja8!G172","v":""},{"$f":"Hoja8!H172","v":""},{"$f":"Hoja8!I172","v":""},{"$f":"Hoja8!J172","v":""},{"$f":"Hoja8!K172","v":""},{"$f":"Hoja8!L172","v":""}]
[null,{"$f":"Hoja8!G173","v":""},{"$f":"Hoja8!H173","v":""},{"$f":"Hoja8!I173","v":""},{"$f":"Hoja8!J173","v":""},{"$f":"Hoja8!K173","v":""},{"$f":"Hoja8!L173","v":""}]
[null,{"$f":"Hoja8!G174","v":""},{"$f":"Hoja8!H174","v":""},{"$f":"Hoja8!I174","v":""},{"$f":"Hoja8!J174","v":""},{"$f":"Hoja8!K174","v":""},{"$f":"Hoja8!L174","v":""}]
[null,{"$f":"Hoja8!G175","v":""},{"$f":"Hoja8!H175","v":""},{"$f":"Hoja8!I175","v":""},{"$f":"Hoja8!J175","v":""},{"$f":"Hoja8!K175","v":""},{"$f":"Hoja8!L175","v":""}]
[null,{"$f":"Hoja8!G176","v":""},{"$f":"Hoja8!H176","v":""},{"$f":"Hoja8!I176","v":""},{"$f":"Hoja8!J176","v":""},{"$f":"Hoja8!K176","v":""},{"$f":"Hoja8!L176","v":""}]
[null,{"$f":"Hoja8!G177","v":""},{"$f":"Hoja8!H177","v":""},{"$f":"Hoja8!I177","v":""},{"$f":"Hoja8!J177","v":""},{"$f":"Hoja8!K177","v":""},{"$f":"Hoja8!L177","v":""}]
[null,{"$f":"Hoja8!G178","v":""},{"$f":"Hoja8!H178","v":""},{"$f":"Hoja8!I178","v":""},{"$f":"Hoja8!J178","v":""},{"$f":"Hoja8!K178","v":""},{"$f":"Hoja8!L178","v":""}]
[null,{"$f":"Hoja8!G179","v":""},{"$f":"Hoja8!H179","v":""},{"$f":"Hoja8!I179","v":""},{"$f":"Hoja8!J179","v":""},{"$f":"Hoja8!K179","v":""},{"$f":"Hoja8!L179","v":""}]
[null,{"$f":"Hoja8!G180","v":""},{"$f":"Hoja8!H180","v":""},{"$f":"Hoja8!I180","v":""},{"$f":"Hoja8!J180","v":""},{"$f":"Hoja8!K180","v":""},{"$f":"Hoja8!L180","v":""}]
[null,{"$f":"Hoja8!G181","v":""},{"$f":"Hoja8!H181","v":""},{"$f":"Hoja8!I181","v":""},{"$f":"Hoja8!J181","v":""},{"$f":"Hoja8!K181","v":""},{"$f":"Hoja8!L181","v":""}]
[null,{"$f":"Hoja8!G182","v":""},{"$f":"Hoja8!H182","v":""},{"$f":"Hoja8!I182","v":""},{"$f":"Hoja8!J182","v":""},{"$f":"Hoja8!K182","v":""},{"$f":"Hoja8!L182","v":""}]
[null,{"$f":"Hoja8!G183","v":""},{"$f":"Hoja8!H183","v":""},{"$f":"Hoja8!I183","v":""},{"$f":"Hoja8!J183","v":""},{"$f":"Hoja8!K183","v":""},{"$f":"Hoja8!L183","v":""}]
[null,{"$f":"Hoja8!G184","v":""},{"$f":"Hoja8!H184","v":""},{"$f":"Hoja8!I184","v":""},{"$f":"Hoja8!J184","v":""},{"$f":"Hoja8!K184","v":""},{"$f":"Hoja8!L184","v":""}]
[null,{"$f":"Hoja8!G185","v":""},{"$f":"Hoja8!H185","v":""},{"$f":"Hoja8!I185","v":""},{"$f":"Hoja8!J185","v":""},{"$f":"Hoja8!K185","v":""},{"$f":"Hoja8!L185","v":""}]
[null,{"$f":"Hoja8!G186","v":""},{"$f":"Hoja8!H186","v":""},{"$f":"Hoja8!I186","v":""},{"$f":"Hoja8!J186","v":""},{"$f":"Hoja8!K186","v":""},{"$f":"Hoja8!L186","v":""}]
[null,{"$f":"Hoja8!G187","v":""},{"$f":"Hoja8!H187","v":""},{"$f":"Hoja8!I187","v":""},{"$f":"Hoja8!J187","v":""},{"$f":"Hoja8!K187","v":""},{"$f":"Hoja8!L187","v":""}]
[null,{"$f":"Hoja8!G188","v":""},{"$f":"Hoja8!H188","v":""},{"$f":"Hoja8!I188","v":""},{"$f":"Hoja8!J188","v":""},{"$f":"Hoja8!K188","v":""},{"$f":"Hoja8!L188","v":""}]
[null,{"$f":"Hoja8!G189","v":""},{"$f":"Hoja8!H189","v":""},{"$f":"Hoja8!I189","v":""},{"$f":"Hoja8!J189","v":""},{"$f":"Hoja8!K189","v":""},{"$f":"Hoja8!L189","v":""}]
[null,{"$f":"Hoja8!G190","v":""},{"$f":"Hoja8!H190","v":""},{"$f":"Hoja8!I190","v":""},{"$f":"Hoja8!J190","v":""},{"$f":"Hoja8!K190","v":""},{"$f":"Hoja8!L190","v":""}]
[null,{"$f":"Hoja8!G191","v":""},{"$f":"Hoja8!H191","v":""},{"$f":"Hoja8!I191","v":""},{"$f":"Hoja8!J191","v":""},{"$f":"Hoja8!K191","v":""},{"$f":"Hoja8!L191","v":""}]
[null,{"$f":"Hoja8!G192","v":""},{"$f":"Hoja8!H192","v":""},{"$f":"Hoja8!I192","v":""},{"$f":"Hoja8!J192","v":""},{"$f":"Hoja8!K192","v":""},{"$f":"Hoja8!L192","v":""}]
[null,{"$f":"Hoja8!G193","v":""},{"$f":"Hoja8!H193","v":""},{"$f":"Hoja8!I193","v":""},{"$f":"Hoja8!J193","v":""},{"$f":"Hoja8!K193","v":""},{"$f":"Hoja8!L193","v":""}]
[null,{"$f":"Hoja8!G194","v":""},{"$f":"Hoja8!H194","v":""},{"$f":"Hoja8!I194","v":""},{"$f":"Hoja8!J194","v":""},{"$f":"Hoja8!K194","v":""},{"$f":"Hoja8!L194","v":""}]
[null,{"$f":"Hoja8!G195","v":""},{"$f":"Hoja8!H195","v":""},{"$f":"Hoja8!I195","v":""},{"$f":"Hoja8!J195","v":""},{"$f":"Hoja8!K195","v":""},{"$f":"Hoja8!L195","v":""}]
[null,{"$f":"Hoja8!G196","v":""},{"$f":"Hoja8!H196","v":""},{"$f":"Hoja8!I196","v":""},{"$f":"Hoja8!J196","v":""},{"$f":"Hoja8!K196","v":""},{"$f":"Hoja8!L196","v":""}]
[null,{"$f":"Hoja8!G197","v":""},{"$f":"Hoja8!H197","v":""},{"$f":"Hoja8!I197","v":""},{"$f":"Hoja8!J197","v":""},{"$f":"Hoja8!K197","v":""},{"$f":"Hoja8!L197","v":""}]
[null,{"$f":"Hoja8!G198","v":""},{"$f":"Hoja8!H198","v":""},{"$f":"Hoja8!I198","v":""},{"$f":"Hoja8!J198","v":""},{"$f":"Hoja8!K198","v":""},{"$f":"Hoja8!L198","v":""}]
[null,{"$f":"Hoja8!G199","v":""},{"$f":"Hoja8!H199","v":""},{"$f":"Hoja8!I199","v":""},{"$f":"Hoja8!J199","v":""},{"$f":"Hoja8!K199","v":""},{"$f":"Hoja8!L199","v":""}]
[null,{"$f":"Hoja8!G200","v":""},{"$f":"Hoja8!H200","v":""},{"$f":"Hoja8!I200","v":""},{"$f":"Hoja8!J200","v":""},{"$f":"Hoja8!K200","v":""},{"$f":"Hoja8!L200","v":""}]
[null,{"$f":"Hoja8!G201","v":""},{"$f":"Hoja8!H201","v":""},{"$f":"Hoja8!I201","v":""},{"$f":"Hoja8!J201","v":""},{"$f":"Hoja8!K201","v":""},{"$f":"Hoja8!L201","v":""}]
[null,{"$f":"Hoja8!G202","v":""},{"$f":"Hoja8!H202","v":""},{"$f":"Hoja8!I202","v":""},{"$f":"Hoja8!J202","v":""},{"$f":"Hoja8!K202","v":""},{"$f":"Hoja8!L202","v":""}]
[null,{"$f":"Hoja8!G203","v":""},{"$f":"Hoja8!H203","v":""},{"$f":"Hoja8!I203","v":""},{"$f":"Hoja8!J203","v":""},{"$f":"Hoja8!K203","v":""},{"$f":"Hoja8!L203","v":""}]
[null,{"$f":"Hoja8!G204","v":""},{"$f":"Hoja8!H204","v":""},{"$f":"Hoja8!I204","v":""},{"$f":"Hoja8!J204","v":""},{"$f":"Hoja8!K204","v":""},{"$f":"Hoja8!L204","v":""}]
[null,{"$f":"Hoja8!G205","v":""},{"$f":"Hoja8!H205","v":""},{"$f":"Hoja8!I205","v":""},{"$f":"Hoja8!J205","v":""},{"$f":"Hoja8!K205","v":""},{"$f":"Hoja8!L205","v":""}]
[null,{"$f":"Hoja8!G206","v":""},{"$f":"Hoja8!H206","v":""},{"$f":"Hoja8!I206","v":""},{"$f":"Hoja8!J206","v":""},{"$f":"Hoja8!K206","v":""},{"$f":"Hoja8!L206","v":""}]
[null,{"$f":"Hoja8!G207","v":""},{"$f":"Hoja8!H207","v":""},{"$f":"Hoja8!I207","v":""},{"$f":"Hoja8!J207","v":""},{"$f":"Hoja8!K207","v":""},{"$f":"Hoja8!L207","v":""}]
[null,{"$f":"Hoja8!G208","v":""},{"$f":"Hoja8!H208","v":""},{"$f":"Hoja8!I208","v":""},{"$f":"Hoja8!J208","v":""},{"$f":"Hoja8!K208","v":""},{"$f":"Hoja8!L208","v":""}]
[null,{"$f":"Hoja8!G209","v":""},{"$f":"Hoja8!H209","v":""},{"$f":"Hoja8!I209","v":""},{"$f":"Hoja8!J209","v":""},{"$f":"Hoja8!K209","v":""},{"$f":"Hoja8!L209","v":""}]
[null,{"$f":"Hoja8!G210","v":""},{"$f":"Hoja8!H210","v":""},{"$f":"Hoja8!I210","v":""},{"$f":"Hoja8!J210","v":""},{"$f":"Hoja8!K210","v":""},{"$f":"Hoja8!L210","v":""}]
[null,{"$f":"Hoja8!G211","v":""},{"$f":"Hoja8!H211","v":""},{"$f":"Hoja8!I211","v":""},{"$f":"Hoja8!J211","v":""},{"$f":"Hoja8!K211","v":""},{"$f":"Hoja8!L211","v":""}]
[null,{"$f":"Hoja8!G212","v":""},{"$f":"Hoja8!H212","v":""},{"$f":"Hoja8!I212","v":""},{"$f":"Hoja8!J212","v":""},{"$f":"Hoja8!K212","v":""},{"$f":"Hoja8!L212","v":""}]
[null,{"$f":"Hoja8!G213","v":""},{"$f":"Hoja8!H213","v":""},{"$f":"Hoja8!I213","v":""},{"$f":"Hoja8!J213","v":""},{"$f":"Hoja8!K213","v":""},{"$f":"Hoja8!L213","v":""}]
[null,{"$f":"Hoja8!G214","v":""},{"$f":"Hoja8!H214","v":""},{"$f":"Hoja8!I214","v":""},{"$f":"Hoja8!J214","v":""},{"$f":"Hoja8!K214","v":""},{"$f":"Hoja8!L214","v":""}]
[null,{"$f":"Hoja8!G215","v":""},{"$f":"Hoja8!H215","v":""},{"$f":"Hoja8!I215","v":""},{"$f":"Hoja8!J215","v":""},{"$f":"Hoja8!K215","v":""},{"$f":"Hoja8!L215","v":""}]
[null,{"$f":"Hoja8!G216","v":""},{"$f":"Hoja8!H216","v":""},{"$f":"Hoja8!I216","v":""},{"$f":"Hoja8!J216","v":""},{"$f":"Hoja8!K216","v":""},{"$f":"Hoja8!L216","v":""}]
[null,{"$f":"Hoja8!G217","v":""},{"$f":"Hoja8!H217","v":""},{"$f":"Hoja8!I217","v":""},{"$f":"Hoja8!J217","v":""},{"$f":"Hoja8!K217","v":""},{"$f":"Hoja8!L217","v":""}]
[null,{"$f":"Hoja8!G218","v":""},{"$f":"Hoja8!H218","v":""},{"$f":"Hoja8!I218","v":""},{"$f":"Hoja8!J218","v":""},{"$f":"Hoja8!K218","v":""},{"$f":"Hoja8!L218","v":""}]
[null,{"$f":"Hoja8!G219","v":""},{"$f":"Hoja8!H219","v":""},{"$f":"Hoja8!I219","v":""},{"$f":"Hoja8!J219","v":""},{"$f":"Hoja8!K219","v":""},{"$f":"Hoja8!L219","v":""}]
[null,{"$f":"Hoja8!G220","v":""},{"$f":"Hoja8!H220","v":""},{"$f":"Hoja8!I220","v":""},{"$f":"Hoja8!J220","v":""},{"$f":"Hoja8!K220","v":""},{"$f":"Hoja8!L220","v":""}]
[null,{"$f":"Hoja8!G221","v":""},{"$f":"Hoja8!H221","v":""},{"$f":"Hoja8!I221","v":""},{"$f":"Hoja8!J221","v":""},{"$f":"Hoja8!K221","v":""},{"$f":"Hoja8!L221","v":""}]
[null,{"$f":"Hoja8!G222","v":""},{"$f":"Hoja8!H222","v":""},{"$f":"Hoja8!I222","v":""},{"$f":"Hoja8!J222","v":""},{"$f":"Hoja8!K222","v":""},{"$f":"Hoja8!L222","v":""}]
[null,{"$f":"Hoja8!G223","v":""},{"$f":"Hoja8!H223","v":""},{"$f":"Hoja8!I223","v":""},{"$f":"Hoja8!J223","v":""},{"$f":"Hoja8!K223","v":""},{"$f":"Hoja8!L223","v":""}]
[null,{"$f":"Hoja8!G224","v":""},{"$f":"Hoja8!H224","v":""},{"$f":"Hoja8!I224","v":""},{"$f":"Hoja8!J224","v":""},{"$f":"Hoja8!K224","v":""},{"$f":"Hoja8!L224","v":""}]
[null,{"$f":"Hoja8!G225","v":""},{"$f":"Hoja8!H225","v":""},{"$f":"Hoja8!I225","v":""},{"$f":"Hoja8!J225","v":""},{"$f":"Hoja8!K225","v":""},{"$f":"Hoja8!L225","v":""}]
[null,{"$f":"Hoja8!G226","v":""},{"$f":"Hoja8!H226","v":""},{"$f":"Hoja8!I226","v":""},{"$f":"Hoja8!J226","v":""},{"$f":"Hoja8!K226","v":""},{"$f":"Hoja8!L226","v":""}]
[null,{"$f":"Hoja8!G227","v":""},{"$f":"Hoja8!H227","v":""},{"$f":"Hoja8!I227","v":""},{"$f":"Hoja8!J227","v":""},{"$f":"Hoja8!K227","v":""},{"$f":"Hoja8!L227","v":""}]
[null,{"$f":"Hoja8!G228","v":""},{"$f":"Hoja8!H228","v":""},{"$f":"Hoja8!I228","v":""},{"$f":"Hoja8!J228","v":""},{"$f":"Hoja8!K228","v":""},{"$f":"Hoja8!L228","v":""}]
[null,{"$f":"Hoja8!G229","v":""},{"$f":"Hoja8!H229","v":""},{"$f":"Hoja8!I229","v":""},{"$f":"Hoja8!J229","v":""},{"$f":"Hoja8!K229","v":""},{"$f":"Hoja8!L229","v":""}]
[null,{"$f":"Hoja8!G230","v":""},{"$f":"Hoja8!H230","v":""},{"$f":"Hoja8!I230","v":""},{"$f":"Hoja8!J230","v":""},{"$f":"Hoja8!K230","v":""},{"$f":"Hoja8!L230","v":""}]
[null,{"$f":"Hoja8!G231","v":""},{"$f":"Hoja8!H231","v":""},{"$f":"Hoja8!I231","v":""},{"$f":"Hoja8!J231","v":""},{"$f":"Hoja8!K231","v":""},{"$f":"Hoja8!L231","v":""}]
[null,{"$f":"Hoja8!G232","v":""},{"$f":"Hoja8!H232","v":""},{"$f":"Hoja8!I232","v":""},{"$f":"Hoja8!J232","v":""},{"$f":"Hoja8!K232","v":""},{"$f":"Hoja8!L232","v":""}]
[null,{"$f":"Hoja8!G233","v":""},{"$f":"Hoja8!H233","v":""},{"$f":"Hoja8!I233","v":""},{"$f":"Hoja8!J233","v":""},{"$f":"Hoja8!K233","v":""},{"$f":"Hoja8!L233","v":""}]
[null,{"$f":"Hoja8!G234","v":""},{"$f":"Hoja8!H234","v":""},{"$f":"Hoja8!I234","v":""},{"$f":"Hoja8!J234","v":""},{"$f":"Hoja8!K234","v":""},{"$f":"Hoja8!L234","v":""}]
[null,{"$f":"Hoja8!G235","v":""},{"$f":"Hoja8!H235","v":""},{"$f":"Hoja8!I235","v":""},{"$f":"Hoja8!J235","v":""},{"$f":"Hoja8!K235","v":""},{"$f":"Hoja8!L235","v":""}]
[null,{"$f":"Hoja8!G236","v":""},{"$f":"Hoja8!H236","v":""},{"$f":"Hoja8!I236","v":""},{"$f":"Hoja8!J236","v":""},{"$f":"Hoja8!K236","v":""},{"$f":"Hoja8!L236","v":""}]
[null,{"$f":"Hoja8!G237","v":""},{"$f":"Hoja8!H237","v":""},{"$f":"Hoja8!I237","v":""},{"$f":"Hoja8!J237","v":""},{"$f":"Hoja8!K237","v":""},{"$f":"Hoja8!L237","v":""}]
[null,{"$f":"Hoja8!G238","v":""},{"$f":"Hoja8!H238","v":""},{"$f":"Hoja8!I238","v":""},{"$f":"Hoja8!J238","v":""},{"$f":"Hoja8!K238","v":""},{"$f":"Hoja8!L238","v":""}]
[null,{"$f":"Hoja8!G239","v":""},{"$f":"Hoja8!H239","v":""},{"$f":"Hoja8!I239","v":""},{"$f":"Hoja8!J239","v":""},{"$f":"Hoja8!K239","v":""},{"$f":"Hoja8!L239","v":""}]
[null,{"$f":"Hoja8!G240","v":""},{"$f":"Hoja8!H240","v":""},{"$f":"Hoja8!I240","v":""},{"$f":"Hoja8!J240","v":""},{"$f":"Hoja8!K240","v":""},{"$f":"Hoja8!L240","v":""}]
[null,{"$f":"Hoja8!G241","v":""},{"$f":"Hoja8!H241","v":""},{"$f":"Hoja8!I241","v":""},{"$f":"Hoja8!J241","v":""},{"$f":"Hoja8!K241","v":""},{"$f":"Hoja8!L241","v":""}]
[null,{"$f":"Hoja8!G242","v":""},{"$f":"Hoja8!H242","v":""},{"$f":"Hoja8!I242","v":""},{"$f":"Hoja8!J242","v":""},{"$f":"Hoja8!K242","v":""},{"$f":"Hoja8!L242","v":""}]
[null,{"$f":"Hoja8!G243","v":""},{"$f":"Hoja8!H243","v":""},{"$f":"Hoja8!I243","v":""},{"$f":"Hoja8!J243","v":""},{"$f":"Hoja8!K243","v":""},{"$f":"Hoja8!L243","v":""}]
[null,{"$f":"Hoja8!G244","v":""},{"$f":"Hoja8!H244","v":""},{"$f":"Hoja8!I244","v":""},{"$f":"Hoja8!J244","v":""},{"$f":"Hoja8!K244","v":""},{"$f":"Hoja8!L244","v":""}]
[null,{"$f":"Hoja8!G245","v":""},{"$f":"Hoja8!H245","v":""},{"$f":"Hoja8!I245","v":""},{"$f":"Hoja8!J245","v":""},{"$f":"Hoja8!K245","v":""},{"$f":"Hoja8!L245","v":""}]
[null,{"$f":"Hoja8!G246","v":""},{"$f":"Hoja8!H246","v":""},{"$f":"Hoja8!I246","v":""},{"$f":"Hoja8!J246","v":""},{"$f":"Hoja8!K246","v":""},{"$f":"Hoja8!L246","v":""}]
[null,{"$f":"Hoja8!G247","v":""},{"$f":"Hoja8!H247","v":""},{"$f":"Hoja8!I247","v":""},{"$f":"Hoja8!J247","v":""},{"$f":"Hoja8!K247","v":""},{"$f":"Hoja8!L247","v":""}]
[null,{"$f":"Hoja8!G248","v":""},{"$f":"Hoja8!H248","v":""},{"$f":"Hoja8!I248","v":""},{"$f":"Hoja8!J248","v":""},{"$f":"Hoja8!K248","v":""},{"$f":"Hoja8!L248","v":""}]
[null,{"$f":"Hoja8!G249","v":""},{"$f":"Hoja8!H249","v":""},{"$f":"Hoja8!I249","v":""},{"$f":"Hoja8!J249","v":""},{"$f":"Hoja8!K249","v":""},{"$f":"Hoja8!L249","v":""}]
[null,{"$f":"Hoja8!G250","v":""},{"$f":"Hoja8!H250","v":""},{"$f":"Hoja8!I250","v":""},{"$f":"Hoja8!J250","v":""},{"$f":"Hoja8!K250","v":""},{"$f":"Hoja8!L250","v":""}]
[null,{"$f":"Hoja8!G251","v":""},{"$f":"Hoja8!H251","v":""},{"$f":"Hoja8!I251","v":""},{"$f":"Hoja8!J251","v":""},{"$f":"Hoja8!K251","v":""},{"$f":"Hoja8!L251","v":""}]
[null,{"$f":"Hoja8!G252","v":""},{"$f":"Hoja8!H252","v":""},{"$f":"Hoja8!I252","v":""},{"$f":"Hoja8!J252","v":""},{"$f":"Hoja8!K252","v":""},{"$f":"Hoja8!L252","v":""}]
[null,{"$f":"Hoja8!G253","v":""},{"$f":"Hoja8!H253","v":""},{"$f":"Hoja8!I253","v":""},{"$f":"Hoja8!J253","v":""},{"$f":"Hoja8!K253","v":""},{"$f":"Hoja8!L253","v":""}]
[null,{"$f":"Hoja8!G254","v":""},{"$f":"Hoja8!H254","v":""},{"$f":"Hoja8!I254","v":""},{"$f":"Hoja8!J254","v":""},{"$f":"Hoja8!K254","v":""},{"$f":"Hoja8!L254","v":""}]
[null,{"$f":"Hoja8!G255","v":""},{"$f":"Hoja8!H255","v":""},{"$f":"Hoja8!I255","v":""},{"$f":"Hoja8!J255","v":""},{"$f":"Hoja8!K255","v":""},{"$f":"Hoja8!L255","v":""}]
[null,{"$f":"Hoja8!G256","v":""},{"$f":"Hoja8!H256","v":""},{"$f":"Hoja8!I256","v":""},{"$f":"Hoja8!J256","v":""},{"$f":"Hoja8!K256","v":""},{"$f":"Hoja8!L256","v":""}]
[null,{"$f":"Hoja8!G257","v":""},{"$f":"Hoja8!H257","v":""},{"$f":"Hoja8!I257","v":""},{"$f":"Hoja8!J257","v":""},{"$f":"Hoja8!K257","v":""},{"$f":"Hoja8!L257","v":""}]
[null,{"$f":"Hoja8!G258","v":""},{"$f":"Hoja8!H258","v":""},{"$f":"Hoja8!I258","v":""},{"$f":"Hoja8!J258","v":""},{"$f":"Hoja8!K258","v":""},{"$f":"Hoja8!L258","v":""}]
[null,{"$f":"Hoja8!G259","v":""},{"$f":"Hoja8!H259","v":""},{"$f":"Hoja8!I259","v":""},{"$f":"Hoja8!J259","v":""},{"$f":"Hoja8!K259","v":""},{"$f":"Hoja8!L259","v":""}]
[null,{"$f":"Hoja8!G260","v":""},{"$f":"Hoja8!H260","v":""},{"$f":"Hoja8!I260","v":""},{"$f":"Hoja8!J260","v":""},{"$f":"Hoja8!K260","v":""},{"$f":"Hoja8!L260","v":""}]
[null,{"$f":"Hoja8!G261","v":""},{"$f":"Hoja8!H261","v":""},{"$f":"Hoja8!I261","v":""},{"$f":"Hoja8!J261","v":""},{"$f":"Hoja8!K261","v":""},{"$f":"Hoja8!L261","v":""}]
[null,{"$f":"Hoja8!G262","v":""},{"$f":"Hoja8!H262","v":""},{"$f":"Hoja8!I262","v":""},{"$f":"Hoja8!J262","v":""},{"$f":"Hoja8!K262","v":""},{"$f":"Hoja8!L262","v":""}]
[null,{"$f":"Hoja8!G263","v":""},{"$f":"Hoja8!H263","v":""},{"$f":"Hoja8!I263","v":""},{"$f":"Hoja8!J263","v":""},{"$f":"Hoja8!K263","v":""},{"$f":"Hoja8!L263","v":""}]
[null,{"$f":"Hoja8!G264","v":""},{"$f":"Hoja8!H264","v":""},{"$f":"Hoja8!I264","v":""},{"$f":"Hoja8!J264","v":""},{"$f":"Hoja8!K264","v":""},{"$f":"Hoja8!L264","v":""}]
[null,{"$f":"Hoja8!G265","v":""},{"$f":"Hoja8!H265","v":""},{"$f":"Hoja8!I265","v":""},{"$f":"Hoja8!J265","v":""},{"$f":"Hoja8!K265","v":""},{"$f":"Hoja8!L265","v":""}]
[null,{"$f":"Hoja8!G266","v":""},{"$f":"Hoja8!H266","v":""},{"$f":"Hoja8!I266","v":""},{"$f":"Hoja8!J266","v":""},{"$f":"Hoja8!K266","v":""},{"$f":"Hoja8!L266","v":""}]
[null,{"$f":"Hoja8!G267","v":""},{"$f":"Hoja8!H267","v":""},{"$f":"Hoja8!I267","v":""},{"$f":"Hoja8!J267","v":""},{"$f":"Hoja8!K267","v":""},{"$f":"Hoja8!L267","v":""}]
[null,{"$f":"Hoja8!G268","v":""},{"$f":"Hoja8!H268","v":""},{"$f":"Hoja8!I268","v":""},{"$f":"Hoja8!J268","v":""},{"$f":"Hoja8!K268","v":""},{"$f":"Hoja8!L268","v":""}]
[null,{"$f":"Hoja8!G269","v":""},{"$f":"Hoja8!H269","v":""},{"$f":"Hoja8!I269","v":""},{"$f":"Hoja8!J269","v":""},{"$f":"Hoja8!K269","v":""},{"$f":"Hoja8!L269","v":""}]
[null,{"$f":"Hoja8!G270","v":""},{"$f":"Hoja8!H270","v":""},{"$f":"Hoja8!I270","v":""},{"$f":"Hoja8!J270","v":""},{"$f":"Hoja8!K270","v":""},{"$f":"Hoja8!L270","v":""}]
[null,{"$f":"Hoja8!G271","v":""},{"$f":"Hoja8!H271","v":""},{"$f":"Hoja8!I271","v":""},{"$f":"Hoja8!J271","v":""},{"$f":"Hoja8!K271","v":""},{"$f":"Hoja8!L271","v":""}]
[null,{"$f":"Hoja8!G272","v":""},{"$f":"Hoja8!H272","v":""},{"$f":"Hoja8!I272","v":""},{"$f":"Hoja8!J272","v":""},{"$f":"Hoja8!K272","v":""},{"$f":"Hoja8!L272","v":""}]
[null,{"$f":"Hoja8!G273","v":""},{"$f":"Hoja8!H273","v":""},{"$f":"Hoja8!I273","v":""},{"$f":"Hoja8!J273","v":""},{"$f":"Hoja8!K273","v":""},{"$f":"Hoja8!L273","v":""}]
[null,{"$f":"Hoja8!G274","v":""},{"$f":"Hoja8!H274","v":""},{"$f":"Hoja8!I274","v":""},{"$f":"Hoja8!J274","v":""},{"$f":"Hoja8!K274","v":""},{"$f":"Hoja8!L274","v":""}]
[null,{"$f":"Hoja8!G275","v":""},{"$f":"Hoja8!H275","v":""},{"$f":"Hoja8!I275","v":""},{"$f":"Hoja8!J275","v":""},{"$f":"Hoja8!K275","v":""},{"$f":"Hoja8!L275","v":""}]
[null,{"$f":"Hoja8!G276","v":""},{"$f":"Hoja8!H276","v":""},{"$f":"Hoja8!I276","v":""},{"$f":"Hoja8!J276","v":""},{"$f":"Hoja8!K276","v":""},{"$f":"Hoja8!L276","v":""}]
[null,{"$f":"Hoja8!G277","v":""},{"$f":"Hoja8!H277","v":""},{"$f":"Hoja8!I277","v":""},{"$f":"Hoja8!J277","v":""},{"$f":"Hoja8!K277","v":""},{"$f":"Hoja8!L277","v":""}]
[null,{"$f":"Hoja8!G278","v":""},{"$f":"Hoja8!H278","v":""},{"$f":"Hoja8!I278","v":""},{"$f":"Hoja8!J278","v":""},{"$f":"Hoja8!K278","v":""},{"$f":"Hoja8!L278","v":""}]
[null,{"$f":"Hoja8!G279","v":""},{"$f":"Hoja8!H279","v":""},{"$f":"Hoja8!I279","v":""},{"$f":"Hoja8!J279","v":""},{"$f":"Hoja8!K279","v":""},{"$f":"Hoja8!L279","v":""}]
[null,{"$f":"Hoja8!G280","v":""},{"$f":"Hoja8!H280","v":""},{"$f":"Hoja8!I280","v":""},{"$f":"Hoja8!J280","v":""},{"$f":"Hoja8!K280","v":""},{"$f":"Hoja8!L280","v":""}]
[null,{"$f":"Hoja8!G281","v":""},{"$f":"Hoja8!H281","v":""},{"$f":"Hoja8!I281","v":""},{"$f":"Hoja8!J281","v":""},{"$f":"Hoja8!K281","v":""},{"$f":"Hoja8!L281","v":""}]
[null,{"$f":"Hoja8!G282","v":""},{"$f":"Hoja8!H282","v":""},{"$f":"Hoja8!I282","v":""},{"$f":"Hoja8!J282","v":""},{"$f":"Hoja8!K282","v":""},{"$f":"Hoja8!L282","v":""}]
[null,{"$f":"Hoja8!G283","v":""},{"$f":"Hoja8!H283","v":""},{"$f":"Hoja8!I283","v":""},{"$f":"Hoja8!J283","v":""},{"$f":"Hoja8!K283","v":""},{"$f":"Hoja8!L283","v":""}]
[null,{"$f":"Hoja8!G284","v":""},{"$f":"Hoja8!H284","v":""},{"$f":"Hoja8!I284","v":""},{"$f":"Hoja8!J284","v":""},{"$f":"Hoja8!K284","v":""},{"$f":"Hoja8!L284","v":""}]
[null,{"$f":"Hoja8!G285","v":""},{"$f":"Hoja8!H285","v":""},{"$f":"Hoja8!I285","v":""},{"$f":"Hoja8!J285","v":""},{"$f":"Hoja8!K285","v":""},{"$f":"Hoja8!L285","v":""}]
[null,{"$f":"Hoja8!G286","v":""},{"$f":"Hoja8!H286","v":""},{"$f":"Hoja8!I286","v":""},{"$f":"Hoja8!J286","v":""},{"$f":"Hoja8!K286","v":""},{"$f":"Hoja8!L286","v":""}]
[null,{"$f":"Hoja8!G287","v":""},{"$f":"Hoja8!H287","v":""},{"$f":"Hoja8!I287","v":""},{"$f":"Hoja8!J287","v":""},{"$f":"Hoja8!K287","v":""},{"$f":"Hoja8!L287","v":""}]
[null,{"$f":"Hoja8!G288","v":""},{"$f":"Hoja8!H288","v":""},{"$f":"Hoja8!I288","v":""},{"$f":"Hoja8!J288","v":""},{"$f":"Hoja8!K288","v":""},{"$f":"Hoja8!L288","v":""}]
[null,{"$f":"Hoja8!G289","v":""},{"$f":"Hoja8!H289","v":""},{"$f":"Hoja8!I289","v":""},{"$f":"Hoja8!J289","v":""},{"$f":"Hoja8!K289","v":""},{"$f":"Hoja8!L289","v":""}]
[null,{"$f":"Hoja8!G290","v":""},{"$f":"Hoja8!H290","v":""},{"$f":"Hoja8!I290","v":""},{"$f":"Hoja8!J290","v":""},{"$f":"Hoja8!K290","v":""},{"$f":"Hoja8!L290","v":""}]
[null,{"$f":"Hoja8!G291","v":""},{"$f":"Hoja8!H291","v":""},{"$f":"Hoja8!I291","v":""},{"$f":"Hoja8!J291","v":""},{"$f":"Hoja8!K291","v":""},{"$f":"Hoja8!L291","v":""}]
[null,{"$f":"Hoja8!G292","v":""},{"$f":"Hoja8!H292","v":""},{"$f":"Hoja8!I292","v":""},{"$f":"Hoja8!J292","v":""},{"$f":"Hoja8!K292","v":""},{"$f":"Hoja8!L292","v":""}]
[null,{"$f":"Hoja8!G293","v":""},{"$f":"Hoja8!H293","v":""},{"$f":"Hoja8!I293","v":""},{"$f":"Hoja8!J293","v":""},{"$f":"Hoja8!K293","v":""},{"$f":"Hoja8!L293","v":""}]
[null,{"$f":"Hoja8!G294","v":""},{"$f":"Hoja8!H294","v":""},{"$f":"Hoja8!I294","v":""},{"$f":"Hoja8!J294","v":""},{"$f":"Hoja8!K294","v":""},{"$f":"Hoja8!L294","v":""}]
[null,{"$f":"Hoja8!G295","v":""},{"$f":"Hoja8!H295","v":""},{"$f":"Hoja8!I295","v":""},{"$f":"Hoja8!J295","v":""},{"$f":"Hoja8!K295","v":""},{"$f":"Hoja8!L295","v":""}]
[null,{"$f":"Hoja8!G296","v":""},{"$f":"Hoja8!H296","v":""},{"$f":"Hoja8!I296","v":""},{"$f":"Hoja8!J296","v":""},{"$f":"Hoja8!K296","v":""},{"$f":"Hoja8!L296","v":""}]
[null,{"$f":"Hoja8!G297","v":""},{"$f":"Hoja8!H297","v":""},{"$f":"Hoja8!I297","v":""},{"$f":"Hoja8!J297","v":""},{"$f":"Hoja8!K297","v":""},{"$f":"Hoja8!L297","v":""}]
[null,{"$f":"Hoja8!G298","v":""},{"$f":"Hoja8!H298","v":""},{"$f":"Hoja8!I298","v":""},{"$f":"Hoja8!J298","v":""},{"$f":"Hoja8!K298","v":""},{"$f":"Hoja8!L298","v":""}]
[null,{"$f":"Hoja8!G299","v":""},{"$f":"Hoja8!H299","v":""},{"$f":"Hoja8!I299","v":""},{"$f":"Hoja8!J299","v":""},{"$f":"Hoja8!K299","v":""},{"$f":"Hoja8!L299","v":""}]
[null,{"$f":"Hoja8!G300","v":""},{"$f":"Hoja8!H300","v":""},{"$f":"Hoja8!I300","v":""},{"$f":"Hoja8!J300","v":""},{"$f":"Hoja8!K300","v":""},{"$f":"Hoja8!L300","v":""}]
[null,{"$f":"Hoja8!G301","v":""},{"$f":"Hoja8!H301","v":""},{"$f":"Hoja8!I301","v":""},{"$f":"Hoja8!J301","v":""},{"$f":"Hoja8!K301","v":""},{"$f":"Hoja8!L301","v":""}]
[null,{"$f":"Hoja8!G302","v":""},{"$f":"Hoja8!H302","v":""},{"$f":"Hoja8!I302","v":""},{"$f":"Hoja8!J302","v":""},{"$f":"Hoja8!K302","v":""},{"$f":"Hoja8!L302","v":""}]
[null,{"$f":"Hoja8!G303","v":""},{"$f":"Hoja8!H303","v":""},{"$f":"Hoja8!I303","v":""},{"$f":"Hoja8!J303","v":""},{"$f":"Hoja8!K303","v":""},{"$f":"Hoja8!L303","v":""}]
[null,{"$f":"Hoja8!G304","v":""},{"$f":"Hoja8!H304","v":""},{"$f":"Hoja8!I304","v":""},{"$f":"Hoja8!J304","v":""},{"$f":"Hoja8!K304","v":""},{"$f":"Hoja8!L304","v":""}]
[null,{"$f":"Hoja8!G305","v":""},{"$f":"Hoja8!H305","v":""},{"$f":"Hoja8!I305","v":""},{"$f":"Hoja8!J305","v":""},{"$f":"Hoja8!K305","v":""},{"$f":"Hoja8!L305","v":""}]
[null,{"$f":"Hoja8!G306","v":""},{"$f":"Hoja8!H306","v":""},{"$f":"Hoja8!I306","v":""},{"$f":"Hoja8!J306","v":""},{"$f":"Hoja8!K306","v":""},{"$f":"Hoja8!L306","v":""}]
[null,{"$f":"Hoja8!G307","v":""},{"$f":"Hoja8!H307","v":""},{"$f":"Hoja8!I307","v":""},{"$f":"Hoja8!J307","v":""},{"$f":"Hoja8!K307","v":""},{"$f":"Hoja8!L307","v":""}]
[null,{"$f":"Hoja8!G308","v":""},{"$f":"Hoja8!H308","v":""},{"$f":"Hoja8!I308","v":""},{"$f":"Hoja8!J308","v":""},{"$f":"Hoja8!K308","v":""},{"$f":"Hoja8!L308","v":""}]
[null,{"$f":"Hoja8!G309","v":""},{"$f":"Hoja8!H309","v":""},{"$f":"Hoja8!I309","v":""},{"$f":"Hoja8!J309","v":""},{"$f":"Hoja8!K309","v":""},{"$f":"Hoja8!L309","v":""}]
[null,{"$f":"Hoja8!G310","v":""},{"$f":"Hoja8!H310","v":""},{"$f":"Hoja8!I310","v":""},{"$f":"Hoja8!J310","v":""},{"$f":"Hoja8!K310","v":""},{"$f":"Hoja8!L310","v":""}]
[null,{"$f":"Hoja8!G311","v":""},{"$f":"Hoja8!H311","v":""},{"$f":"Hoja8!I311","v":""},{"$f":"Hoja8!J311","v":""},{"$f":"Hoja8!K311","v":""},{"$f":"Hoja8!L311","v":""}]
[null,{"$f":"Hoja8!G312","v":""},{"$f":"Hoja8!H312","v":""},{"$f":"Hoja8!I312","v":""},{"$f":"Hoja8!J312","v":""},{"$f":"Hoja8!K312","v":""},{"$f":"Hoja8!L312","v":""}]
[null,{"$f":"Hoja8!G313","v":""},{"$f":"Hoja8!H313","v":""},{"$f":"Hoja8!I313","v":""},{"$f":"Hoja8!J313","v":""},{"$f":"Hoja8!K313","v":""},{"$f":"Hoja8!L313","v":""}]
[null,{"$f":"Hoja8!G314","v":""},{"$f":"Hoja8!H314","v":""},{"$f":"Hoja8!I314","v":""},{"$f":"Hoja8!J314","v":""},{"$f":"Hoja8!K314","v":""},{"$f":"Hoja8!L314","v":""}]
[null,{"$f":"Hoja8!G315","v":""},{"$f":"Hoja8!H315","v":""},{"$f":"Hoja8!I315","v":""},{"$f":"Hoja8!J315","v":""},{"$f":"Hoja8!K315","v":""},{"$f":"Hoja8!L315","v":""}]
[null,{"$f":"Hoja8!G316","v":""},{"$f":"Hoja8!H316","v":""},{"$f":"Hoja8!I316","v":""},{"$f":"Hoja8!J316","v":""},{"$f":"Hoja8!K316","v":""},{"$f":"Hoja8!L316","v":""}]
[null,{"$f":"Hoja8!G317","v":""},{"$f":"Hoja8!H317","v":""},{"$f":"Hoja8!I317","v":""},{"$f":"Hoja8!J317","v":""},{"$f":"Hoja8!K317","v":""},{"$f":"Hoja8!L317","v":""}]
[null,{"$f":"Hoja8!G318","v":""},{"$f":"Hoja8!H318","v":""},{"$f":"Hoja8!I318","v":""},{"$f":"Hoja8!J318","v":""},{"$f":"Hoja8!K318","v":""},{"$f":"Hoja8!L318","v":""}]
[null,{"$f":"Hoja8!G319","v":""},{"$f":"Hoja8!H319","v":""},{"$f":"Hoja8!I319","v":""},{"$f":"Hoja8!J319","v":""},{"$f":"Hoja8!K319","v":""},{"$f":"Hoja8!L319","v":""}]
[null,{"$f":"Hoja8!G320","v":""},{"$f":"Hoja8!H320","v":""},{"$f":"Hoja8!I320","v":""},{"$f":"Hoja8!J320","v":""},{"$f":"Hoja8!K320","v":""},{"$f":"Hoja8!L320","v":""}]
[null,{"$f":"Hoja8!G321","v":""},{"$f":"Hoja8!H321","v":""},{"$f":"Hoja8!I321","v":""},{"$f":"Hoja8!J321","v":""},{"$f":"Hoja8!K321","v":""},{"$f":"Hoja8!L321","v":""}]
[null,{"$f":"Hoja8!G322","v":""},{"$f":"Hoja8!H322","v":""},{"$f":"Hoja8!I322","v":""},{"$f":"Hoja8!J322","v":""},{"$f":"Hoja8!K322","v":""},{"$f":"Hoja8!L322","v":""}]
[null,{"$f":"Hoja8!G323","v":""},{"$f":"Hoja8!H323","v":""},{"$f":"Hoja8!I323","v":""},{"$f":"Hoja8!J323","v":""},{"$f":"Hoja8!K323","v":""},{"$f":"Hoja8!L323","v":""}]
[null,{"$f":"Hoja8!G324","v":""},{"$f":"Hoja8!H324","v":""},{"$f":"Hoja8!I324","v":""},{"$f":"Hoja8!J324","v":""},{"$f":"Hoja8!K324","v":""},{"$f":"Hoja8!L324","v":""}]
[null,{"$f":"Hoja8!G325","v":""},{"$f":"Hoja8!H325","v":""},{"$f":"Hoja8!I325","v":""},{"$f":"Hoja8!J325","v":""},{"$f":"Hoja8!K325","v":""},{"$f":"Hoja8!L325","v":""}]
[null,{"$f":"Hoja8!G326","v":""},{"$f":"Hoja8!H326","v":""},{"$f":"Hoja8!I326","v":""},{"$f":"Hoja8!J326","v":""},{"$f":"Hoja8!K326","v":""},{"$f":"Hoja8!L326","v":""}]
[null,{"$f":"Hoja8!G327","v":""},{"$f":"Hoja8!H327","v":""},{"$f":"Hoja8!I327","v":""},{"$f":"Hoja8!J327","v":""},{"$f":"Hoja8!K327","v":""},{"$f":"Hoja8!L327","v":""}]
[null,{"$f":"Hoja8!G328","v":""},{"$f":"Hoja8!H328","v":""},{"$f":"Hoja8!I328","v":""},{"$f":"Hoja8!J328","v":""},{"$f":"Hoja8!K328","v":""},{"$f":"Hoja8!L328","v":""}]
[null,{"$f":"Hoja8!G329","v":""},{"$f":"Hoja8!H329","v":""},{"$f":"Hoja8!I329","v":""},{"$f":"Hoja8!J329","v":""},{"$f":"Hoja8!K329","v":""},{"$f":"Hoja8!L329","v":""}]
[null,{"$f":"Hoja8!G330","v":""},{"$f":"Hoja8!H330","v":""},{"$f":"Hoja8!I330","v":""},{"$f":"Hoja8!J330","v":""},{"$f":"Hoja8!K330","v":""},{"$f":"Hoja8!L330","v":""}]
[null,{"$f":"Hoja8!G331","v":""},{"$f":"Hoja8!H331","v":""},{"$f":"Hoja8!I331","v":""},{"$f":"Hoja8!J331","v":""},{"$f":"Hoja8!K331","v":""},{"$f":"Hoja8!L331","v":""}]
[null,{"$f":"Hoja8!G332","v":""},{"$f":"Hoja8!H332","v":""},{"$f":"Hoja8!I332","v":""},{"$f":"Hoja8!J332","v":""},{"$f":"Hoja8!K332","v":""},{"$f":"Hoja8!L332","v":""}]
[null,{"$f":"Hoja8!G333","v":""},{"$f":"Hoja8!H333","v":""},{"$f":"Hoja8!I333","v":""},{"$f":"Hoja8!J333","v":""},{"$f":"Hoja8!K333","v":""},{"$f":"Hoja8!L333","v":""}]
[null,{"$f":"Hoja8!G334","v":""},{"$f":"Hoja8!H334","v":""},{"$f":"Hoja8!I334","v":""},{"$f":"Hoja8!J334","v":""},{"$f":"Hoja8!K334","v":""},{"$f":"Hoja8!L334","v":""}]
[null,{"$f":"Hoja8!G335","v":""},{"$f":"Hoja8!H335","v":""},{"$f":"Hoja8!I335","v":""},{"$f":"Hoja8!J335","v":""},{"$f":"Hoja8!K335","v":""},{"$f":"Hoja8!L335","v":""}]
[null,{"$f":"Hoja8!G336","v":""},{"$f":"Hoja8!H336","v":""},{"$f":"Hoja8!I336","v":""},{"$f":"Hoja8!J336","v":""},{"$f":"Hoja8!K336","v":""},{"$f":"Hoja8!L336","v":""}]
[null,{"$f":"Hoja8!G337","v":""},{"$f":"Hoja8!H337","v":""},{"$f":"Hoja8!I337","v":""},{"$f":"Hoja8!J337","v":""},{"$f":"Hoja8!K337","v":""},{"$f":"Hoja8!L337","v":""}]
[null,{"$f":"Hoja8!G338","v":""},{"$f":"Hoja8!H338","v":""},{"$f":"Hoja8!I338","v":""},{"$f":"Hoja8!J338","v":""},{"$f":"Hoja8!K338","v":""},{"$f":"Hoja8!L338","v":""}]
[null,{"$f":"Hoja8!G339","v":""},{"$f":"Hoja8!H339","v":""},{"$f":"Hoja8!I339","v":""},{"$f":"Hoja8!J339","v":""},{"$f":"Hoja8!K339","v":""},{"$f":"Hoja8!L339","v":""}]
[null,{"$f":"Hoja8!G340","v":""},{"$f":"Hoja8!H340","v":""},{"$f":"Hoja8!I340","v":""},{"$f":"Hoja8!J340","v":""},{"$f":"Hoja8!K340","v":""},{"$f":"Hoja8!L340","v":""}]
[null,{"$f":"Hoja8!G341","v":""},{"$f":"Hoja8!H341","v":""},{"$f":"Hoja8!I341","v":""},{"$f":"Hoja8!J341","v":""},{"$f":"Hoja8!K341","v":""},{"$f":"Hoja8!L341","v":""}]
[null,{"$f":"Hoja8!G342","v":""},{"$f":"Hoja8!H342","v":""},{"$f":"Hoja8!I342","v":""},{"$f":"Hoja8!J342","v":""},{"$f":"Hoja8!K342","v":""},{"$f":"Hoja8!L342","v":""}]
[null,{"$f":"Hoja8!G343","v":""},{"$f":"Hoja8!H343","v":""},{"$f":"Hoja8!I343","v":""},{"$f":"Hoja8!J343","v":""},{"$f":"Hoja8!K343","v":""},{"$f":"Hoja8!L343","v":""}]
[null,{"$f":"Hoja8!G344","v":""},{"$f":"Hoja8!H344","v":""},{"$f":"Hoja8!I344","v":""},{"$f":"Hoja8!J344","v":""},{"$f":"Hoja8!K344","v":""},{"$f":"Hoja8!L344","v":""}]
[null,{"$f":"Hoja8!G345","v":""},{"$f":"Hoja8!H345","v":""},{"$f":"Hoja8!I345","v":""},{"$f":"Hoja8!J345","v":""},{"$f":"Hoja8!K345","v":""},{"$f":"Hoja8!L345","v":""}]
[null,{"$f":"Hoja8!G346","v":""},{"$f":"Hoja8!H346","v":""},{"$f":"Hoja8!I346","v":""},{"$f":"Hoja8!J346","v":""},{"$f":"Hoja8!K346","v":""},{"$f":"Hoja8!L346","v":""}]
[null,{"$f":"Hoja8!G347","v":""},{"$f":"Hoja8!H347","v":""},{"$f":"Hoja8!I347","v":""},{"$f":"Hoja8!J347","v":""},{"$f":"Hoja8!K347","v":""},{"$f":"Hoja8!L347","v":""}]
[null,{"$f":"Hoja8!G348","v":""},{"$f":"Hoja8!H348","v":""},{"$f":"Hoja8!I348","v":""},{"$f":"Hoja8!J348","v":""},{"$f":"Hoja8!K348","v":""},{"$f":"Hoja8!L348","v":""}]
[null,{"$f":"Hoja8!G349","v":""},{"$f":"Hoja8!H349","v":""},{"$f":"Hoja8!I349","v":""},{"$f":"Hoja8!J349","v":""},{"$f":"Hoja8!K349","v":""},{"$f":"Hoja8!L349","v":""}]
[null,{"$f":"Hoja8!G350","v":""},{"$f":"Hoja8!H350","v":""},{"$f":"Hoja8!I350","v":""},{"$f":"Hoja8!J350","v":""},{"$f":"Hoja8!K350","v":""},{"$f":"Hoja8!L350","v":""}]
[null,{"$f":"Hoja8!G351","v":""},{"$f":"Hoja8!H351","v":""},{"$f":"Hoja8!I351","v":""},{"$f":"Hoja8!J351","v":""},{"$f":"Hoja8!K351","v":""},{"$f":"Hoja8!L351","v":""}]
[null,{"$f":"Hoja8!G352","v":""},{"$f":"Hoja8!H352","v":""},{"$f":"Hoja8!I352","v":""},{"$f":"Hoja8!J352","v":""},{"$f":"Hoja8!K352","v":""},{"$f":"Hoja8!L352","v":""}]
[null,{"$f":"Hoja8!G353","v":""},{"$f":"Hoja8!H353","v":""},{"$f":"Hoja8!I353","v":""},{"$f":"Hoja8!J353","v":""},{"$f":"Hoja8!K353","v":""},{"$f":"Hoja8!L353","v":""}]
[null,{"$f":"Hoja8!G354","v":""},{"$f":"Hoja8!H354","v":""},{"$f":"Hoja8!I354","v":""},{"$f":"Hoja8!J354","v":""},{"$f":"Hoja8!K354","v":""},{"$f":"Hoja8!L354","v":""}]
[null,{"$f":"Hoja8!G355","v":""},{"$f":"Hoja8!H355","v":""},{"$f":"Hoja8!I355","v":""},{"$f":"Hoja8!J355","v":""},{"$f":"Hoja8!K355","v":""},{"$f":"Hoja8!L355","v":""}]
[null,{"$f":"Hoja8!G356","v":""},{"$f":"Hoja8!H356","v":""},{"$f":"Hoja8!I356","v":""},{"$f":"Hoja8!J356","v":""},{"$f":"Hoja8!K356","v":""},{"$f":"Hoja8!L356","v":""}]
[null,{"$f":"Hoja8!G357","v":""},{"$f":"Hoja8!H357","v":""},{"$f":"Hoja8!I357","v":""},{"$f":"Hoja8!J357","v":""},{"$f":"Hoja8!K357","v":""},{"$f":"Hoja8!L357","v":""}]
[null,{"$f":"Hoja8!G358","v":""},{"$f":"Hoja8!H358","v":""},{"$f":"Hoja8!I358","v":""},{"$f":"Hoja8!J358","v":""},{"$f":"Hoja8!K358","v":""},{"$f":"Hoja8!L358","v":""}]
[null,{"$f":"Hoja8!G359","v":""},{"$f":"Hoja8!H359","v":""},{"$f":"Hoja8!I359","v":""},{"$f":"Hoja8!J359","v":""},{"$f":"Hoja8!K359","v":""},{"$f":"Hoja8!L359","v":""}]
[null,{"$f":"Hoja8!G360","v":""},{"$f":"Hoja8!H360","v":""},{"$f":"Hoja8!I360","v":""},{"$f":"Hoja8!J360","v":""},{"$f":"Hoja8!K360","v":""},{"$f":"Hoja8!L360","v":""}]
[null,{"$f":"Hoja8!G361","v":""},{"$f":"Hoja8!H361","v":""},{"$f":"Hoja8!I361","v":""},{"$f":"Hoja8!J361","v":""},{"$f":"Hoja8!K361","v":""},{"$f":"Hoja8!L361","v":""}]
[null,{"$f":"Hoja8!G362","v":""},{"$f":"Hoja8!H362","v":""},{"$f":"Hoja8!I362","v":""},{"$f":"Hoja8!J362","v":""},{"$f":"Hoja8!K362","v":""},{"$f":"Hoja8!L362","v":""}]
[null,{"$f":"Hoja8!G363","v":""},{"$f":"Hoja8!H363","v":""},{"$f":"Hoja8!I363","v":""},{"$f":"Hoja8!J363","v":""},{"$f":"Hoja8!K363","v":""},{"$f":"Hoja8!L363","v":""}]
[null,{"$f":"Hoja8!G364","v":""},{"$f":"Hoja8!H364","v":""},{"$f":"Hoja8!I364","v":""},{"$f":"Hoja8!J364","v":""},{"$f":"Hoja8!K364","v":""},{"$f":"Hoja8!L364","v":""}]
[null,{"$f":"Hoja8!G365","v":""},{"$f":"Hoja8!H365","v":""},{"$f":"Hoja8!I365","v":""},{"$f":"Hoja8!J365","v":""},{"$f":"Hoja8!K365","v":""},{"$f":"Hoja8!L365","v":""}]
[null,{"$f":"Hoja8!G366","v":""},{"$f":"Hoja8!H366","v":""},{"$f":"Hoja8!I366","v":""},{"$f":"Hoja8!J366","v":""},{"$f":"Hoja8!K366","v":""},{"$f":"Hoja8!L366","v":""}]
[null,{"$f":"Hoja8!G367","v":""},{"$f":"Hoja8!H367","v":""},{"$f":"Hoja8!I367","v":""},{"$f":"Hoja8!J367","v":""},{"$f":"Hoja8!K367","v":""},{"$f":"Hoja8!L367","v":""}]
[null,{"$f":"Hoja8!G368","v":""},{"$f":"Hoja8!H368","v":""},{"$f":"Hoja8!I368","v":""},{"$f":"Hoja8!J368","v":""},{"$f":"Hoja8!K368","v":""},{"$f":"Hoja8!L368","v":""}]
[null,{"$f":"Hoja8!G369","v":""},{"$f":"Hoja8!H369","v":""},{"$f":"Hoja8!I369","v":""},{"$f":"Hoja8!J369","v":""},{"$f":"Hoja8!K369","v":""},{"$f":"Hoja8!L369","v":""}]
[null,{"$f":"Hoja8!G370","v":""},{"$f":"Hoja8!H370","v":""},{"$f":"Hoja8!I370","v":""},{"$f":"Hoja8!J370","v":""},{"$f":"Hoja8!K370","v":""},{"$f":"Hoja8!L370","v":""}]
[null,{"$f":"Hoja8!G371","v":""},{"$f":"Hoja8!H371","v":""},{"$f":"Hoja8!I371","v":""},{"$f":"Hoja8!J371","v":""},{"$f":"Hoja8!K371","v":""},{"$f":"Hoja8!L371","v":""}]
[null,{"$f":"Hoja8!G372","v":""},{"$f":"Hoja8!H372","v":""},{"$f":"Hoja8!I372","v":""},{"$f":"Hoja8!J372","v":""},{"$f":"Hoja8!K372","v":""},{"$f":"Hoja8!L372","v":""}]
[null,{"$f":"Hoja8!G373","v":""},{"$f":"Hoja8!H373","v":""},{"$f":"Hoja8!I373","v":""},{"$f":"Hoja8!J373","v":""},{"$f":"Hoja8!K373","v":""},{"$f":"Hoja8!L373","v":""}]
[null,{"$f":"Hoja8!G374","v":""},{"$f":"Hoja8!H374","v":""},{"$f":"Hoja8!I374","v":""},{"$f":"Hoja8!J374","v":""},{"$f":"Hoja8!K374","v":""},{"$f":"Hoja8!L374","v":""}]
[null,{"$f":"Hoja8!G375","v":""},{"$f":"Hoja8!H375","v":""},{"$f":"Hoja8!I375","v":""},{"$f":"Hoja8!J375","v":""},{"$f":"Hoja8!K375","v":""},{"$f":"Hoja8!L375","v":""}]
[null,{"$f":"Hoja8!G376","v":""},{"$f":"Hoja8!H376","v":""},{"$f":"Hoja8!I376","v":""},{"$f":"Hoja8!J376","v":""},{"$f":"Hoja8!K376","v":""},{"$f":"Hoja8!L376","v":""}]
[null,{"$f":"Hoja8!G377","v":""},{"$f":"Hoja8!H377","v":""},{"$f":"Hoja8!I377","v":""},{"$f":"Hoja8!J377","v":""},{"$f":"Hoja8!K377","v":""},{"$f":"Hoja8!L377","v":""}]
[null,{"$f":"Hoja8!G378","v":""},{"$f":"Hoja8!H378","v":""},{"$f":"Hoja8!I378","v":""},{"$f":"Hoja8!J378","v":""},{"$f":"Hoja8!K378","v":""},{"$f":"Hoja8!L378","v":""}]
[null,{"$f":"Hoja8!G379","v":""},{"$f":"Hoja8!H379","v":""},{"$f":"Hoja8!I379","v":""},{"$f":"Hoja8!J379","v":""},{"$f":"Hoja8!K379","v":""},{"$f":"Hoja8!L379","v":""}]
[null,{"$f":"Hoja8!G380","v":""},{"$f":"Hoja8!H380","v":""},{"$f":"Hoja8!I380","v":""},{"$f":"Hoja8!J380","v":""},{"$f":"Hoja8!K380","v":""},{"$f":"Hoja8!L380","v":""}]
[null,{"$f":"Hoja8!G381","v":""},{"$f":"Hoja8!H381","v":""},{"$f":"Hoja8!I381","v":""},{"$f":"Hoja8!J381","v":""},{"$f":"Hoja8!K381","v":""},{"$f":"Hoja8!L381","v":""}]
[null,{"$f":"Hoja8!G382","v":""},{"$f":"Hoja8!H382","v":""},{"$f":"Hoja8!I382","v":""},{"$f":"Hoja8!J382","v":""},{"$f":"Hoja8!K382","v":""},{"$f":"Hoja8!L382","v":""}]
[null,{"$f":"Hoja8!G383","v":""},{"$f":"Hoja8!H383","v":""},{"$f":"Hoja8!I383","v":""},{"$f":"Hoja8!J383","v":""},{"$f":"Hoja8!K383","v":""},{"$f":"Hoja8!L383","v":""}]
[null,{"$f":"Hoja8!G384","v":""},{"$f":"Hoja8!H384","v":""},{"$f":"Hoja8!I384","v":""},{"$f":"Hoja8!J384","v":""},{"$f":"Hoja8!K384","v":""},{"$f":"Hoja8!L384","v":""}]
[null,{"$f":"Hoja8!G385","v":""},{"$f":"Hoja8!H385","v":""},{"$f":"Hoja8!I385","v":""},{"$f":"Hoja8!J385","v":""},{"$f":"Hoja8!K385","v":""},{"$f":"Hoja8!L385","v":""}]
[null,{"$f":"Hoja8!G386","v":""},{"$f":"Hoja8!H386","v":""},{"$f":"Hoja8!I386","v":""},{"$f":"Hoja8!J386","v":""},{"$f":"Hoja8!K386","v":""},{"$f":"Hoja8!L386","v":""}]
[null,{"$f":"Hoja8!G387","v":""},{"$f":"Hoja8!H387","v":""},{"$f":"Hoja8!I387","v":""},{"$f":"Hoja8!J387","v":""},{"$f":"Hoja8!K387","v":""},{"$f":"Hoja8!L387","v":""}]
[null,{"$f":"Hoja8!G388","v":""},{"$f":"Hoja8!H388","v":""},{"$f":"Hoja8!I388","v":""},{"$f":"Hoja8!J388","v":""},{"$f":"Hoja8!K388","v":""},{"$f":"Hoja8!L388","v":""}]
[null,{"$f":"Hoja8!G389","v":""},{"$f":"Hoja8!H389","v":""},{"$f":"Hoja8!I389","v":""},{"$f":"Hoja8!J389","v":""},{"$f":"Hoja8!K389","v":""},{"$f":"Hoja8!L389","v":""}]
[null,{"$f":"Hoja8!G390","v":""},{"$f":"Hoja8!H390","v":""},{"$f":"Hoja8!I390","v":""},{"$f":"Hoja8!J390","v":""},{"$f":"Hoja8!K390","v":""},{"$f":"Hoja8!L390","v":""}]
[null,{"$f":"Hoja8!G391","v":""},{"$f":"Hoja8!H391","v":""},{"$f":"Hoja8!I391","v":""},{"$f":"Hoja8!J391","v":""},{"$f":"Hoja8!K391","v":""},{"$f":"Hoja8!L391","v":""}]
[null,{"$f":"Hoja8!G392","v":""},{"$f":"Hoja8!H392","v":""},{"$f":"Hoja8!I392","v":""},{"$f":"Hoja8!J392","v":""},{"$f":"Hoja8!K392","v":""},{"$f":"Hoja8!L392","v":""}]
[null,{"$f":"Hoja8!G393","v":""},{"$f":"Hoja8!H393","v":""},{"$f":"Hoja8!I393","v":""},{"$f":"Hoja8!J393","v":""},{"$f":"Hoja8!K393","v":""},{"$f":"Hoja8!L393","v":""}]
[null,{"$f":"Hoja8!G394","v":""},{"$f":"Hoja8!H394","v":""},{"$f":"Hoja8!I394","v":""},{"$f":"Hoja8!J394","v":""},{"$f":"Hoja8!K394","v":""},{"$f":"Hoja8!L394","v":""}]
[null,{"$f":"Hoja8!G395","v":""},{"$f":"Hoja8!H395","v":""},{"$f":"Hoja8!I395","v":""},{"$f":"Hoja8!J395","v":""},{"$f":"Hoja8!K395","v":""},{"$f":"Hoja8!L395","v":""}]
[null,{"$f":"Hoja8!G396","v":""},{"$f":"Hoja8!H396","v":""},{"$f":"Hoja8!I396","v":""},{"$f":"Hoja8!J396","v":""},{"$f":"Hoja8!K396","v":""},{"$f":"Hoja8!L396","v":""}]
[null,{"$f":"Hoja8!G397","v":""},{"$f":"Hoja8!H397","v":""},{"$f":"Hoja8!I397","v":""},{"$f":"Hoja8!J397","v":""},{"$f":"Hoja8!K397","v":""},{"$f":"Hoja8!L397","v":""}]
[null,{"$f":"Hoja8!G398","v":""},{"$f":"Hoja8!H398","v":""},{"$f":"Hoja8!I398","v":""},{"$f":"Hoja8!J398","v":""},{"$f":"Hoja8!K398","v":""},{"$f":"Hoja8!L398","v":""}]
[null,{"$f":"Hoja8!G399","v":""},{"$f":"Hoja8!H399","v":""},{"$f":"Hoja8!I399","v":""},{"$f":"Hoja8!J399","v":""},{"$f":"Hoja8!K399","v":""},{"$f":"Hoja8!L399","v":""}]
[null,{"$f":"Hoja8!G400","v":""},{"$f":"Hoja8!H400","v":""},{"$f":"Hoja8!I400","v":""},{"$f":"Hoja8!J400","v":""},{"$f":"Hoja8!K400","v":""},{"$f":"Hoja8!L400","v":""}]
[null,{"$f":"Hoja8!G401","v":""},{"$f":"Hoja8!H401","v":""},{"$f":"Hoja8!I401","v":""},{"$f":"Hoja8!J401","v":""},{"$f":"Hoja8!K401","v":""},{"$f":"Hoja8!L401","v":""}]
[null,{"$f":"Hoja8!G402","v":""},{"$f":"Hoja8!H402","v":""},{"$f":"Hoja8!I402","v":""},{"$f":"Hoja8!J402","v":""},{"$f":"Hoja8!K402","v":""},{"$f":"Hoja8!L402","v":""}]
[null,{"$f":"Hoja8!G403","v":""},{"$f":"Hoja8!H403","v":""},{"$f":"Hoja8!I403","v":""},{"$f":"Hoja8!J403","v":""},{"$f":"Hoja8!K403","v":""},{"$f":"Hoja8!L403","v":""}]
[null,{"$f":"Hoja8!G404","v":""},{"$f":"Hoja8!H404","v":""},{"$f":"Hoja8!I404","v":""},{"$f":"Hoja8!J404","v":""},{"$f":"Hoja8!K404","v":""},{"$f":"Hoja8!L404","v":""}]
[null,{"$f":"Hoja8!G405","v":""},{"$f":"Hoja8!H405","v":""},{"$f":"Hoja8!I405","v":""},{"$f":"Hoja8!J405","v":""},{"$f":"Hoja8!K405","v":""},{"$f":"Hoja8!L405","v":""}]
[null,{"$f":"Hoja8!G406","v":""},{"$f":"Hoja8!H406","v":""},{"$f":"Hoja8!I406","v":""},{"$f":"Hoja8!J406","v":""},{"$f":"Hoja8!K406","v":""},{"$f":"Hoja8!L406","v":""}]
[null,{"$f":"Hoja8!G407","v":""},{"$f":"Hoja8!H407","v":""},{"$f":"Hoja8!I407","v":""},{"$f":"Hoja8!J407","v":""},{"$f":"Hoja8!K407","v":""},{"$f":"Hoja8!L407","v":""}]
[null,{"$f":"Hoja8!G408","v":""},{"$f":"Hoja8!H408","v":""},{"$f":"Hoja8!I408","v":""},{"$f":"Hoja8!J408","v":""},{"$f":"Hoja8!K408","v":""},{"$f":"Hoja8!L408","v":""}]
[null,{"$f":"Hoja8!G409","v":""},{"$f":"Hoja8!H409","v":""},{"$f":"Hoja8!I409","v":""},{"$f":"Hoja8!J409","v":""},{"$f":"Hoja8!K409","v":""},{"$f":"Hoja8!L409","v":""}]
[null,{"$f":"Hoja8!G410","v":""},{"$f":"Hoja8!H410","v":""},{"$f":"Hoja8!I410","v":""},{"$f":"Hoja8!J410","v":""},{"$f":"Hoja8!K410","v":""},{"$f":"Hoja8!L410","v":""}]
[null,{"$f":"Hoja8!G411","v":""},{"$f":"Hoja8!H411","v":""},{"$f":"Hoja8!I411","v":""},{"$f":"Hoja8!J411","v":""},{"$f":"Hoja8!K411","v":""},{"$f":"Hoja8!L411","v":""}]
[null,{"$f":"Hoja8!G412","v":""},{"$f":"Hoja8!H412","v":""},{"$f":"Hoja8!I412","v":""},{"$f":"Hoja8!J412","v":""},{"$f":"Hoja8!K412","v":""},{"$f":"Hoja8!L412","v":""}]
[null,{"$f":"Hoja8!G413","v":""},{"$f":"Hoja8!H413","v":""},{"$f":"Hoja8!I413","v":""},{"$f":"Hoja8!J413","v":""},{"$f":"Hoja8!K413","v":""},{"$f":"Hoja8!L413","v":""}]
[null,{"$f":"Hoja8!G414","v":""},{"$f":"Hoja8!H414","v":""},{"$f":"Hoja8!I414","v":""},{"$f":"Hoja8!J414","v":""},{"$f":"Hoja8!K414","v":""},{"$f":"Hoja8!L414","v":""}]
[null,{"$f":"Hoja8!G415","v":""},{"$f":"Hoja8!H415","v":""},{"$f":"Hoja8!I415","v":""},{"$f":"Hoja8!J415","v":""},{"$f":"Hoja8!K415","v":""},{"$f":"Hoja8!L415","v":""}]
[null,{"$f":"Hoja8!G416","v":""},{"$f":"Hoja8!H416","v":""},{"$f":"Hoja8!I416","v":""},{"$f":"Hoja8!J416","v":""},{"$f":"Hoja8!K416","v":""},{"$f":"Hoja8!L416","v":""}]
[null,{"$f":"Hoja8!G417","v":""},{"$f":"Hoja8!H417","v":""},{"$f":"Hoja8!I417","v":""},{"$f":"Hoja8!J417","v":""},{"$f":"Hoja8!K417","v":""},{"$f":"Hoja8!L417","v":""}]
[null,{"$f":"Hoja8!G418","v":""},{"$f":"Hoja8!H418","v":""},{"$f":"Hoja8!I418","v":""},{"$f":"Hoja8!J418","v":""},{"$f":"Hoja8!K418","v":""},{"$f":"Hoja8!L418","v":""}]
[null,{"$f":"Hoja8!G419","v":""},{"$f":"Hoja8!H419","v":""},{"$f":"Hoja8!I419","v":""},{"$f":"Hoja8!J419","v":""},{"$f":"Hoja8!K419","v":""},{"$f":"Hoja8!L419","v":""}]
[null,{"$f":"Hoja8!G420","v":""},{"$f":"Hoja8!H420","v":""},{"$f":"Hoja8!I420","v":""},{"$f":"Hoja8!J420","v":""},{"$f":"Hoja8!K420","v":""},{"$f":"Hoja8!L420","v":""}]
[null,{"$f":"Hoja8!G421","v":""},{"$f":"Hoja8!H421","v":""},{"$f":"Hoja8!I421","v":""},{"$f":"Hoja8!J421","v":""},{"$f":"Hoja8!K421","v":""},{"$f":"Hoja8!L421","v":""}]
[null,{"$f":"Hoja8!G422","v":""},{"$f":"Hoja8!H422","v":""},{"$f":"Hoja8!I422","v":""},{"$f":"Hoja8!J422","v":""},{"$f":"Hoja8!K422","v":""},{"$f":"Hoja8!L422","v":""}]
[null,{"$f":"Hoja8!G423","v":""},{"$f":"Hoja8!H423","v":""},{"$f":"Hoja8!I423","v":""},{"$f":"Hoja8!J423","v":""},{"$f":"Hoja8!K423","v":""},{"$f":"Hoja8!L423","v":""}]
[null,{"$f":"Hoja8!G424","v":""},{"$f":"Hoja8!H424","v":""},{"$f":"Hoja8!I424","v":""},{"$f":"Hoja8!J424","v":""},{"$f":"Hoja8!K424","v":""},{"$f":"Hoja8!L424","v":""}]
[null,{"$f":"Hoja8!G425","v":""},{"$f":"Hoja8!H425","v":""},{"$f":"Hoja8!I425","v":""},{"$f":"Hoja8!J425","v":""},{"$f":"Hoja8!K425","v":""},{"$f":"Hoja8!L425","v":""}]
[null,{"$f":"Hoja8!G426","v":""},{"$f":"Hoja8!H426","v":""},{"$f":"Hoja8!I426","v":""},{"$f":"Hoja8!J426","v":""},{"$f":"Hoja8!K426","v":""},{"$f":"Hoja8!L426","v":""}]
[null,{"$f":"Hoja8!G427","v":""},{"$f":"Hoja8!H427","v":""},{"$f":"Hoja8!I427","v":""},{"$f":"Hoja8!J427","v":""},{"$f":"Hoja8!K427","v":""},{"$f":"Hoja8!L427","v":""}]
[null,{"$f":"Hoja8!G428","v":""},{"$f":"Hoja8!H428","v":""},{"$f":"Hoja8!I428","v":""},{"$f":"Hoja8!J428","v":""},{"$f":"Hoja8!K428","v":""},{"$f":"Hoja8!L428","v":""}]
[null,{"$f":"Hoja8!G429","v":""},{"$f":"Hoja8!H429","v":""},{"$f":"Hoja8!I429","v":""},{"$f":"Hoja8!J429","v":""},{"$f":"Hoja8!K429","v":""},{"$f":"Hoja8!L429","v":""}]
[null,{"$f":"Hoja8!G430","v":""},{"$f":"Hoja8!H430","v":""},{"$f":"Hoja8!I430","v":""},{"$f":"Hoja8!J430","v":""},{"$f":"Hoja8!K430","v":""},{"$f":"Hoja8!L430","v":""}]
[null,{"$f":"Hoja8!G431","v":""},{"$f":"Hoja8!H431","v":""},{"$f":"Hoja8!I431","v":""},{"$f":"Hoja8!J431","v":""},{"$f":"Hoja8!K431","v":""},{"$f":"Hoja8!L431","v":""}]
[null,{"$f":"Hoja8!G432","v":""},{"$f":"Hoja8!H432","v":""},{"$f":"Hoja8!I432","v":""},{"$f":"Hoja8!J432","v":""},{"$f":"Hoja8!K432","v":""},{"$f":"Hoja8!L432","v":""}]
[null,{"$f":"Hoja8!G433","v":""},{"$f":"Hoja8!H433","v":""},{"$f":"Hoja8!I433","v":""},{"$f":"Hoja8!J433","v":""},{"$f":"Hoja8!K433","v":""},{"$f":"Hoja8!L433","v":""}]
[null,{"$f":"Hoja8!G434","v":""},{"$f":"Hoja8!H434","v":""},{"$f":"Hoja8!I434","v":""},{"$f":"Hoja8!J434","v":""},{"$f":"Hoja8!K434","v":""},{"$f":"Hoja8!L434","v":""}]
[null,{"$f":"Hoja8!G435","v":""},{"$f":"Hoja8!H435","v":""},{"$f":"Hoja8!I435","v":""},{"$f":"Hoja8!J435","v":""},{"$f":"Hoja8!K435","v":""},{"$f":"Hoja8!L435","v":""}]
[null,{"$f":"Hoja8!G436","v":""},{"$f":"Hoja8!H436","v":""},{"$f":"Hoja8!I436","v":""},{"$f":"Hoja8!J436","v":""},{"$f":"Hoja8!K436","v":""},{"$f":"Hoja8!L436","v":""}]
[null,{"$f":"Hoja8!G437","v":""},{"$f":"Hoja8!H437","v":""},{"$f":"Hoja8!I437","v":""},{"$f":"Hoja8!J437","v":""},{"$f":"Hoja8!K437","v":""},{"$f":"Hoja8!L437","v":""}]
[null,{"$f":"Hoja8!G438","v":""},{"$f":"Hoja8!H438","v":""},{"$f":"Hoja8!I438","v":""},{"$f":"Hoja8!J438","v":""},{"$f":"Hoja8!K438","v":""},{"$f":"Hoja8!L438","v":""}]
[null,{"$f":"Hoja8!G439","v":""},{"$f":"Hoja8!H439","v":""},{"$f":"Hoja8!I439","v":""},{"$f":"Hoja8!J439","v":""},{"$f":"Hoja8!K439","v":""},{"$f":"Hoja8!L439","v":""}]
[null,{"$f":"Hoja8!G440","v":""},{"$f":"Hoja8!H440","v":""},{"$f":"Hoja8!I440","v":""},{"$f":"Hoja8!J440","v":""},{"$f":"Hoja8!K440","v":""},{"$f":"Hoja8!L440","v":""}]
[null,{"$f":"Hoja8!G441","v":""},{"$f":"Hoja8!H441","v":""},{"$f":"Hoja8!I441","v":""},{"$f":"Hoja8!J441","v":""},{"$f":"Hoja8!K441","v":""},{"$f":"Hoja8!L441","v":""}]
[null,{"$f":"Hoja8!G442","v":""},{"$f":"Hoja8!H442","v":""},{"$f":"Hoja8!I442","v":""},{"$f":"Hoja8!J442","v":""},{"$f":"Hoja8!K442","v":""},{"$f":"Hoja8!L442","v":""}]
[null,{"$f":"Hoja8!G443","v":""},{"$f":"Hoja8!H443","v":""},{"$f":"Hoja8!I443","v":""},{"$f":"Hoja8!J443","v":""},{"$f":"Hoja8!K443","v":""},{"$f":"Hoja8!L443","v":""}]
[null,{"$f":"Hoja8!G444","v":""},{"$f":"Hoja8!H444","v":""},{"$f":"Hoja8!I444","v":""},{"$f":"Hoja8!J444","v":""},{"$f":"Hoja8!K444","v":""},{"$f":"Hoja8!L444","v":""}]
[null,{"$f":"Hoja8!G445","v":""},{"$f":"Hoja8!H445","v":""},{"$f":"Hoja8!I445","v":""},{"$f":"Hoja8!J445","v":""},{"$f":"Hoja8!K445","v":""},{"$f":"Hoja8!L445","v":""}]
[null,{"$f":"Hoja8!G446","v":""},{"$f":"Hoja8!H446","v":""},{"$f":"Hoja8!I446","v":""},{"$f":"Hoja8!J446","v":""},{"$f":"Hoja8!K446","v":""},{"$f":"Hoja8!L446","v":""}]
[null,{"$f":"Hoja8!G447","v":""},{"$f":"Hoja8!H447","v":""},{"$f":"Hoja8!I447","v":""},{"$f":"Hoja8!J447","v":""},{"$f":"Hoja8!K447","v":""},{"$f":"Hoja8!L447","v":""}]
[null,{"$f":"Hoja8!G448","v":""},{"$f":"Hoja8!H448","v":""},{"$f":"Hoja8!I448","v":""},{"$f":"Hoja8!J448","v":""},{"$f":"Hoja8!K448","v":""},{"$f":"Hoja8!L448","v":""}]
[null,{"$f":"Hoja8!G449","v":""},{"$f":"Hoja8!H449","v":""},{"$f":"Hoja8!I449","v":""},{"$f":"Hoja8!J449","v":""},{"$f":"Hoja8!K449","v":""},{"$f":"Hoja8!L449","v":""}]
[null,{"$f":"Hoja8!G450","v":""},{"$f":"Hoja8!H450","v":""},{"$f":"Hoja8!I450","v":""},{"$f":"Hoja8!J450","v":""},{"$f":"Hoja8!K450","v":""},{"$f":"Hoja8!L450","v":""}]
[null,{"$f":"Hoja8!G451","v":""},{"$f":"Hoja8!H451","v":""},{"$f":"Hoja8!I451","v":""},{"$f":"Hoja8!J451","v":""},{"$f":"Hoja8!K451","v":""},{"$f":"Hoja8!L451","v":""}]
[null,{"$f":"Hoja8!G452","v":""},{"$f":"Hoja8!H452","v":""},{"$f":"Hoja8!I452","v":""},{"$f":"Hoja8!J452","v":""},{"$f":"Hoja8!K452","v":""},{"$f":"Hoja8!L452","v":""}]
[null,{"$f":"Hoja8!G453","v":""},{"$f":"Hoja8!H453","v":""},{"$f":"Hoja8!I453","v":""},{"$f":"Hoja8!J453","v":""},{"$f":"Hoja8!K453","v":""},{"$f":"Hoja8!L453","v":""}]
[null,{"$f":"Hoja8!G454","v":""},{"$f":"Hoja8!H454","v":""},{"$f":"Hoja8!I454","v":""},{"$f":"Hoja8!J454","v":""},{"$f":"Hoja8!K454","v":""},{"$f":"Hoja8!L454","v":""}]
[null,{"$f":"Hoja8!G455","v":""},{"$f":"Hoja8!H455","v":""},{"$f":"Hoja8!I455","v":""},{"$f":"Hoja8!J455","v":""},{"$f":"Hoja8!K455","v":""},{"$f":"Hoja8!L455","v":""}]
[null,{"$f":"Hoja8!G456","v":""},{"$f":"Hoja8!H456","v":""},{"$f":"Hoja8!I456","v":""},{"$f":"Hoja8!J456","v":""},{"$f":"Hoja8!K456","v":""},{"$f":"Hoja8!L456","v":""}]
[null,{"$f":"Hoja8!G457","v":""},{"$f":"Hoja8!H457","v":""},{"$f":"Hoja8!I457","v":""},{"$f":"Hoja8!J457","v":""},{"$f":"Hoja8!K457","v":""},{"$f":"Hoja8!L457","v":""}]
[null,{"$f":"Hoja8!G458","v":""},{"$f":"Hoja8!H458","v":""},{"$f":"Hoja8!I458","v":""},{"$f":"Hoja8!J458","v":""},{"$f":"Hoja8!K458","v":""},{"$f":"Hoja8!L458","v":""}]
[null,{"$f":"Hoja8!G459","v":""},{"$f":"Hoja8!H459","v":""},{"$f":"Hoja8!I459","v":""},{"$f":"Hoja8!J459","v":""},{"$f":"Hoja8!K459","v":""},{"$f":"Hoja8!L459","v":""}]
[null,{"$f":"Hoja8!G460","v":""},{"$f":"Hoja8!H460","v":""},{"$f":"Hoja8!I460","v":""},{"$f":"Hoja8!J460","v":""},{"$f":"Hoja8!K460","v":""},{"$f":"Hoja8!L460","v":""}]
[null,{"$f":"Hoja8!G461","v":""},{"$f":"Hoja8!H461","v":""},{"$f":"Hoja8!I461","v":""},{"$f":"Hoja8!J461","v":""},{"$f":"Hoja8!K461","v":""},{"$f":"Hoja8!L461","v":""}]
[null,{"$f":"Hoja8!G462","v":""},{"$f":"Hoja8!H462","v":""},{"$f":"Hoja8!I462","v":""},{"$f":"Hoja8!J462","v":""},{"$f":"Hoja8!K462","v":""},{"$f":"Hoja8!L462","v":""}]
[null,{"$f":"Hoja8!G463","v":""},{"$f":"Hoja8!H463","v":""},{"$f":"Hoja8!I463","v":""},{"$f":"Hoja8!J463","v":""},{"$f":"Hoja8!K463","v":""},{"$f":"Hoja8!L463","v":""}]
[null,{"$f":"Hoja8!G464","v":""},{"$f":"Hoja8!H464","v":""},{"$f":"Hoja8!I464","v":""},{"$f":"Hoja8!J464","v":""},{"$f":"Hoja8!K464","v":""},{"$f":"Hoja8!L464","v":""}]
[null,{"$f":"Hoja8!G465","v":""},{"$f":"Hoja8!H465","v":""},{"$f":"Hoja8!I465","v":""},{"$f":"Hoja8!J465","v":""},{"$f":"Hoja8!K465","v":""},{"$f":"Hoja8!L465","v":""}]
[null,{"$f":"Hoja8!G466","v":""},{"$f":"Hoja8!H466","v":""},{"$f":"Hoja8!I466","v":""},{"$f":"Hoja8!J466","v":""},{"$f":"Hoja8!K466","v":""},{"$f":"Hoja8!L466","v":""}]
[null,{"$f":"Hoja8!G467","v":""},{"$f":"Hoja8!H467","v":""},{"$f":"Hoja8!I467","v":""},{"$f":"Hoja8!J467","v":""},{"$f":"Hoja8!K467","v":""},{"$f":"Hoja8!L467","v":""}]
[null,{"$f":"Hoja8!G468","v":""},{"$f":"Hoja8!H468","v":""},{"$f":"Hoja8!I468","v":""},{"$f":"Hoja8!J468","v":""},{"$f":"Hoja8!K468","v":""},{"$f":"Hoja8!L468","v":""}]
[null,{"$f":"Hoja8!G469","v":""},{"$f":"Hoja8!H469","v":""},{"$f":"Hoja8!I469","v":""},{"$f":"Hoja8!J469","v":""},{"$f":"Hoja8!K469","v":""},{"$f":"Hoja8!L469","v":""}]
[null,{"$f":"Hoja8!G470","v":""},{"$f":"Hoja8!H470","v":""},{"$f":"Hoja8!I470","v":""},{"$f":"Hoja8!J470","v":""},{"$f":"Hoja8!K470","v":""},{"$f":"Hoja8!L470","v":""}]
[null,{"$f":"Hoja8!G471","v":""},{"$f":"Hoja8!H471","v":""},{"$f":"Hoja8!I471","v":""},{"$f":"Hoja8!J471","v":""},{"$f":"Hoja8!K471","v":""},{"$f":"Hoja8!L471","v":""}]
[null,{"$f":"Hoja8!G472","v":""},{"$f":"Hoja8!H472","v":""},{"$f":"Hoja8!I472","v":""},{"$f":"Hoja8!J472","v":""},{"$f":"Hoja8!K472","v":""},{"$f":"Hoja8!L472","v":""}]
[null,{"$f":"Hoja8!G473","v":""},{"$f":"Hoja8!H473","v":""},{"$f":"Hoja8!I473","v":""},{"$f":"Hoja8!J473","v":""},{"$f":"Hoja8!K473","v":""},{"$f":"Hoja8!L473","v":""}]
[null,{"$f":"Hoja8!G474","v":""},{"$f":"Hoja8!H474","v":""},{"$f":"Hoja8!I474","v":""},{"$f":"Hoja8!J474","v":""},{"$f":"Hoja8!K474","v":""},{"$f":"Hoja8!L474","v":""}]
[null,{"$f":"Hoja8!G475","v":""},{"$f":"Hoja8!H475","v":""},{"$f":"Hoja8!I475","v":""},{"$f":"Hoja8!J475","v":""},{"$f":"Hoja8!K475","v":""},{"$f":"Hoja8!L475","v":""}]
[null,{"$f":"Hoja8!G476","v":""},{"$f":"Hoja8!H476","v":""},{"$f":"Hoja8!I476","v":""},{"$f":"Hoja8!J476","v":""},{"$f":"Hoja8!K476","v":""},{"$f":"Hoja8!L476","v":""}]
[null,{"$f":"Hoja8!G477","v":""},{"$f":"Hoja8!H477","v":""},{"$f":"Hoja8!I477","v":""},{"$f":"Hoja8!J477","v":""},{"$f":"Hoja8!K477","v":""},{"$f":"Hoja8!L477","v":""}]
[null,{"$f":"Hoja8!G478","v":""},{"$f":"Hoja8!H478","v":""},{"$f":"Hoja8!I478","v":""},{"$f":"Hoja8!J478","v":""},{"$f":"Hoja8!K478","v":""},{"$f":"Hoja8!L478","v":""}]
[null,{"$f":"Hoja8!G479","v":""},{"$f":"Hoja8!H479","v":""},{"$f":"Hoja8!I479","v":""},{"$f":"Hoja8!J479","v":""},{"$f":"Hoja8!K479","v":""},{"$f":"Hoja8!L479","v":""}]
[null,{"$f":"Hoja8!G480","v":""},{"$f":"Hoja8!H480","v":""},{"$f":"Hoja8!I480","v":""},{"$f":"Hoja8!J480","v":""},{"$f":"Hoja8!K480","v":""},{"$f":"Hoja8!L480","v":""}]
[null,{"$f":"Hoja8!G481","v":""},{"$f":"Hoja8!H481","v":""},{"$f":"Hoja8!I481","v":""},{"$f":"Hoja8!J481","v":""},{"$f":"Hoja8!K481","v":""},{"$f":"Hoja8!L481","v":""}]
[null,{"$f":"Hoja8!G482","v":""},{"$f":"Hoja8!H482","v":""},{"$f":"Hoja8!I482","v":""},{"$f":"Hoja8!J482","v":""},{"$f":"Hoja8!K482","v":""},{"$f":"Hoja8!L482","v":""}]
[null,{"$f":"Hoja8!G483","v":""},{"$f":"Hoja8!H483","v":""},{"$f":"Hoja8!I483","v":""},{"$f":"Hoja8!J483","v":""},{"$f":"Hoja8!K483","v":""},{"$f":"Hoja8!L483","v":""}]
[null,{"$f":"Hoja8!G484","v":""},{"$f":"Hoja8!H484","v":""},{"$f":"Hoja8!I484","v":""},{"$f":"Hoja8!J484","v":""},{"$f":"Hoja8!K484","v":""},{"$f":"Hoja8!L484","v":""}]
[null,{"$f":"Hoja8!G485","v":""},{"$f":"Hoja8!H485","v":""},{"$f":"Hoja8!I485","v":""},{"$f":"Hoja8!J485","v":""},{"$f":"Hoja8!K485","v":""},{"$f":"Hoja8!L485","v":""}]
[null,{"$f":"Hoja8!G486","v":""},{"$f":"Hoja8!H486","v":""},{"$f":"Hoja8!I486","v":""},{"$f":"Hoja8!J486","v":""},{"$f":"Hoja8!K486","v":""},{"$f":"Hoja8!L486","v":""}]
[null,{"$f":"Hoja8!G487","v":""},{"$f":"Hoja8!H487","v":""},{"$f":"Hoja8!I487","v":""},{"$f":"Hoja8!J487","v":""},{"$f":"Hoja8!K487","v":""},{"$f":"Hoja8!L487","v":""}]
[null,{"$f":"Hoja8!G488","v":""},{"$f":"Hoja8!H488","v":""},{"$f":"Hoja8!I488","v":""},{"$f":"Hoja8!J488","v":""},{"$f":"Hoja8!K488","v":""},{"$f":"Hoja8!L488","v":""}]
[null,{"$f":"Hoja8!G489","v":""},{"$f":"Hoja8!H489","v":""},{"$f":"Hoja8!I489","v":""},{"$f":"Hoja8!J489","v":""},{"$f":"Hoja8!K489","v":""},{"$f":"Hoja8!L489","v":""}]
[null,{"$f":"Hoja8!G490","v":""},{"$f":"Hoja8!H490","v":""},{"$f":"Hoja8!I490","v":""},{"$f":"Hoja8!J490","v":""},{"$f":"Hoja8!K490","v":""},{"$f":"Hoja8!L490","v":""}]
[null,{"$f":"Hoja8!G491","v":""},{"$f":"Hoja8!H491","v":""},{"$f":"Hoja8!I491","v":""},{"$f":"Hoja8!J491","v":""},{"$f":"Hoja8!K491","v":""},{"$f":"Hoja8!L491","v":""}]
[null,{"$f":"Hoja8!G492","v":""},{"$f":"Hoja8!H492","v":""},{"$f":"Hoja8!I492","v":""},{"$f":"Hoja8!J492","v":""},{"$f":"Hoja8!K492","v":""},{"$f":"Hoja8!L492","v":""}]
[null,{"$f":"Hoja8!G493","v":""},{"$f":"Hoja8!H493","v":""},{"$f":"Hoja8!I493","v":""},{"$f":"Hoja8!J493","v":""},{"$f":"Hoja8!K493","v":""},{"$f":"Hoja8!L493","v":""}]
[null,{"$f":"Hoja8!G494","v":""},{"$f":"Hoja8!H494","v":""},{"$f":"Hoja8!I494","v":""},{"$f":"Hoja8!J494","v":""},{"$f":"Hoja8!K494","v":""},{"$f":"Hoja8!L494","v":""}]
[null,{"$f":"Hoja8!G495","v":""},{"$f":"Hoja8!H495","v":""},{"$f":"Hoja8!I495","v":""},{"$f":"Hoja8!J495","v":""},{"$f":"Hoja8!K495","v":""},{"$f":"Hoja8!L495","v":""}]
[null,{"$f":"Hoja8!G496","v":""},{"$f":"Hoja8!H496","v":""},{"$f":"Hoja8!I496","v":""},{"$f":"Hoja8!J496","v":""},{"$f":"Hoja8!K496","v":""},{"$f":"Hoja8!L496","v":""}]
[null,{"$f":"Hoja8!G497","v":""},{"$f":"Hoja8!H497","v":""},{"$f":"Hoja8!I497","v":""},{"$f":"Hoja8!J497","v":""},{"$f":"Hoja8!K497","v":""},{"$f":"Hoja8!L497","v":""}]
[null,{"$f":"Hoja8!G498","v":""},{"$f":"Hoja8!H498","v":""},{"$f":"Hoja8!I498","v":""},{"$f":"Hoja8!J498","v":""},{"$f":"Hoja8!K498","v":""},{"$f":"Hoja8!L498","v":""}]
[null,{"$f":"Hoja8!G499","v":""},{"$f":"Hoja8!H499","v":""},{"$f":"Hoja8!I499","v":""},{"$f":"Hoja8!J499","v":""},{"$f":"Hoja8!K499","v":""},{"$f":"Hoja8!L499","v":""}]

{"sheet":"Correlación","index":24,"n_rows":18,"n_cols":6,"rows_kept":18,"cut":false,"hidden":false,"merged":[[2,1,2,4],[13,1,13,4],[17,2,17,3]]}
[]
[]
[null,"Coeficiente de correlación"]
[]
[null,null,null,null,null,{"$f":"Hoja8!I12","v":166.80000000000291}]
[null,null,null,null,null,{"$f":"Hoja8!I13","v":187.25}]
[]
[]
[]
[null,"r = ",{"$f":"Hoja8!K12","v":0.89}]
[]
[]
[]
[null,"Coeficiente de determinación"]
[]
[]
[null,null,null,null,null,"Ir a Cálculo Ecuación"]
[null,null,{"$f":"Hoja8!K14","v":0.79210000000000003},null,null,"Inicio"]

{"sheet":"Contingencia2x2","index":25,"n_rows":17,"n_cols":6,"rows_kept":17,"cut":false,"hidden":false,"merged":[[2,1,2,4],[9,1,9,4]]}
[]
[]
[null,"Partido"]
[null,"Voto","Liberal","Conservador","Total"]
[null,"Sí",174,427,{"$f":"Hoja26!D2","v":601}]
[null,"No",128,271,{"$f":"Hoja26!D3","v":399}]
[null,"Total",{"$f":"Hoja26!B4","v":302},{"$f":"Hoja26!C4","v":698},{"$f":"Hoja26!D4","v":1000}]
[]
[null,"Frecuencias esperadas "]
[null,"Partido"]
[null,"Voto","Liberal","Conservador","Total"]
[null,"Sí",{"$f":"Hoja26!B6","v":181.50200000000001},{"$f":"Hoja26!C6","v":419.49799999999999},{"$f":"Hoja26!D6","v":601}]
[null,"No",{"$f":"Hoja26!B7","v":120.498},{"$f":"Hoja26!C7","v":278.50200000000001},{"$f":"Hoja26!D7","v":399}]
[null,"Total",{"$f":"Hoja26!B8","v":302},{"$f":"Hoja26!C8","v":698},{"$f":"Hoja26!D8","v":1000}]
[]
[]
[null,null,null,{"$f":"Hoja26!F12","v":1.1133},null,"Inicio"]

{"sheet":"Spearman1","index":26,"n_rows":17,"n_cols":5,"rows_kept":17,"cut":false,"hidden":false,"merged":[]}
["¿No. elementos?",12]
[]
["Coeficiente de correlación de Spearman"]
[]
[" Nº "," X1 "," Y1 "]
[1,86,88]
[2,71,77]
[3,77,76,null,"Ir a Cálculos"]
[4,68,64,null,"Inicio"]
[5,91,96]
[6,72,72]
[7,77,65]
[8,91,90]
[9,70,65]
[10,71,80]
[11,88,81]
[12,87,72]

{"sheet":"Spearman2","index":27,"n_rows":27,"n_cols":8,"rows_kept":27,"cut":false,"hidden":false,"merged":[]}
[]
[]
["Coeficiente de correlación de Spearman"]
[]
[" No. "," X1 "," Y1 "," Orden X1 "," Orden Y1 "," Diferencia "," Diferencia ^ 2"]
[1,68,64,1,1,0,0]
[2,70,65,2,2.5,0.5,0.25]
[3,71,77,3.5,7,3.5,12.25]
[4,71,80,3.5,8,4.5,20.25]
[5,72,72,5,4.5,0.5,0.25]
[6,77,76,6.5,6,0.5,0.25]
[7,77,65,6.5,2.5,4,16]
[8,86,88,8,10,2,4]
[9,87,72,9,4.5,4.5,20.25]
[10,88,81,10,9,1,1]
[11,91,96,11.5,12,0.5,0.25]
[12,91,90,11.5,11,0.5,0.25]
[null,null,null,null,null,null,null,"Ir a Spearman1"]
[null,null,null,null,null,null,null,"Inicio"]
[]
[]
[]
[]
[]
[]
[]
[" P = ","0,73776224"]

{"sheet":"Spearman3","index":28,"n_rows":0,"n_cols":0,"rows_kept":0,"cut":false,"hidden":true,"merged":[]}

{"sheet":"EjMuestra","index":29,"n_rows":22,"n_cols":13,"rows_kept":22,"cut":false,"hidden":false,"merged":[[18,0,18,1],[0,0,0,3],[8,0,8,1],[9,0,9,1],[10,0,10,1],[11,0,11,1],[7,0,7,1]]}
["Tamaño de la muestra para estimar media en M.A.S.",null,null,null,null,null,null,null,null,null,null,null,{"$f":"C9/100","v":0.95}]
[]
[null,null,null,null,null,null,null,null,null,"z^2",{"$f":"C11^2","v":3.8414588206941236},null,{"$f":"((1-M1)/2)+M1","v":0.97499999999999998}]
[null,null,null,null,null,null,null,null,null,"s^2",{"$f":"C12^2","v":10000},null,{"$f":"_xlfn.NORM.S.INV(M3)","v":1.9599639845400536}]
["Población infinita",null,null,{"$f":"K6","v":384.14588206941232},null,null,null,null,null,"E^2",{"$f":"C10^2","v":100}]
[null,null,null,null,null,null,null,null,null,null,{"$f":"(K3*K4)/K5","v":384.14588206941232}]
[]
[null,null,"Valor"]
["Confianza",null,95]
["Error",null,10]
["Z",null,{"$f":"M4","v":1.9599639845400536}]
["Desviación estándar",null,100,null,null,null,null,null,null,null,null,{"$f":"K5/K3","v":26.031777162700582}]
[null,null,null,null,null,null,null,null,null,null,null,{"$f":"K4/C19","v":100}]
[null,null,null,null,null,null,null,null,null,null,null,{"$f":"L12+L13","v":126.03177716270058}]
["Población finita",null,null,{"$f":"L15","v":79.345068562276253},null,null,null,null,null,null,null,{"$f":"K4/L14","v":79.345068562276253}]
[]
[]
[]
["Valor N",null,100]
[]
[null,null,null,"Inicio"]
[" "]

{"sheet":"Ej2","index":30,"n_rows":15,"n_cols":16,"rows_kept":15,"cut":false,"hidden":false,"merged":[[1,0,1,5],[10,1,10,3],[11,1,11,3],[2,1,2,4],[3,1,3,3],[4,1,4,3],[5,1,5,3],[6,1,6,3],[8,1,8,3]]}
[null,null,null,null,null,null,null,null,null,null,null,null,null,null,{"$f":"E4/100","v":0.95}]
["Tamaño de la muestra para estimar proporción en M.A.S.",null,null,null,null,null,null,null,null,null,null,null,null,"C",{"$f":"((1-O1)/2)+O1","v":0.97499999999999998}]
[null,"Datos de entrada",null,null,null,null,null,null,null,null,null,null,null,"Z",{"$f":"_xlfn.NORM.S.INV(O2)","v":1.9599639845400536},{"$f":"O3^2","v":3.8414588206941236}]
[null,"Nivel de confianza ",null,null,95,null,null,null,null,null,null,null,null,"P",{"$f":"E6","v":0.25}]
[null,"Error de estimación",null,null,0.02,null,null,null,null,null,null,null,null,"Q",{"$f":"1-O4","v":0.75}]
[null,"Proporción (P)",null,null,0.25,null,null,null,null,null,null,null,null,"E",{"$f":"E5","v":0.02},{"$f":"O6^2","v":4.0000000000000002E-4}]
[null,"Z",null,null,{"$f":"O3","v":1.9599639845400536},null,null,null,null,null,null,null,null,"infinito",{"$f":"(P3*O4*O5)/P6","v":1800.6838222003703}]
[null,"Q = (1 - P)",null,null,{"$f":"O5","v":0.75},null,null,null,null,null,null,null,null,"Finita",{"$f":"P3*O4*O5*E9","v":1800.6838222003705}]
[null,"N",null,null,2500,null,null,null,null,null,null,null,null,"n-1",{"$f":"E9-1","v":2499}]
[null,null,null,null,null,null,null,null,null,null,null,null,null,"e(n-1)",{"$f":"P6*O9","v":0.99960000000000004}]
[null,"Población infinita",null,null,{"$f":"O7","v":1800.6838222003703},null,null,null,null,null,null,null,null,"zpqq",{"$f":"(P3*O4*O5)","v":0.72027352888014817}]
[null,"Población finita",null,null,{"$f":"O13","v":1046.9861835555082},null,null,null,null,null,null,null,null,null,{"$f":"O10+O11","v":1.7198735288801483}]
[null,null,null,null,null,null,null,null,null,null,null,null,null,null,{"$f":"O8/O12","v":1046.9861835555082}]
[]
[null,null,null,null,null,"Inicio"]

{"sheet":"Ej3","index":31,"n_rows":20,"n_cols":17,"rows_kept":20,"cut":false,"hidden":false,"merged":[[1,1,3,1],[2,4,3,4],[2,5,3,5],[2,6,2,7],[2,2,3,2],[2,3,3,3]]}
["Para procesar la información, asigne valores en las celdas que contienen 0."]
[null,null,null,null,"Calificación"]
[null,null,"0 - 276","277 - 350","351 - 425","426  - 500","Total"]
[null,null,null,null,null,null,"No.","%"]
[null,"Privada",null,null,null,0,0,{"$f":"G5/G7","v":{"$error":"#DIV/0!"}}]
[null,"Pública",null,null,null,0,{"$f":"SUM(C6:F6)","v":0},{"$f":"G6/G7","v":{"$error":"#DIV/0!"}}]
[null,"Total",{"$f":"SUM(C5:C6)","v":0},0,0,0,0,{"$error":"#DIV/0!"}]
[null,"Porcentaje",{"$f":"C7/G7","v":{"$error":"#DIV/0!"}},{"$f":"D7/G7","v":{"$error":"#DIV/0!"}},{"$f":"E7/G7","v":{"$error":"#DIV/0!"}},{"$f":"F7/$G$7","v":{"$error":"#DIV/0!"}},null,null,null,null,null,null,"0-276","277-350","351-425","426-500","total"]
[null,null,null,null,null,null,null,null,null,null,null,"Privada",{"$f":"C5","v":0},0,0,0,0]
[null,null,null,null,null,null,null,null,null,null,null,"Pública",0,0,0,0,0]
[null,null,null,null,null,null,null,null,null,null,null,"Total",{"$f":"SUM(M9:M10)","v":0},{"$f":"SUM(N9:N10)","v":0},{"$f":"SUM(O9:O10)","v":0},{"$f":"SUM(P9:P10)","v":0},{"$f":"SUM(Q9:Q10)","v":0}]
[]
[]
[]
[]
[]
[null,null,"Privada",{"$f":"H5","v":{"$error":"#DIV/0!"}}]
[null,null,"Pública",{"$f":"H6","v":{"$error":"#DIV/0!"}}]
[]
[null,null,null,null,null,null,null,null,null,"Inicio"]

{"sheet":"Ej4","index":32,"n_rows":33,"n_cols":9,"rows_kept":33,"cut":false,"hidden":false,"merged":[[3,6,3,7]]}
["Para procesar la información, asigne valores en las celdas de la columna \"Valor\"."]
[]
[null,"Item","Valor"]
[null,1,null,null,null,null,"Resultados"]
[null,2,null,null,null,null,"Media",{"$f":"Hoja16!B1","v":{"$error":"#DIV/0!"}}]
[null,3,null,null,null,null,"Moda",{"$f":"Hoja16!B2","v":{"$error":"#N/A"}}]
[null,4,null,null,null,null,"Mediana",{"$f":"Hoja16!B3","v":{"$error":"#NUM!"}}]
[null,5,null,null,null,null,"Desviación estándar",{"$f":"Hoja16!B4","v":{"$error":"#DIV/0!"}}]
[null,6,null,null,null,null,"Rango",{"$f":"Hoja16!B5","v":0}]
[null,7,null,null,null,null,"Varianza de la muestra",{"$f":"Hoja16!B10","v":{"$error":"#DIV/0!"}}]
[null,8,null,null,null,null,"Mínimo",{"$f":"Hoja16!B7","v":0}]
[null,9,null,null,null,null,"Máximo",{"$f":"Hoja16!B6","v":0}]
[null,10,null,null,null,null,"Suma",{"$f":"Hoja16!B8","v":0}]
[null,11,null,null,null,null,"Cuenta",{"$f":"Hoja16!B9","v":0}]
[null,12]
[null,13,null,null,null,null,null,null,"Inicio"]
[null,14]
[null,15]
[null,16]
[null,17]
[null,18]
[null,19]
[null,20]
[null,21]
[null,22]
[null,23]
[null,24]
[null,25]
[null,26]
[null,27]
[null,28]
[null,29]
[null,30]

{"sheet":"Ej5","index":33,"n_rows":10,"n_cols":16,"rows_kept":10,"cut":false,"hidden":false,"merged":[[1,1,1,3]]}
[null,null,null,null,null,null,null,null,null,null,null,null,null,null,null,{"$f":"(C5-C6)/C7","v":{"$error":"#DIV/0!"}}]
[null,"Prueba Z",null,null,null,null,null,null,null,null,null,null,null,null,null,{"$f":"(D5-D6)/D7","v":{"$error":"#DIV/0!"}}]
[]
[null,null,"A","B"]
[null,"Xi"]
[]
[null,"S"]
[null,"Z",{"$f":"P1","v":{"$error":"#DIV/0!"}},{"$f":"P2","v":{"$error":"#DIV/0!"}}]
["Para procesar la información, asigne valores en las celdas de las columnas A y B."]
[null,null,null,null,"Inicio"]

{"sheet":"Ej6","index":34,"n_rows":12,"n_cols":16,"rows_kept":12,"cut":false,"hidden":false,"merged":[[1,1,1,4]]}
[]
[null,"Prueba hipótesis",null,null,null,null,null,null,null,null,null,null,null,null,"S",{"$f":"E4/P4","v":0.70710678118654746}]
[]
[null,"Desviación estándar",null,null,5,null,null,null,null,null,null,null,null,null,null,{"$f":"SQRT(E5)","v":7.0710678118654755}]
[null,"Muestra",null,null,50]
[null,"Nivel de significancia",null,null,95,null,null,null,null,null,null,null,null,null,"Z",{"$f":"(E7-E8)/P2","v":2.8284271247461903}]
[null,"Tiempo promedio clientes",null,null,50]
[null,"Tiempo promedio",null,null,48]
[null,"Valor S",null,null,{"$f":"P2","v":0.70710678118654746}]
[null,"Valor Z",null,null,{"$f":"P6","v":2.8284271247461903}]
[]
[null,null,null,null,null,"Inicio"]

{"sheet":"Ej61","index":35,"n_rows":14,"n_cols":16,"rows_kept":14,"cut":false,"hidden":true,"merged":[[1,7,1,10],[1,1,1,2]]}
[null,null,null,null,null,null,null,null,null,null,null,null,null,null,null,{"$f":"AVERAGE(C5:C14)","v":124.1}]
[null,"Prueba Hipótesis",null,null,null,null,null,"Prueba Hipótesis"]
[]
[null,"Item","Valor",null,null,null,null,"Desviación Estándar"]
[null,1,122,null,null,null,null,"Muestra"]
[null,2,121,null,null,null,null,"Nivel de Significancia"]
[null,3,110,null,null,null,null,"Tiempo Promedio Clientes"]
[null,4,130,null,null,null,null,"Tiempo promedio"]
[null,5,131,null,null,null,null,"Valor S",null,null,{"$f":"V2","v":0}]
[null,6,127,null,null,null,null,"Valor Z",null,null,{"$f":"V6","v":0}]
[null,7,130,null,null,null,null,null,null,null,null,"Anterior"]
[null,8,119,null,null,null,null,null,null,null,null,"Inicio"]
[null,9,122]
[null,10,129]

{"sheet":"Ej7","index":36,"n_rows":7,"n_cols":8,"rows_kept":7,"cut":false,"hidden":false,"merged":[[3,5,3,6]]}
["Para procesar la información, asigne valores en las celdas vacías."]
[null,"Número de ítems"]
[]
[null,"Ítem","Cantidad","Descrip.",null,"Resultado"]
[null,null,null,null,null,"Valor Ei",{"$f":"Hoja22!D1","v":{"$error":"#DIV/0!"}}]
[null,null,null,null,null,"Chi cuadrado",{"$f":"Hoja22!J2","v":{"$error":"#DIV/0!"}}]
[null,null,null,null,null,null,null,"Inicio"]

{"sheet":"Ej8","index":37,"n_rows":34,"n_cols":11,"rows_kept":34,"cut":false,"hidden":false,"merged":[[3,8,3,9],[10,8,10,9],[11,8,11,9]]}
[]
[null,"Número de ítems",null,5]
[]
[null,"Ítem","X","Y","X^2","XY","Y^2",null,"Resultados"]
[null,1,10,25,{"$f":"Hoja24!F3","v":100},{"$f":"Hoja24!G3","v":250},{"$f":"Hoja24!H3","v":625},null,"a =",{"$f":"Hoja24!M8","v":25.515425983583356}]
[null,2,25,28,{"$f":"Hoja24!F4","v":625},{"$f":"Hoja24!G4","v":700},{"$f":"Hoja24!H4","v":784},null,"b =",{"$f":"Hoja24!M9","v":0.33172940843475801}]
[null,3,18,36,{"$f":"Hoja24!F5","v":324},{"$f":"Hoja24!G5","v":648},{"$f":"Hoja24!H5","v":1296}]
[null,4,43,54,{"$f":"Hoja24!F6","v":1849},{"$f":"Hoja24!G6","v":2322},{"$f":"Hoja24!H6","v":2916}]
[null,5,56,35,{"$f":"Hoja24!F7","v":3136},{"$f":"Hoja24!G7","v":1960},{"$f":"Hoja24!H7","v":1225},null,{"$f":"Hoja24!L11","v":"Y = 25.5 + 0.33x"}]
[null,null,null,null,{"$f":"Hoja24!F8","v":""},{"$f":"Hoja24!G8","v":""},{"$f":"Hoja24!H8","v":""}]
[null,null,null,null,{"$f":"Hoja24!F9","v":""},{"$f":"Hoja24!G9","v":""},{"$f":"Hoja24!H9","v":""},null,"Coef. correlación",null,{"$f":"Hoja24!Q12","v":0.5526390777565221}]
[null,null,null,null,{"$f":"Hoja24!F10","v":""},{"$f":"Hoja24!G10","v":""},{"$f":"Hoja24!H10","v":""},null,"Coef. determinación",null,{"$f":"Hoja24!L13","v":0.30250000000000005}]
[null,null,null,null,{"$f":"Hoja24!F11","v":""},{"$f":"Hoja24!G11","v":""},{"$f":"Hoja24!H11","v":""}]
[null,null,null,null,{"$f":"Hoja24!F12","v":""},{"$f":"Hoja24!G12","v":""},{"$f":"Hoja24!H12","v":""},null,null,null,"Inicio"]
[null,null,null,null,{"$f":"Hoja24!F13","v":""},{"$f":"Hoja24!G13","v":""},{"$f":"Hoja24!H13","v":""}]
[null,null,null,null,{"$f":"Hoja24!F14","v":""},{"$f":"Hoja24!G14","v":""},{"$f":"Hoja24!H14","v":""}]
[null,null,null,null,{"$f":"Hoja24!F15","v":""},{"$f":"Hoja24!G15","v":""},{"$f":"Hoja24!H15","v":""}]
[null,null,null,null,{"$f":"Hoja24!F16","v":""},{"$f":"Hoja24!G16","v":""},{"$f":"Hoja24!H16","v":""}]
[null,null,null,null,{"$f":"Hoja24!F17","v":""},{"$f":"Hoja24!G17","v":""},{"$f":"Hoja24!H17","v":""}]
[null,null,null,null,{"$f":"Hoja24!F18","v":""},{"$f":"Hoja24!G18","v":""},{"$f":"Hoja24!H18","v":""}]
[null,null,null,null,{"$f":"Hoja24!F19","v":""},{"$f":"Hoja24!G19","v":""},{"$f":"Hoja24!H19","v":""}]
[null,null,null,null,{"$f":"Hoja24!F20","v":""},{"$f":"Hoja24!G20","v":""},{"$f":"Hoja24!H20","v":""}]
[null,null,null,null,{"$f":"Hoja24!F21","v":""},{"$f":"Hoja24!G21","v":""},{"$f":"Hoja24!H21","v":""}]
[null,null,null,null,{"$f":"Hoja24!F22","v":""},{"$f":"Hoja24!G22","v":""},{"$f":"Hoja24!H22","v":""}]
[null,null,null,null,{"$f":"Hoja24!F23","v":""},{"$f":"Hoja24!G23","v":""},{"$f":"Hoja24!H23","v":""}]
[null,null,null,null,{"$f":"Hoja24!F24","v":""},{"$f":"Hoja24!G24","v":""},{"$f":"Hoja24!H24","v":""}]
[null,null,null,null,{"$f":"Hoja24!F25","v":""},{"$f":"Hoja24!G25","v":""},{"$f":"Hoja24!H25","v":""}]
[null,null,null,null,{"$f":"Hoja24!F26","v":""},{"$f":"Hoja24!G26","v":""},{"$f":"Hoja24!H26","v":""}]
[null,null,null,null,{"$f":"Hoja24!F27","v":""},{"$f":"Hoja24!G27","v":""},{"$f":"Hoja24!H27","v":""}]
[null,null,null,null,{"$f":"Hoja24!F28","v":""},{"$f":"Hoja24!G28","v":""},{"$f":"Hoja24!H28","v":""}]
[null,null,null,null,{"$f":"Hoja24!F29","v":""},{"$f":"Hoja24!G29","v":""},{"$f":"Hoja24!H29","v":""}]
[null,null,null,null,{"$f":"Hoja24!F30","v":""},{"$f":"Hoja24!G30","v":""},{"$f":"Hoja24!H30","v":""}]
[null,null,null,null,{"$f":"Hoja24!F31","v":""},{"$f":"Hoja24!G31","v":""},{"$f":"Hoja24!H31","v":""}]
[null,null,null,null,{"$f":"Hoja24!F32","v":""},{"$f":"Hoja24!G32","v":""},{"$f":"Hoja24!H32","v":""}]

{"sheet":"Ej9","index":38,"n_rows":18,"n_cols":7,"rows_kept":18,"cut":false,"hidden":false,"merged":[[2,1,2,4],[10,1,10,4]]}
[]
[null,"Observados"]
[null,"Partido"]
[null,"Voto","Liberal","Conservador","Total"]
[null,"Sí",23,60,{"$f":"'Hoja26 (2)'!D2","v":83}]
[null,"No",43,10,{"$f":"'Hoja26 (2)'!D3","v":53}]
[null,"Total",{"$f":"'Hoja26 (2)'!B4","v":66},{"$f":"'Hoja26 (2)'!C4","v":70},{"$f":"'Hoja26 (2)'!D4","v":136}]
[]
[]
[null,"Esperados"]
[null,"Partido"]
[null,"Voto","Liberal","Conservador","Total"]
[null,"Sí",{"$f":"'Hoja26 (2)'!B6","v":40.279411764705884},{"$f":"'Hoja26 (2)'!C6","v":42.720588235294116},{"$f":"'Hoja26 (2)'!D6","v":83}]
[null,"No",{"$f":"'Hoja26 (2)'!B7","v":25.720588235294116},{"$f":"'Hoja26 (2)'!C7","v":27.279411764705884},{"$f":"'Hoja26 (2)'!D7","v":53}]
[null,"Total",{"$f":"'Hoja26 (2)'!B8","v":66},{"$f":"'Hoja26 (2)'!C8","v":70},{"$f":"'Hoja26 (2)'!D8","v":136}]
[]
[null,null,null,null,null,null,"Inicio"]
[null,null,null,{"$f":"'Hoja26 (2)'!F12","v":36.955399999999997}]

{"sheet":"Hoja26 (2)","index":39,"n_rows":12,"n_cols":6,"rows_kept":12,"cut":false,"hidden":true,"merged":[]}
[]
[null,{"$f":"'Ej9'!C5","v":23},{"$f":"'Ej9'!D5","v":60},{"$f":"SUM(B2:C2)","v":83}]
[null,{"$f":"'Ej9'!C6","v":43},{"$f":"'Ej9'!D6","v":10},{"$f":"SUM(B3:C3)","v":53}]
[null,{"$f":"SUM(B2:B3)","v":66},{"$f":"SUM(C2:C3)","v":70},{"$f":"SUM(D2:D3)","v":136}]
[]
[null,{"$f":"(D2*B4)/D4","v":40.279411764705884},{"$f":"(D2*C4)/D4","v":42.720588235294116},{"$f":"SUM(B6:C6)","v":83}]
[null,{"$f":"(D3*B4)/D4","v":25.720588235294116},{"$f":"(D3*C4)/D4","v":27.279411764705884},{"$f":"SUM(B7:C7)","v":53}]
[null,{"$f":"SUM(B6:B7)","v":66},{"$f":"SUM(C6:C7)","v":70},{"$f":"SUM(D6:D7)","v":136}]
[]
[null,{"$f":"((B2-B6)^2)/B6","v":7.4126720786890887},{"$f":"((C2-C6)^2)/C6","v":6.9890908170497132},{"$f":"B10+C10","v":14.401762895738802}]
[null,{"$f":"((B3-B7)^2)/B7","v":11.608524198701783},{"$f":"((C3-C7)^2)/C7","v":10.945179958775965},{"$f":"B11+C11","v":22.553704157477746}]
[null,{"$f":"SUM(B10:B11)","v":19.021196277390871},{"$f":"SUM(C10:C11)","v":17.934270775825677},{"$f":"SUM(D10:D11)","v":36.955467053216552},{"$f":"ROUNDUP(D12,4)","v":36.955500000000001},{"$f":"ROUNDDOWN(D12,4)","v":36.955399999999997}]

{"sheet":"Hoja26","index":40,"n_rows":12,"n_cols":6,"rows_kept":12,"cut":false,"hidden":true,"merged":[]}
[]
[null,{"$f":"Contingencia2x2!C5","v":174},{"$f":"Contingencia2x2!D5","v":427},{"$f":"SUM(B2:C2)","v":601}]
[null,{"$f":"Contingencia2x2!C6","v":128},{"$f":"Contingencia2x2!D6","v":271},{"$f":"SUM(B3:C3)","v":399}]
[null,{"$f":"SUM(B2:B3)","v":302},{"$f":"SUM(C2:C3)","v":698},{"$f":"SUM(D2:D3)","v":1000}]
[]
[null,{"$f":"(D2*B4)/D4","v":181.50200000000001},{"$f":"(D2*C4)/D4","v":419.49799999999999},{"$f":"SUM(B6:C6)","v":601}]
[null,{"$f":"(D3*B4)/D4","v":120.498},{"$f":"(D3*C4)/D4","v":278.50200000000001},{"$f":"SUM(B7:C7)","v":399}]
[null,{"$f":"SUM(B6:B7)","v":302},{"$f":"SUM(C6:C7)","v":698},{"$f":"SUM(D6:D7)","v":1000}]
[]
[null,{"$f":"((B2-B6)^2)/B6","v":0.31007924981542978},{"$f":"((C2-C6)^2)/C6","v":0.13416036310065874},{"$f":"B10+C10","v":0.44423961291608849}]
[null,{"$f":"((B3-B7)^2)/B7","v":0.46706172716559546},{"$f":"((C3-C7)^2)/C7","v":0.20208114842981428},{"$f":"B11+C11","v":0.66914287559540975}]
[null,{"$f":"SUM(B10:B11)","v":0.77714097698102524},{"$f":"SUM(C10:C11)","v":0.33624151153047299},{"$f":"SUM(D10:D11)","v":1.1133824885114982},{"$f":"ROUNDUP(D12,4)","v":1.1133999999999999},{"$f":"ROUNDDOWN(D12,4)","v":1.1133}]

{"sheet":"Hoja24","index":41,"n_rows":32,"n_cols":18,"rows_kept":32,"cut":false,"hidden":true,"merged":[]}
[5,"Totla muestra"]
["x","y","x2","xy","y2",null,null,null,null,null,"sumax",{"$f":"SUM(A3:A32)","v":152},{"$f":"L2^2","v":23104}]
[{"$f":"'Ej8'!C5","v":10},{"$f":"'Ej8'!D5","v":25},{"$f":"A3^2","v":100},{"$f":"A3*B3","v":250},{"$f":"B3^2","v":625},{"$f":"IF(C3<>0,C3,\"\")","v":100},{"$f":"IF(D3<>0,D3,\"\")","v":250},{"$f":"IF(E3<>0,E3,\"\")","v":625},null,null,"suma y",{"$f":"SUM(B3:B32)","v":178},{"$f":"L3^2","v":31684}]
[{"$f":"'Ej8'!C6","v":25},{"$f":"'Ej8'!D6","v":28},{"$f":"A4^2","v":625},{"$f":"A4*B4","v":700},{"$f":"B4^2","v":784},{"$f":"IF(C4<>0,C4,\"\")","v":625},{"$f":"IF(D4<>0,D4,\"\")","v":700},{"$f":"IF(E4<>0,E4,\"\")","v":784},null,null,"suma x2",{"$f":"SUM(C3:C32)","v":6034}]
[{"$f":"'Ej8'!C7","v":18},{"$f":"'Ej8'!D7","v":36},324,648,1296,324,648,1296,null,null,"suma xy",{"$f":"SUM(D3:D32)","v":5880}]
[{"$f":"'Ej8'!C8","v":43},{"$f":"'Ej8'!D8","v":54},1849,2322,2916,1849,2322,2916,null,null,"suma y2",{"$f":"SUM(E3:E32)","v":6846}]
[{"$f":"'Ej8'!C9","v":56},{"$f":"'Ej8'!D9","v":35},3136,1960,1225,3136,1960,1225]
[{"$f":"'Ej8'!C10","v":0},{"$f":"'Ej8'!D10","v":0},0,0,0,"","","",null,"a",{"$f":"(L3*L4)-(L2*L5)","v":180292},{"$f":"(A1*L4)-L2^2","v":7066},{"$f":"K8/L8","v":25.515425983583356},{"$f":"ROUND(M8,1)","v":25.5}]
[{"$f":"'Ej8'!C11","v":0},{"$f":"'Ej8'!D11","v":0},0,0,0,"","","",null,"b",{"$f":"(A1*L5)-(L2*L3)","v":2344},{"$f":"(A1*L4)-L2^2","v":7066},{"$f":"K9/L9","v":0.33172940843475801},{"$f":"ROUND(M9,2)","v":0.33}]
[{"$f":"'Ej8'!C12","v":0},{"$f":"'Ej8'!D12","v":0},0,0,0,"","",""]
[{"$f":"'Ej8'!C13","v":0},{"$f":"'Ej8'!D13","v":0},0,0,0,"","","",null,null,null,{"$f":"CONCATENATE(\"Y = \",N8,\" + \",N9,\"x\")","v":"Y = 25.5 + 0.33x"}]
[{"$f":"'Ej8'!C14","v":0},{"$f":"'Ej8'!D14","v":0},0,0,0,"","","",null,null,"Correlacion",{"$f":"(A1*L5)-(L2*L3)","v":2344},{"$f":"(A1*L4)-M2","v":7066},{"$f":"(A1*L6)-M3","v":2546},{"$f":"M12*N12","v":17990036},{"$f":"SQRT(O12)","v":4241.4662559072658},{"$f":"L12/P12","v":0.5526390777565221},{"$f":"ROUND(Q12,2)","v":0.55000000000000004}]
[{"$f":"'Ej8'!C15","v":0},{"$f":"'Ej8'!D15","v":0},0,0,0,"","","",null,null,"Determinacion",{"$f":"R12^2","v":0.30250000000000005}]
[{"$f":"'Ej8'!C16","v":0},{"$f":"'Ej8'!D16","v":0},0,0,0,"","",""]
[{"$f":"'Ej8'!C17","v":0},{"$f":"'Ej8'!D17","v":0},0,0,0,"","",""]
[{"$f":"'Ej8'!C18","v":0},{"$f":"'Ej8'!D18","v":0},0,0,0,"","",""]
[{"$f":"'Ej8'!C19","v":0},{"$f":"'Ej8'!D19","v":0},0,0,0,"","",""]
[{"$f":"'Ej8'!C20","v":0},{"$f":"'Ej8'!D20","v":0},0,0,0,"","",""]
[{"$f":"'Ej8'!C21","v":0},{"$f":"'Ej8'!D21","v":0},0,0,0,"","",""]
[{"$f":"'Ej8'!C22","v":0},{"$f":"'Ej8'!D22","v":0},0,0,0,"","",""]
[{"$f":"'Ej8'!C23","v":0},{"$f":"'Ej8'!D23","v":0},0,0,0,"","",""]
[{"$f":"'Ej8'!C24","v":0},{"$f":"'Ej8'!D24","v":0},0,0,0,"","",""]
[{"$f":"'Ej8'!C25","v":0},{"$f":"'Ej8'!D25","v":0},0,0,0,"","",""]
[{"$f":"'Ej8'!C26","v":0},{"$f":"'Ej8'!D26","v":0},0,0,0,"","",""]
[{"$f":"'Ej8'!C27","v":0},{"$f":"'Ej8'!D27","v":0},0,0,0,"","",""]
[{"$f":"'Ej8'!C28","v":0},{"$f":"'Ej8'!D28","v":0},0,0,0,"","",""]
[{"$f":"'Ej8'!C29","v":0},{"$f":"'Ej8'!D29","v":0},0,0,0,"","",""]
[{"$f":"'Ej8'!C30","v":0},{"$f":"'Ej8'!D30","v":0},0,0,0,"","",""]
[{"$f":"'Ej8'!C31","v":0},{"$f":"'Ej8'!D31","v":0},0,0,0,"","",""]
[{"$f":"'Ej8'!C32","v":0},{"$f":"'Ej8'!D32","v":0},0,0,0,"","",""]
[{"$f":"'Ej8'!C33","v":0},{"$f":"'Ej8'!D33","v":0},{"$f":"A31^2","v":0},{"$f":"A31*B31","v":0},{"$f":"B31^2","v":0},"","",""]
[{"$f":"'Ej8'!C34","v":0},{"$f":"'Ej8'!D34","v":0},0,0,0,"","",""]

{"sheet":"Hoja22","index":42,"n_rows":18,"n_cols":20,"rows_kept":18,"cut":false,"hidden":true,"merged":[]}
[{"$f":"SUM('Ej7'!C5:C20)","v":0},"SUMA","E",{"$f":"A1/A2","v":{"$error":"#DIV/0!"}},{"$f":"'Ej7'!C5-Hoja22!$D$1","v":{"$error":"#DIV/0!"}},{"$f":"E1^2","v":{"$error":"#DIV/0!"}},{"$f":"'Ej7'!B5","v":0},{"$f":"IF(G1=0,\"\",F1)","v":""},null,{"$f":"SUM(H1:H18)","v":0},null,null,null,null,null,null,null,null,null,0]
[{"$f":"COUNT('Ej7'!B5:B20)","v":0},"CUENTA",null,null,{"$f":"'Ej7'!C6-Hoja22!$D$1","v":{"$error":"#DIV/0!"}},{"$f":"E2^2","v":{"$error":"#DIV/0!"}},{"$f":"'Ej7'!B6","v":0},{"$f":"IF(G2=0,\"\",F2)","v":""},null,{"$f":"J1/D1","v":{"$error":"#DIV/0!"}}]
[null,null,null,null,{"$f":"'Ej7'!C7-Hoja22!$D$1","v":{"$error":"#DIV/0!"}},{"$error":"#DIV/0!"},{"$f":"'Ej7'!B7","v":0},""]
[null,null,null,null,{"$f":"'Ej7'!C8-Hoja22!$D$1","v":{"$error":"#DIV/0!"}},{"$error":"#DIV/0!"},{"$f":"'Ej7'!B8","v":0},""]
[null,null,null,null,{"$f":"'Ej7'!C9-Hoja22!$D$1","v":{"$error":"#DIV/0!"}},{"$error":"#DIV/0!"},{"$f":"'Ej7'!B9","v":0},""]
[null,null,null,null,{"$f":"'Ej7'!C10-Hoja22!$D$1","v":{"$error":"#DIV/0!"}},{"$error":"#DIV/0!"},{"$f":"'Ej7'!B10","v":0},""]
[null,null,null,null,{"$f":"'Ej7'!C11-Hoja22!$D$1","v":{"$error":"#DIV/0!"}},{"$error":"#DIV/0!"},{"$f":"'Ej7'!B11","v":0},""]
[null,null,null,null,{"$f":"'Ej7'!C12-Hoja22!$D$1","v":{"$error":"#DIV/0!"}},{"$error":"#DIV/0!"},{"$f":"'Ej7'!B12","v":0},""]
[null,null,null,null,{"$f":"'Ej7'!C13-Hoja22!$D$1","v":{"$error":"#DIV/0!"}},{"$error":"#DIV/0!"},{"$f":"'Ej7'!B13","v":0},""]
[null,null,null,null,{"$f":"'Ej7'!C14-Hoja22!$D$1","v":{"$error":"#DIV/0!"}},{"$error":"#DIV/0!"},{"$f":"'Ej7'!B14","v":0},""]
[null,null,null,null,{"$f":"'Ej7'!C15-Hoja22!$D$1","v":{"$error":"#DIV/0!"}},{"$error":"#DIV/0!"},{"$f":"'Ej7'!B15","v":0},""]
[null,null,null,null,{"$f":"'Ej7'!C16-Hoja22!$D$1","v":{"$error":"#DIV/0!"}},{"$error":"#DIV/0!"},{"$f":"'Ej7'!B16","v":0},""]
[null,null,null,null,{"$f":"'Ej7'!C17-Hoja22!$D$1","v":{"$error":"#DIV/0!"}},{"$error":"#DIV/0!"},{"$f":"'Ej7'!B17","v":0},""]
[null,null,null,null,{"$f":"'Ej7'!C18-Hoja22!$D$1","v":{"$error":"#DIV/0!"}},{"$error":"#DIV/0!"},{"$f":"'Ej7'!B18","v":0},""]
[null,null,null,null,{"$f":"'Ej7'!C19-Hoja22!$D$1","v":{"$error":"#DIV/0!"}},{"$error":"#DIV/0!"},{"$f":"'Ej7'!B19","v":0},""]
[null,null,null,null,{"$f":"'Ej7'!C20-Hoja22!$D$1","v":{"$error":"#DIV/0!"}},{"$error":"#DIV/0!"},{"$f":"'Ej7'!B20","v":0},""]
[null,null,null,null,{"$f":"'Ej7'!C21-Hoja22!$D$1","v":{"$error":"#DIV/0!"}},{"$error":"#DIV/0!"},{"$f":"'Ej7'!B21","v":0},""]
[null,null,null,null,{"$f":"'Ej7'!C22-Hoja22!$D$1","v":{"$error":"#DIV/0!"}},{"$error":"#DIV/0!"},{"$f":"'Ej7'!B22","v":0},""]

{"sheet":"Hoja16","index":43,"n_rows":10,"n_cols":2,"rows_kept":10,"cut":false,"hidden":true,"merged":[]}
["Media",{"$f":"B8/B9","v":{"$error":"#DIV/0!"}}]
["Moda",{"$f":"_xlfn.MODE.SNGL('Ej4'!C4:C50)","v":{"$error":"#N/A"}}]
["Mediana",{"$f":"MEDIAN('Ej4'!C4:C50)","v":{"$error":"#NUM!"}}]
["Desviación estándar",{"$f":"_xlfn.STDEV.S('Ej4'!C4:C50)","v":{"$error":"#DIV/0!"}}]
["Rango",{"$f":"B6-B7","v":0}]
["Maximo",{"$f":"MAX('Ej4'!C4:C50)","v":0}]
["Minimo",{"$f":"MIN('Ej4'!C4:C50)","v":0}]
["Suma",{"$f":"SUM('Ej4'!C4:C50)","v":0}]
["Cuenta",{"$f":"COUNT('Ej4'!C4:C50)","v":0}]
["varianza",{"$f":"VAR('Ej4'!C4:C50)","v":{"$error":"#DIV/0!"}}]

{"sheet":"Hoja8","index":44,"n_rows":501,"n_cols":18,"rows_kept":501,"cut":false,"hidden":true,"merged":[[5,13,5,14],[9,13,9,14]]}
[null,"X","Y","X2","X*Y","Y2",null,null,null,null,null,null,null,"suma X",{"$f":"SUM(B2:B501)","v":36.9},6,{"$f":"O1^2","v":1361.61}]
[{"$f":"Regr_Lineal!B5","v":1},{"$f":"Regr_Lineal!C5","v":6.6},{"$f":"Regr_Lineal!D5","v":75},{"$f":"B2^2","v":43.559999999999995},{"$f":"B2*C2","v":495},{"$f":"C2^2","v":5625},{"$f":"IF(A2=0,\"\",A2)","v":1},6.6,75,43.559999999999995,495,5625,null,"suma Y",{"$f":"SUM(C2:C501)","v":452},{"$f":"O2^2","v":204304}]
[{"$f":"Regr_Lineal!B6","v":2},{"$f":"Regr_Lineal!C6","v":5.3},{"$f":"Regr_Lineal!D6","v":69},{"$f":"B3^2","v":28.09},{"$f":"B3*C3","v":365.7},{"$f":"C3^2","v":4761},{"$f":"IF(A3=0,\"\",A3)","v":2},5.3,69,28.09,{"$f":"IF(E3=0,\"\",E3)","v":365.7},4761,null,"suma X2",{"$f":"SUM(D2:D501)","v":232.19},{"$f":"O3-O1","v":195.29},{"$f":"P3^2","v":38138.184099999999}]
[{"$f":"Regr_Lineal!B7","v":3},{"$f":"Regr_Lineal!C7","v":4.9000000000000004},{"$f":"Regr_Lineal!D7","v":71},24.010000000000005,347.90000000000003,5041,3,4.9000000000000004,71,24.010000000000005,347.90000000000003,5041,null,"suma XY",{"$f":"SUM(E2:E501)","v":2807.6000000000004},{"$f":"P1*O5","v":205416},{"$f":"P4-P2","v":1112}]
[{"$f":"Regr_Lineal!B8","v":4},{"$f":"Regr_Lineal!C8","v":7.4},{"$f":"Regr_Lineal!D8","v":86},54.760000000000005,636.4,7396,4,7.4,86,54.760000000000005,636.4,7396,null,"suma Y2",{"$f":"SUM(F2:F501)","v":34236},null,{"$f":"P1*O3","v":1393.1399999999999}]
[{"$f":"Regr_Lineal!B9","v":5},{"$f":"Regr_Lineal!C9","v":7.1},{"$f":"Regr_Lineal!D9","v":78},50.41,553.79999999999995,6084,5,7.1,78,50.41,553.79999999999995,6084,null,"a",null,null,{"$f":"Q5-Q1","v":31.529999999999973},{"$f":"Q6*Q4","v":35061.359999999971}]
[{"$f":"Regr_Lineal!B10","v":6},{"$f":"Regr_Lineal!C10","v":5.6},{"$f":"Regr_Lineal!D10","v":73},31.359999999999996,408.79999999999995,5329,6,5.6,73,31.359999999999996,408.79999999999995,5329,null,{"$f":"((O2)*O3)-(O1*O4)","v":1349.4400000000023},{"$f":"N7/N8","v":42.798604503647432},null,null,{"$f":"SQRT(R6)","v":187.24678902453834}]
[{"$f":"Regr_Lineal!B11","v":0},{"$f":"Regr_Lineal!C11","v":0},{"$f":"Regr_Lineal!D11","v":0},0,0,0,"","","","","","",null,{"$f":"(P1*O3)-(O1)^2","v":31.529999999999973}]
[{"$f":"Regr_Lineal!B12","v":0},{"$f":"Regr_Lineal!C12","v":0},{"$f":"Regr_Lineal!D12","v":0},0,0,0,"","","","","",""]
[{"$f":"Regr_Lineal!B13","v":0},{"$f":"Regr_Lineal!C13","v":0},{"$f":"Regr_Lineal!D13","v":0},0,0,0,"","","","","","",null,"b",null,34.235999999999997]
[{"$f":"Regr_Lineal!B14","v":0},{"$f":"Regr_Lineal!C14","v":0},{"$f":"Regr_Lineal!D14","v":0},0,0,0,"","","","","","",null,{"$f":"(P1*O4)-(O1*O2)","v":166.80000000000291}]
[{"$f":"Regr_Lineal!B15","v":0},{"$f":"Regr_Lineal!C15","v":0},{"$f":"Regr_Lineal!D15","v":0},0,0,0,"","",{"$f":"(P1*O4)-(O1*O2)","v":166.80000000000291},{"$f":"I12/I13","v":0.89078771695595682},{"$f":"ROUND(J12,2)","v":0.89},"",null,{"$f":"N11/N8","v":5.2901998097051397},{"$f":"ROUNDUP(O7,2)","v":42.8}]
[{"$f":"Regr_Lineal!B16","v":0},{"$f":"Regr_Lineal!C16","v":0},{"$f":"Regr_Lineal!D16","v":0},0,0,0,"","",{"$f":"ROUND(R7,2)","v":187.25},null,"","",null,null,{"$f":"ROUND(N12,2)","v":5.29}]
[{"$f":"Regr_Lineal!B17","v":0},{"$f":"Regr_Lineal!C17","v":0},{"$f":"Regr_Lineal!D17","v":0},0,0,0,"","","","",{"$f":"K12*K12","v":0.79210000000000003},""]
[{"$f":"Regr_Lineal!B18","v":0},{"$f":"Regr_Lineal!C18","v":0},{"$f":"Regr_Lineal!D18","v":0},0,0,0,"","","","","","",null,{"$f":"CONCATENATE(\"Y = \",O12,\" + \",O13,\"x\")","v":"Y = 42.8 + 5.29x"}]
[{"$f":"Regr_Lineal!B19","v":0},{"$f":"Regr_Lineal!C19","v":0},{"$f":"Regr_Lineal!D19","v":0},0,0,0,"","","","","",""]
[{"$f":"Regr_Lineal!B20","v":0},{"$f":"Regr_Lineal!C20","v":0},{"$f":"Regr_Lineal!D20","v":0},0,0,0,"","","","","",""]
[{"$f":"Regr_Lineal!B21","v":0},{"$f":"Regr_Lineal!C21","v":0},{"$f":"Regr_Lineal!D21","v":0},0,0,0,"","","","","",""]
[{"$f":"Regr_Lineal!B22","v":0},{"$f":"Regr_Lineal!C22","v":0},{"$f":"Regr_Lineal!D22","v":0},0,0,0,"","","","","",""]
[{"$f":"Regr_Lineal!B23","v":0},{"$f":"Regr_Lineal!C23","v":0},{"$f":"Regr_Lineal!D23","v":0},0,0,0,"","","","","",""]
[{"$f":"Regr_Lineal!B24","v":0},{"$f":"Regr_Lineal!C24","v":0},{"$f":"Regr_Lineal!D24","v":0},0,0,0,"","","","","",""]
[{"$f":"Regr_Lineal!B25","v":0},{"$f":"Regr_Lineal!C25","v":0},{"$f":"Regr_Lineal!D25","v":0},0,0,0,"","","","","",""]
[{"$f":"Regr_Lineal!B26","v":0},{"$f":"Regr_Lineal!C26","v":0},{"$f":"Regr_Lineal!D26","v":0},0,0,0,"","","","","",""]
[{"$f":"Regr_Lineal!B27","v":0},{"$f":"Regr_Lineal!C27","v":0},{"$f":"Regr_Lineal!D27","v":0},0,0,0,"","","","","",""]
[{"$f":"Regr_Lineal!B28","v":0},{"$f":"Regr_Lineal!C28","v":0},{"$f":"Regr_Lineal!D28","v":0},0,0,0,"","","","","",""]
[{"$f":"Regr_Lineal!B29","v":0},{"$f":"Regr_Lineal!C29","v":0},{"$f":"Regr_Lineal!D29","v":0},0,0,0,"","","","","",""]
[{"$f":"Regr_Lineal!B30","v":0},{"$f":"Regr_Lineal!C30","v":0},{"$f":"Regr_Lineal!D30","v":0},0,0,0,"","","","","",""]
[{"$f":"Regr_Lineal!B31","v":0},{"$f":"Regr_Lineal!C31","v":0},{"$f":"Regr_Lineal!D31","v":0},0,0,0,"","","","","",""]
[{"$f":"Regr_Lineal!B32","v":0},{"$f":"Regr_Lineal!C32","v":0},{"$f":"Regr_Lineal!D32","v":0},0,0,0,"","","","","",""]
[{"$f":"Regr_Lineal!B33","v":0},{"$f":"Regr_Lineal!C33","v":0},{"$f":"Regr_Lineal!D33","v":0},0,0,0,"","","","","",""]
[{"$f":"Regr_Lineal!B34","v":0},{"$f":"Regr_Lineal!C34","v":0},{"$f":"Regr_Lineal!D34","v":0},0,0,0,"","","","","",""]
[{"$f":"Regr_Lineal!B35","v":0},{"$f":"Regr_Lineal!C35","v":0},{"$f":"Regr_Lineal!D35","v":0},0,0,0,"","","","","",""]
[{"$f":"Regr_Lineal!B36","v":0},{"$f":"Regr_Lineal!C36","v":0},{"$f":"Regr_Lineal!D36","v":0},0,0,0,"","","","","",""]
[{"$f":"Regr_Lineal!B37","v":0},{"$f":"Regr_Lineal!C37","v":0},{"$f":"Regr_Lineal!D37","v":0},0,0,0,"","","","","",""]
[{"$f":"Regr_Lineal!B38","v":0},{"$f":"Regr_Lineal!C38","v":0},{"$f":"Regr_Lineal!D38","v":0},0,0,0,"","","","","",""]
[{"$f":"Regr_Lineal!B39","v":0},{"$f":"Regr_Lineal!C39","v":0},{"$f":"Regr_Lineal!D39","v":0},0,0,0,"","","","","",""]
[{"$f":"Regr_Lineal!B40","v":0},{"$f":"Regr_Lineal!C40","v":0},{"$f":"Regr_Lineal!D40","v":0},0,0,0,"","","","","",""]
[{"$f":"Regr_Lineal!B41","v":0},{"$f":"Regr_Lineal!C41","v":0},{"$f":"Regr_Lineal!D41","v":0},0,0,0,"","","","","",""]
[{"$f":"Regr_Lineal!B42","v":0},{"$f":"Regr_Lineal!C42","v":0},{"$f":"Regr_Lineal!D42","v":0},0,0,0,"","","","","",""]
[{"$f":"Regr_Lineal!B43","v":0},{"$f":"Regr_Lineal!C43","v":0},{"$f":"Regr_Lineal!D43","v":0},0,0,0,"","","","","",""]
[{"$f":"Regr_Lineal!B44","v":0},{"$f":"Regr_Lineal!C44","v":0},{"$f":"Regr_Lineal!D44","v":0},0,0,0,"","","","","",""]
[{"$f":"Regr_Lineal!B45","v":0},{"$f":"Regr_Lineal!C45","v":0},{"$f":"Regr_Lineal!D45","v":0},0,0,0,"","","","","",""]
[{"$f":"Regr_Lineal!B46","v":0},{"$f":"Regr_Lineal!C46","v":0},{"$f":"Regr_Lineal!D46","v":0},0,0,0,"","","","","",""]
[{"$f":"Regr_Lineal!B47","v":0},{"$f":"Regr_Lineal!C47","v":0},{"$f":"Regr_Lineal!D47","v":0},0,0,0,"","","","","",""]
[{"$f":"Regr_Lineal!B48","v":0},{"$f":"Regr_Lineal!C48","v":0},{"$f":"Regr_Lineal!D48","v":0},0,0,0,"","","","","",""]
[{"$f":"Regr_Lineal!B49","v":0},{"$f":"Regr_Lineal!C49","v":0},{"$f":"Regr_Lineal!D49","v":0},0,0,0,"","","","","",""]
[{"$f":"Regr_Lineal!B50","v":0},{"$f":"Regr_Lineal!C50","v":0},{"$f":"Regr_Lineal!D50","v":0},0,0,0,"","","","","",""]
[{"$f":"Regr_Lineal!B51","v":0},{"$f":"Regr_Lineal!C51","v":0},{"$f":"Regr_Lineal!D51","v":0},0,0,0,"","","","","",""]
[{"$f":"Regr_Lineal!B52","v":0},{"$f":"Regr_Lineal!C52","v":0},{"$f":"Regr_Lineal!D52","v":0},0,0,0,"","","","","",""]
[{"$f":"Regr_Lineal!B53","v":0},{"$f":"Regr_Lineal!C53","v":0},{"$f":"Regr_Lineal!D53","v":0},0,0,0,"","","","","",""]
[{"$f":"Regr_Lineal!B54","v":0},{"$f":"Regr_Lineal!C54","v":0},{"$f":"Regr_Lineal!D54","v":0},0,0,0,"","","","","",""]
[{"$f":"Regr_Lineal!B55","v":0},{"$f":"Regr_Lineal!C55","v":0},{"$f":"Regr_Lineal!D55","v":0},0,0,0,"","","","","",""]
[{"$f":"Regr_Lineal!B56","v":0},{"$f":"Regr_Lineal!C56","v":0},{"$f":"Regr_Lineal!D56","v":0},0,0,0,"","","","","",""]
[{"$f":"Regr_Lineal!B57","v":0},{"$f":"Regr_Lineal!C57","v":0},{"$f":"Regr_Lineal!D57","v":0},0,0,0,"","","","","",""]
[{"$f":"Regr_Lineal!B58","v":0},{"$f":"Regr_Lineal!C58","v":0},{"$f":"Regr_Lineal!D58","v":0},0,0,0,"","","","","",""]
[{"$f":"Regr_Lineal!B59","v":0},{"$f":"Regr_Lineal!C59","v":0},{"$f":"Regr_Lineal!D59","v":0},0,0,0,"","","","","",""]
[{"$f":"Regr_Lineal!B60","v":0},{"$f":"Regr_Lineal!C60","v":0},{"$f":"Regr_Lineal!D60","v":0},0,0,0,"","","","","",""]
[{"$f":"Regr_Lineal!B61","v":0},{"$f":"Regr_Lineal!C61","v":0},{"$f":"Regr_Lineal!D61","v":0},0,0,0,"","","","","",""]
[{"$f":"Regr_Lineal!B62","v":0},{"$f":"Regr_Lineal!C62","v":0},{"$f":"Regr_Lineal!D62","v":0},0,0,0,"","","","","",""]
[{"$f":"Regr_Lineal!B63","v":0},{"$f":"Regr_Lineal!C63","v":0},{"$f":"Regr_Lineal!D63","v":0},0,0,0,"","","","","",""]
[{"$f":"Regr_Lineal!B64","v":0},{"$f":"Regr_Lineal!C64","v":0},{"$f":"Regr_Lineal!D64","v":0},0,0,0,"","","","","",""]
[{"$f":"Regr_Lineal!B65","v":0},{"$f":"Regr_Lineal!C65","v":0},{"$f":"Regr_Lineal!D65","v":0},0,0,0,"","","","","",""]
[{"$f":"Regr_Lineal!B66","v":0},{"$f":"Regr_Lineal!C66","v":0},{"$f":"Regr_Lineal!D66","v":0},0,0,0,"","","","","",""]
[{"$f":"Regr_Lineal!B67","v":0},{"$f":"Regr_Lineal!C67","v":0},{"$f":"Regr_Lineal!D67","v":0},0,0,0,"","","","","",""]
[{"$f":"Regr_Lineal!B68","v":0},{"$f":"Regr_Lineal!C68","v":0},{"$f":"Regr_Lineal!D68","v":0},0,0,0,"","","","","",""]
[{"$f":"Regr_Lineal!B69","v":0},{"$f":"Regr_Lineal!C69","v":0},{"$f":"Regr_Lineal!D69","v":0},0,0,0,"","","",{"$f":"IF(D66=0,\"\",D66)","v":""},"",""]
[{"$f":"Regr_Lineal!B70","v":0},{"$f":"Regr_Lineal!C70","v":0},{"$f":"Regr_Lineal!D70","v":0},{"$f":"B67^2","v":0},{"$f":"B67*C67","v":0},{"$f":"C67^2","v":0},{"$f":"IF(A67=0,\"\",A67)","v":""},"","","",{"$f":"IF(E67=0,\"\",E67)","v":""},""]
[{"$f":"Regr_Lineal!B71","v":0},{"$f":"Regr_Lineal!C71","v":0},{"$f":"Regr_Lineal!D71","v":0},0,0,0,"","","","","",""]
[{"$f":"Regr_Lineal!B72","v":0},{"$f":"Regr_Lineal!C72","v":0},{"$f":"Regr_Lineal!D72","v":0},0,0,0,"","","","","",""]
[{"$f":"Regr_Lineal!B73","v":0},{"$f":"Regr_Lineal!C73","v":0},{"$f":"Regr_Lineal!D73","v":0},0,0,0,"","","","","",""]
[{"$f":"Regr_Lineal!B74","v":0},{"$f":"Regr_Lineal!C74","v":0},{"$f":"Regr_Lineal!D74","v":0},0,0,0,"","","","","",""]
[{"$f":"Regr_Lineal!B75","v":0},{"$f":"Regr_Lineal!C75","v":0},{"$f":"Regr_Lineal!D75","v":0},0,0,0,"","","","","",""]
[{"$f":"Regr_Lineal!B76","v":0},{"$f":"Regr_Lineal!C76","v":0},{"$f":"Regr_Lineal!D76","v":0},0,0,0,"","","","","",""]
[{"$f":"Regr_Lineal!B77","v":0},{"$f":"Regr_Lineal!C77","v":0},{"$f":"Regr_Lineal!D77","v":0},0,0,0,"","","","","",""]
[{"$f":"Regr_Lineal!B78","v":0},{"$f":"Regr_Lineal!C78","v":0},{"$f":"Regr_Lineal!D78","v":0},0,0,0,"","","","","",""]
[{"$f":"Regr_Lineal!B79","v":0},{"$f":"Regr_Lineal!C79","v":0},{"$f":"Regr_Lineal!D79","v":0},0,0,0,"","","","","",""]
[{"$f":"Regr_Lineal!B80","v":0},{"$f":"Regr_Lineal!C80","v":0},{"$f":"Regr_Lineal!D80","v":0},0,0,0,"","","","","",""]
[{"$f":"Regr_Lineal!B81","v":0},{"$f":"Regr_Lineal!C81","v":0},{"$f":"Regr_Lineal!D81","v":0},0,0,0,"","","","","",""]
[{"$f":"Regr_Lineal!B82","v":0},{"$f":"Regr_Lineal!C82","v":0},{"$f":"Regr_Lineal!D82","v":0},0,0,0,"","","","","",""]
[{"$f":"Regr_Lineal!B83","v":0},{"$f":"Regr_Lineal!C83","v":0},{"$f":"Regr_Lineal!D83","v":0},0,0,0,"","","","","",""]
[{"$f":"Regr_Lineal!B84","v":0},{"$f":"Regr_Lineal!C84","v":0},{"$f":"Regr_Lineal!D84","v":0},0,0,0,"","","","","",""]
[{"$f":"Regr_Lineal!B85","v":0},{"$f":"Regr_Lineal!C85","v":0},{"$f":"Regr_Lineal!D85","v":0},0,0,0,"","","","","",""]
[{"$f":"Regr_Lineal!B86","v":0},{"$f":"Regr_Lineal!C86","v":0},{"$f":"Regr_Lineal!D86","v":0},0,0,0,"","","","","",""]
[{"$f":"Regr_Lineal!B87","v":0},{"$f":"Regr_Lineal!C87","v":0},{"$f":"Regr_Lineal!D87","v":0},0,0,0,"","","","","",""]
[{"$f":"Regr_Lineal!B88","v":0},{"$f":"Regr_Lineal!C88","v":0},{"$f":"Regr_Lineal!D88","v":0},0,0,0,"","","","","",""]
[{"$f":"Regr_Lineal!B89","v":0},{"$f":"Regr_Lineal!C89","v":0},{"$f":"Regr_Lineal!D89","v":0},0,0,0,"","","","","",""]
[{"$f":"Regr_Lineal!B90","v":0},{"$f":"Regr_Lineal!C90","v":0},{"$f":"Regr_Lineal!D90","v":0},0,0,0,"","","","","",""]
[{"$f":"Regr_Lineal!B91","v":0},{"$f":"Regr_Lineal!C91","v":0},{"$f":"Regr_Lineal!D91","v":0},0,0,0,"","","","","",""]
[{"$f":"Regr_Lineal!B92","v":0},{"$f":"Regr_Lineal!C92","v":0},{"$f":"Regr_Lineal!D92","v":0},0,0,0,"","","","","",""]
[{"$f":"Regr_Lineal!B93","v":0},{"$f":"Regr_Lineal!C93","v":0},{"$f":"Regr_Lineal!D93","v":0},0,0,0,"","","","","",""]
[{"$f":"Regr_Lineal!B94","v":0},{"$f":"Regr_Lineal!C94","v":0},{"$f":"Regr_Lineal!D94","v":0},0,0,0,"","","","","",""]
[{"$f":"Regr_Lineal!B95","v":0},{"$f":"Regr_Lineal!C95","v":0},{"$f":"Regr_Lineal!D95","v":0},0,0,0,"","","","","",""]
[{"$f":"Regr_Lineal!B96","v":0},{"$f":"Regr_Lineal!C96","v":0},{"$f":"Regr_Lineal!D96","v":0},0,0,0,"","","","","",""]
[{"$f":"Regr_Lineal!B97","v":0},{"$f":"Regr_Lineal!C97","v":0},{"$f":"Regr_Lineal!D97","v":0},0,0,0,"","","","","",""]
[{"$f":"Regr_Lineal!B98","v":0},{"$f":"Regr_Lineal!C98","v":0},{"$f":"Regr_Lineal!D98","v":0},0,0,0,"","","","","",""]
[{"$f":"Regr_Lineal!B99","v":0},{"$f":"Regr_Lineal!C99","v":0},{"$f":"Regr_Lineal!D99","v":0},0,0,0,"","","","","",""]
[{"$f":"Regr_Lineal!B100","v":0},{"$f":"Regr_Lineal!C100","v":0},{"$f":"Regr_Lineal!D100","v":0},0,0,0,"","","","","",""]
[{"$f":"Regr_Lineal!B101","v":0},{"$f":"Regr_Lineal!C101","v":0},{"$f":"Regr_Lineal!D101","v":0},0,0,0,"","","","","",""]
[{"$f":"Regr_Lineal!B102","v":0},{"$f":"Regr_Lineal!C102","v":0},{"$f":"Regr_Lineal!D102","v":0},0,0,0,"","","","","",""]
[{"$f":"Regr_Lineal!B103","v":0},{"$f":"Regr_Lineal!C103","v":0},{"$f":"Regr_Lineal!D103","v":0},0,0,0,"","","","","",""]
[{"$f":"Regr_Lineal!B104","v":0},{"$f":"Regr_Lineal!C104","v":0},{"$f":"Regr_Lineal!D104","v":0},0,0,0,"","","","","",""]
[{"$f":"Regr_Lineal!B105","v":0},{"$f":"Regr_Lineal!C105","v":0},{"$f":"Regr_Lineal!D105","v":0},0,0,0,"","","","","",""]
[{"$f":"Regr_Lineal!B106","v":0},{"$f":"Regr_Lineal!C106","v":0},{"$f":"Regr_Lineal!D106","v":0},0,0,0,"","","","","",""]
[{"$f":"Regr_Lineal!B107","v":0},{"$f":"Regr_Lineal!C107","v":0},{"$f":"Regr_Lineal!D107","v":0},0,0,0,"","","","","",""]
[{"$f":"Regr_Lineal!B108","v":0},{"$f":"Regr_Lineal!C108","v":0},{"$f":"Regr_Lineal!D108","v":0},0,0,0,"","","","","",""]
[{"$f":"Regr_Lineal!B109","v":0},{"$f":"Regr_Lineal!C109","v":0},{"$f":"Regr_Lineal!D109","v":0},0,0,0,"","","","","",""]
[{"$f":"Regr_Lineal!B110","v":0},{"$f":"Regr_Lineal!C110","v":0},{"$f":"Regr_Lineal!D110","v":0},0,0,0,"","","","","",""]
[{"$f":"Regr_Lineal!B111","v":0},{"$f":"Regr_Lineal!C111","v":0},{"$f":"Regr_Lineal!D111","v":0},0,0,0,"","","","","",""]
[{"$f":"Regr_Lineal!B112","v":0},{"$f":"Regr_Lineal!C112","v":0},{"$f":"Regr_Lineal!D112","v":0},0,0,0,"","","","","",""]
[{"$f":"Regr_Lineal!B113","v":0},{"$f":"Regr_Lineal!C113","v":0},{"$f":"Regr_Lineal!D113","v":0},0,0,0,"","","","","",""]
[{"$f":"Regr_Lineal!B114","v":0},{"$f":"Regr_Lineal!C114","v":0},{"$f":"Regr_Lineal!D114","v":0},0,0,0,"","","","","",""]
[{"$f":"Regr_Lineal!B115","v":0},{"$f":"Regr_Lineal!C115","v":0},{"$f":"Regr_Lineal!D115","v":0},0,0,0,"","","","","",""]
[{"$f":"Regr_Lineal!B116","v":0},{"$f":"Regr_Lineal!C116","v":0},{"$f":"Regr_Lineal!D116","v":0},0,0,0,"","","","","",""]
[{"$f":"Regr_Lineal!B117","v":0},{"$f":"Regr_Lineal!C117","v":0},{"$f":"Regr_Lineal!D117","v":0},0,0,0,"","","","","",""]
[{"$f":"Regr_Lineal!B118","v":0},{"$f":"Regr_Lineal!C118","v":0},{"$f":"Regr_Lineal!D118","v":0},0,0,0,"","","","","",""]
[{"$f":"Regr_Lineal!B119","v":0},{"$f":"Regr_Lineal!C119","v":0},{"$f":"Regr_Lineal!D119","v":0},0,0,0,"","","","","",""]
[{"$f":"Regr_Lineal!B120","v":0},{"$f":"Regr_Lineal!C120","v":0},{"$f":"Regr_Lineal!D120","v":0},0,0,0,"","","","","",""]
[{"$f":"Regr_Lineal!B121","v":0},{"$f":"Regr_Lineal!C121","v":0},{"$f":"Regr_Lineal!D121","v":0},0,0,0,"","","","","",""]
[{"$f":"Regr_Lineal!B122","v":0},{"$f":"Regr_Lineal!C122","v":0},{"$f":"Regr_Lineal!D122","v":0},0,0,0,"","","","","",""]
[{"$f":"Regr_Lineal!B123","v":0},{"$f":"Regr_Lineal!C123","v":0},{"$f":"Regr_Lineal!D123","v":0},0,0,0,"","","","","",""]
[{"$f":"Regr_Lineal!B124","v":0},{"$f":"Regr_Lineal!C124","v":0},{"$f":"Regr_Lineal!D124","v":0},0,0,0,"","","","","",""]
[{"$f":"Regr_Lineal!B125","v":0},{"$f":"Regr_Lineal!C125","v":0},{"$f":"Regr_Lineal!D125","v":0},0,0,0,"","","","","",""]
[{"$f":"Regr_Lineal!B126","v":0},{"$f":"Regr_Lineal!C126","v":0},{"$f":"Regr_Lineal!D126","v":0},0,0,0,"","","","","",""]
[{"$f":"Regr_Lineal!B127","v":0},{"$f":"Regr_Lineal!C127","v":0},{"$f":"Regr_Lineal!D127","v":0},0,0,0,"","","","","",""]
[{"$f":"Regr_Lineal!B128","v":0},{"$f":"Regr_Lineal!C128","v":0},{"$f":"Regr_Lineal!D128","v":0},0,0,0,"","","","","",""]
[{"$f":"Regr_Lineal!B129","v":0},{"$f":"Regr_Lineal!C129","v":0},{"$f":"Regr_Lineal!D129","v":0},0,0,0,"","","","","",""]
[{"$f":"Regr_Lineal!B130","v":0},{"$f":"Regr_Lineal!C130","v":0},{"$f":"Regr_Lineal!D130","v":0},0,0,0,"","","","","",""]
[{"$f":"Regr_Lineal!B131","v":0},{"$f":"Regr_Lineal!C131","v":0},{"$f":"Regr_Lineal!D131","v":0},0,0,0,"","","","","",""]
[{"$f":"Regr_Lineal!B132","v":0},{"$f":"Regr_Lineal!C132","v":0},{"$f":"Regr_Lineal!D132","v":0},0,0,0,"","","","","",""]
[{"$f":"Regr_Lineal!B133","v":0},{"$f":"Regr_Lineal!C133","v":0},{"$f":"Regr_Lineal!D133","v":0},0,0,0,"","","",{"$f":"IF(D130=0,\"\",D130)","v":""},"",""]
[{"$f":"Regr_Lineal!B134","v":0},{"$f":"Regr_Lineal!C134","v":0},{"$f":"Regr_Lineal!D134","v":0},{"$f":"B131^2","v":0},{"$f":"B131*C131","v":0},{"$f":"C131^2","v":0},{"$f":"IF(A131=0,\"\",A131)","v":""},"","","",{"$f":"IF(E131=0,\"\",E131)","v":""},""]
[{"$f":"Regr_Lineal!B135","v":0},{"$f":"Regr_Lineal!C135","v":0},{"$f":"Regr_Lineal!D135","v":0},0,0,0,"","","","","",""]
[{"$f":"Regr_Lineal!B136","v":0},{"$f":"Regr_Lineal!C136","v":0},{"$f":"Regr_Lineal!D136","v":0},0,0,0,"","","","","",""]
[{"$f":"Regr_Lineal!B137","v":0},{"$f":"Regr_Lineal!C137","v":0},{"$f":"Regr_Lineal!D137","v":0},0,0,0,"","","","","",""]
[{"$f":"Regr_Lineal!B138","v":0},{"$f":"Regr_Lineal!C138","v":0},{"$f":"Regr_Lineal!D138","v":0},0,0,0,"","","","","",""]
[{"$f":"Regr_Lineal!B139","v":0},{"$f":"Regr_Lineal!C139","v":0},{"$f":"Regr_Lineal!D139","v":0},0,0,0,"","","","","",""]
[{"$f":"Regr_Lineal!B140","v":0},{"$f":"Regr_Lineal!C140","v":0},{"$f":"Regr_Lineal!D140","v":0},0,0,0,"","","","","",""]
[{"$f":"Regr_Lineal!B141","v":0},{"$f":"Regr_Lineal!C141","v":0},{"$f":"Regr_Lineal!D141","v":0},0,0,0,"","","","","",""]
[{"$f":"Regr_Lineal!B142","v":0},{"$f":"Regr_Lineal!C142","v":0},{"$f":"Regr_Lineal!D142","v":0},0,0,0,"","","","","",""]
[{"$f":"Regr_Lineal!B143","v":0},{"$f":"Regr_Lineal!C143","v":0},{"$f":"Regr_Lineal!D143","v":0},0,0,0,"","","","","",""]
[{"$f":"Regr_Lineal!B144","v":0},{"$f":"Regr_Lineal!C144","v":0},{"$f":"Regr_Lineal!D144","v":0},0,0,0,"","","","","",""]
[{"$f":"Regr_Lineal!B145","v":0},{"$f":"Regr_Lineal!C145","v":0},{"$f":"Regr_Lineal!D145","v":0},0,0,0,"","","","","",""]
[{"$f":"Regr_Lineal!B146","v":0},{"$f":"Regr_Lineal!C146","v":0},{"$f":"Regr_Lineal!D146","v":0},0,0,0,"","","","","",""]
[{"$f":"Regr_Lineal!B147","v":0},{"$f":"Regr_Lineal!C147","v":0},{"$f":"Regr_Lineal!D147","v":0},0,0,0,"","","","","",""]
[{"$f":"Regr_Lineal!B148","v":0},{"$f":"Regr_Lineal!C148","v":0},{"$f":"Regr_Lineal!D148","v":0},0,0,0,"","","","","",""]
[{"$f":"Regr_Lineal!B149","v":0},{"$f":"Regr_Lineal!C149","v":0},{"$f":"Regr_Lineal!D149","v":0},0,0,0,"","","","","",""]
[{"$f":"Regr_Lineal!B150","v":0},{"$f":"Regr_Lineal!C150","v":0},{"$f":"Regr_Lineal!D150","v":0},0,0,0,"","","","","",""]
[{"$f":"Regr_Lineal!B151","v":0},{"$f":"Regr_Lineal!C151","v":0},{"$f":"Regr_Lineal!D151","v":0},0,0,0,"","","","","",""]
[{"$f":"Regr_Lineal!B152","v":0},{"$f":"Regr_Lineal!C152","v":0},{"$f":"Regr_Lineal!D152","v":0},0,0,0,"","","","","",""]
[{"$f":"Regr_Lineal!B153","v":0},{"$f":"Regr_Lineal!C153","v":0},{"$f":"Regr_Lineal!D153","v":0},0,0,0,"","","","","",""]
[{"$f":"Regr_Lineal!B154","v":0},{"$f":"Regr_Lineal!C154","v":0},{"$f":"Regr_Lineal!D154","v":0},0,0,0,"","","","","",""]
[{"$f":"Regr_Lineal!B155","v":0},{"$f":"Regr_Lineal!C155","v":0},{"$f":"Regr_Lineal!D155","v":0},0,0,0,"","","","","",""]
[{"$f":"Regr_Lineal!B156","v":0},{"$f":"Regr_Lineal!C156","v":0},{"$f":"Regr_Lineal!D156","v":0},0,0,0,"","","","","",""]
[{"$f":"Regr_Lineal!B157","v":0},{"$f":"Regr_Lineal!C157","v":0},{"$f":"Regr_Lineal!D157","v":0},0,0,0,"","","","","",""]
[{"$f":"Regr_Lineal!B158","v":0},{"$f":"Regr_Lineal!C158","v":0},{"$f":"Regr_Lineal!D158","v":0},0,0,0,"","","","","",""]
[{"$f":"Regr_Lineal!B159","v":0},{"$f":"Regr_Lineal!C159","v":0},{"$f":"Regr_Lineal!D159","v":0},0,0,0,"","","","","",""]
[{"$f":"Regr_Lineal!B160","v":0},{"$f":"Regr_Lineal!C160","v":0},{"$f":"Regr_Lineal!D160","v":0},0,0,0,"","","","","",""]
[{"$f":"Regr_Lineal!B161","v":0},{"$f":"Regr_Lineal!C161","v":0},{"$f":"Regr_Lineal!D161","v":0},0,0,0,"","","","","",""]
[{"$f":"Regr_Lineal!B162","v":0},{"$f":"Regr_Lineal!C162","v":0},{"$f":"Regr_Lineal!D162","v":0},0,0,0,"","","","","",""]
[{"$f":"Regr_Lineal!B163","v":0},{"$f":"Regr_Lineal!C163","v":0},{"$f":"Regr_Lineal!D163","v":0},0,0,0,"","","","","",""]
[{"$f":"Regr_Lineal!B164","v":0},{"$f":"Regr_Lineal!C164","v":0},{"$f":"Regr_Lineal!D164","v":0},0,0,0,"","","","","",""]
[{"$f":"Regr_Lineal!B165","v":0},{"$f":"Regr_Lineal!C165","v":0},{"$f":"Regr_Lineal!D165","v":0},0,0,0,"","","","","",""]
[{"$f":"Regr_Lineal!B166","v":0},{"$f":"Regr_Lineal!C166","v":0},{"$f":"Regr_Lineal!D166","v":0},0,0,0,"","","","","",""]
[{"$f":"Regr_Lineal!B167","v":0},{"$f":"Regr_Lineal!C167","v":0},{"$f":"Regr_Lineal!D167","v":0},0,0,0,"","","","","",""]
[{"$f":"Regr_Lineal!B168","v":0},{"$f":"Regr_Lineal!C168","v":0},{"$f":"Regr_Lineal!D168","v":0},0,0,0,"","","","","",""]
[{"$f":"Regr_Lineal!B169","v":0},{"$f":"Regr_Lineal!C169","v":0},{"$f":"Regr_Lineal!D169","v":0},0,0,0,"","","","","",""]
[{"$f":"Regr_Lineal!B170","v":0},{"$f":"Regr_Lineal!C170","v":0},{"$f":"Regr_Lineal!D170","v":0},0,0,0,"","","","","",""]
[{"$f":"Regr_Lineal!B171","v":0},{"$f":"Regr_Lineal!C171","v":0},{"$f":"Regr_Lineal!D171","v":0},0,0,0,"","","","","",""]
[{"$f":"Regr_Lineal!B172","v":0},{"$f":"Regr_Lineal!C172","v":0},{"$f":"Regr_Lineal!D172","v":0},0,0,0,"","","","","",""]
[{"$f":"Regr_Lineal!B173","v":0},{"$f":"Regr_Lineal!C173","v":0},{"$f":"Regr_Lineal!D173","v":0},0,0,0,"","","","","",""]
[{"$f":"Regr_Lineal!B174","v":0},{"$f":"Regr_Lineal!C174","v":0},{"$f":"Regr_Lineal!D174","v":0},0,0,0,"","","","","",""]
[{"$f":"Regr_Lineal!B175","v":0},{"$f":"Regr_Lineal!C175","v":0},{"$f":"Regr_Lineal!D175","v":0},0,0,0,"","","","","",""]
[{"$f":"Regr_Lineal!B176","v":0},{"$f":"Regr_Lineal!C176","v":0},{"$f":"Regr_Lineal!D176","v":0},0,0,0,"","","","","",""]
[{"$f":"Regr_Lineal!B177","v":0},{"$f":"Regr_Lineal!C177","v":0},{"$f":"Regr_Lineal!D177","v":0},0,0,0,"","","","","",""]
[{"$f":"Regr_Lineal!B178","v":0},{"$f":"Regr_Lineal!C178","v":0},{"$f":"Regr_Lineal!D178","v":0},0,0,0,"","","","","",""]
[{"$f":"Regr_Lineal!B179","v":0},{"$f":"Regr_Lineal!C179","v":0},{"$f":"Regr_Lineal!D179","v":0},0,0,0,"","","","","",""]
[{"$f":"Regr_Lineal!B180","v":0},{"$f":"Regr_Lineal!C180","v":0},{"$f":"Regr_Lineal!D180","v":0},0,0,0,"","","","","",""]
[{"$f":"Regr_Lineal!B181","v":0},{"$f":"Regr_Lineal!C181","v":0},{"$f":"Regr_Lineal!D181","v":0},0,0,0,"","","","","",""]
[{"$f":"Regr_Lineal!B182","v":0},{"$f":"Regr_Lineal!C182","v":0},{"$f":"Regr_Lineal!D182","v":0},0,0,0,"","","","","",""]
[{"$f":"Regr_Lineal!B183","v":0},{"$f":"Regr_Lineal!C183","v":0},{"$f":"Regr_Lineal!D183","v":0},0,0,0,"","","","","",""]
[{"$f":"Regr_Lineal!B184","v":0},{"$f":"Regr_Lineal!C184","v":0},{"$f":"Regr_Lineal!D184","v":0},0,0,0,"","","","","",""]
[{"$f":"Regr_Lineal!B185","v":0},{"$f":"Regr_Lineal!C185","v":0},{"$f":"Regr_Lineal!D185","v":0},0,0,0,"","","","","",""]
[{"$f":"Regr_Lineal!B186","v":0},{"$f":"Regr_Lineal!C186","v":0},{"$f":"Regr_Lineal!D186","v":0},0,0,0,"","","","","",""]
[{"$f":"Regr_Lineal!B187","v":0},{"$f":"Regr_Lineal!C187","v":0},{"$f":"Regr_Lineal!D187","v":0},0,0,0,"","","","","",""]
[{"$f":"Regr_Lineal!B188","v":0},{"$f":"Regr_Lineal!C188","v":0},{"$f":"Regr_Lineal!D188","v":0},0,0,0,"","","","","",""]
[{"$f":"Regr_Lineal!B189","v":0},{"$f":"Regr_Lineal!C189","v":0},{"$f":"Regr_Lineal!D189","v":0},0,0,0,"","","","","",""]
[{"$f":"Regr_Lineal!B190","v":0},{"$f":"Regr_Lineal!C190","v":0},{"$f":"Regr_Lineal!D190","v":0},0,0,0,"","","","","",""]
[{"$f":"Regr_Lineal!B191","v":0},{"$f":"Regr_Lineal!C191","v":0},{"$f":"Regr_Lineal!D191","v":0},0,0,0,"","","","","",""]
[{"$f":"Regr_Lineal!B192","v":0},{"$f":"Regr_Lineal!C192","v":0},{"$f":"Regr_Lineal!D192","v":0},0,0,0,"","","","","",""]
[{"$f":"Regr_Lineal!B193","v":0},{"$f":"Regr_Lineal!C193","v":0},{"$f":"Regr_Lineal!D193","v":0},0,0,0,"","","","","",""]
[{"$f":"Regr_Lineal!B194","v":0},{"$f":"Regr_Lineal!C194","v":0},{"$f":"Regr_Lineal!D194","v":0},0,0,0,"","","","","",""]
[{"$f":"Regr_Lineal!B195","v":0},{"$f":"Regr_Lineal!C195","v":0},{"$f":"Regr_Lineal!D195","v":0},0,0,0,"","","","","",""]
[{"$f":"Regr_Lineal!B196","v":0},{"$f":"Regr_Lineal!C196","v":0},{"$f":"Regr_Lineal!D196","v":0},0,0,0,"","","","","",""]
[{"$f":"Regr_Lineal!B197","v":0},{"$f":"Regr_Lineal!C197","v":0},{"$f":"Regr_Lineal!D197","v":0},0,0,0,"","","",{"$f":"IF(D194=0,\"\",D194)","v":""},"",""]
[{"$f":"Regr_Lineal!B198","v":0},{"$f":"Regr_Lineal!C198","v":0},{"$f":"Regr_Lineal!D198","v":0},{"$f":"B195^2","v":0},{"$f":"B195*C195","v":0},{"$f":"C195^2","v":0},{"$f":"IF(A195=0,\"\",A195)","v":""},"","","",{"$f":"IF(E195=0,\"\",E195)","v":""},""]
[{"$f":"Regr_Lineal!B199","v":0},{"$f":"Regr_Lineal!C199","v":0},{"$f":"Regr_Lineal!D199","v":0},0,0,0,"","","","","",""]
[{"$f":"Regr_Lineal!B200","v":0},{"$f":"Regr_Lineal!C200","v":0},{"$f":"Regr_Lineal!D200","v":0},0,0,0,"","","","","",""]
[{"$f":"Regr_Lineal!B201","v":0},{"$f":"Regr_Lineal!C201","v":0},{"$f":"Regr_Lineal!D201","v":0},0,0,0,"","","","","",""]
[{"$f":"Regr_Lineal!B202","v":0},{"$f":"Regr_Lineal!C202","v":0},{"$f":"Regr_Lineal!D202","v":0},0,0,0,"","","","","",""]
[{"$f":"Regr_Lineal!B203","v":0},{"$f":"Regr_Lineal!C203","v":0},{"$f":"Regr_Lineal!D203","v":0},0,0,0,"","","","","",""]
[{"$f":"Regr_Lineal!B204","v":0},{"$f":"Regr_Lineal!C204","v":0},{"$f":"Regr_Lineal!D204","v":0},0,0,0,"","","","","",""]
[{"$f":"Regr_Lineal!B205","v":0},{"$f":"Regr_Lineal!C205","v":0},{"$f":"Regr_Lineal!D205","v":0},0,0,0,"","","","","",""]
[{"$f":"Regr_Lineal!B206","v":0},{"$f":"Regr_Lineal!C206","v":0},{"$f":"Regr_Lineal!D206","v":0},0,0,0,"","","","","",""]
[{"$f":"Regr_Lineal!B207","v":0},{"$f":"Regr_Lineal!C207","v":0},{"$f":"Regr_Lineal!D207","v":0},0,0,0,"","","","","",""]
[{"$f":"Regr_Lineal!B208","v":0},{"$f":"Regr_Lineal!C208","v":0},{"$f":"Regr_Lineal!D208","v":0},0,0,0,"","","","","",""]
[{"$f":"Regr_Lineal!B209","v":0},{"$f":"Regr_Lineal!C209","v":0},{"$f":"Regr_Lineal!D209","v":0},0,0,0,"","","","","",""]
[{"$f":"Regr_Lineal!B210","v":0},{"$f":"Regr_Lineal!C210","v":0},{"$f":"Regr_Lineal!D210","v":0},0,0,0,"","","","","",""]
[{"$f":"Regr_Lineal!B211","v":0},{"$f":"Regr_Lineal!C211","v":0},{"$f":"Regr_Lineal!D211","v":0},0,0,0,"","","","","",""]
[{"$f":"Regr_Lineal!B212","v":0},{"$f":"Regr_Lineal!C212","v":0},{"$f":"Regr_Lineal!D212","v":0},0,0,0,"","","","","",""]
[{"$f":"Regr_Lineal!B213","v":0},{"$f":"Regr_Lineal!C213","v":0},{"$f":"Regr_Lineal!D213","v":0},0,0,0,"","","","","",""]
[{"$f":"Regr_Lineal!B214","v":0},{"$f":"Regr_Lineal!C214","v":0},{"$f":"Regr_Lineal!D214","v":0},0,0,0,"","","","","",""]
[{"$f":"Regr_Lineal!B215","v":0},{"$f":"Regr_Lineal!C215","v":0},{"$f":"Regr_Lineal!D215","v":0},0,0,0,"","","","","",""]
[{"$f":"Regr_Lineal!B216","v":0},{"$f":"Regr_Lineal!C216","v":0},{"$f":"Regr_Lineal!D216","v":0},0,0,0,"","","","","",""]
[{"$f":"Regr_Lineal!B217","v":0},{"$f":"Regr_Lineal!C217","v":0},{"$f":"Regr_Lineal!D217","v":0},0,0,0,"","","","","",""]
[{"$f":"Regr_Lineal!B218","v":0},{"$f":"Regr_Lineal!C218","v":0},{"$f":"Regr_Lineal!D218","v":0},0,0,0,"","","","","",""]
[{"$f":"Regr_Lineal!B219","v":0},{"$f":"Regr_Lineal!C219","v":0},{"$f":"Regr_Lineal!D219","v":0},0,0,0,"","","","","",""]
[{"$f":"Regr_Lineal!B220","v":0},{"$f":"Regr_Lineal!C220","v":0},{"$f":"Regr_Lineal!D220","v":0},0,0,0,"","","","","",""]
[{"$f":"Regr_Lineal!B221","v":0},{"$f":"Regr_Lineal!C221","v":0},{"$f":"Regr_Lineal!D221","v":0},0,0,0,"","","","","",""]
[{"$f":"Regr_Lineal!B222","v":0},{"$f":"Regr_Lineal!C222","v":0},{"$f":"Regr_Lineal!D222","v":0},0,0,0,"","","","","",""]
[{"$f":"Regr_Lineal!B223","v":0},{"$f":"Regr_Lineal!C223","v":0},{"$f":"Regr_Lineal!D223","v":0},0,0,0,"","","","","",""]
[{"$f":"Regr_Lineal!B224","v":0},{"$f":"Regr_Lineal!C224","v":0},{"$f":"Regr_Lineal!D224","v":0},0,0,0,"","","","","",""]
[{"$f":"Regr_Lineal!B225","v":0},{"$f":"Regr_Lineal!C225","v":0},{"$f":"Regr_Lineal!D225","v":0},0,0,0,"","","","","",""]
[{"$f":"Regr_Lineal!B226","v":0},{"$f":"Regr_Lineal!C226","v":0},{"$f":"Regr_Lineal!D226","v":0},0,0,0,"","","","","",""]
[{"$f":"Regr_Lineal!B227","v":0},{"$f":"Regr_Lineal!C227","v":0},{"$f":"Regr_Lineal!D227","v":0},0,0,0,"","","","","",""]
[{"$f":"Regr_Lineal!B228","v":0},{"$f":"Regr_Lineal!C228","v":0},{"$f":"Regr_Lineal!D228","v":0},0,0,0,"","","","","",""]
[{"$f":"Regr_Lineal!B229","v":0},{"$f":"Regr_Lineal!C229","v":0},{"$f":"Regr_Lineal!D229","v":0},0,0,0,"","","","","",""]
[{"$f":"Regr_Lineal!B230","v":0},{"$f":"Regr_Lineal!C230","v":0},{"$f":"Regr_Lineal!D230","v":0},0,0,0,"","","","","",""]
[{"$f":"Regr_Lineal!B231","v":0},{"$f":"Regr_Lineal!C231","v":0},{"$f":"Regr_Lineal!D231","v":0},0,0,0,"","","","","",""]
[{"$f":"Regr_Lineal!B232","v":0},{"$f":"Regr_Lineal!C232","v":0},{"$f":"Regr_Lineal!D232","v":0},0,0,0,"","","","","",""]
[{"$f":"Regr_Lineal!B233","v":0},{"$f":"Regr_Lineal!C233","v":0},{"$f":"Regr_Lineal!D233","v":0},0,0,0,"","","","","",""]
[{"$f":"Regr_Lineal!B234","v":0},{"$f":"Regr_Lineal!C234","v":0},{"$f":"Regr_Lineal!D234","v":0},0,0,0,"","","","","",""]
[{"$f":"Regr_Lineal!B235","v":0},{"$f":"Regr_Lineal!C235","v":0},{"$f":"Regr_Lineal!D235","v":0},0,0,0,"","","","","",""]
[{"$f":"Regr_Lineal!B236","v":0},{"$f":"Regr_Lineal!C236","v":0},{"$f":"Regr_Lineal!D236","v":0},0,0,0,"","","","","",""]
[{"$f":"Regr_Lineal!B237","v":0},{"$f":"Regr_Lineal!C237","v":0},{"$f":"Regr_Lineal!D237","v":0},0,0,0,"","","","","",""]
[{"$f":"Regr_Lineal!B238","v":0},{"$f":"Regr_Lineal!C238","v":0},{"$f":"Regr_Lineal!D238","v":0},0,0,0,"","","","","",""]
[{"$f":"Regr_Lineal!B239","v":0},{"$f":"Regr_Lineal!C239","v":0},{"$f":"Regr_Lineal!D239","v":0},0,0,0,"","","","","",""]
[{"$f":"Regr_Lineal!B240","v":0},{"$f":"Regr_Lineal!C240","v":0},{"$f":"Regr_Lineal!D240","v":0},0,0,0,"","","","","",""]
[{"$f":"Regr_Lineal!B241","v":0},{"$f":"Regr_Lineal!C241","v":0},{"$f":"Regr_Lineal!D241","v":0},0,0,0,"","","","","",""]
[{"$f":"Regr_Lineal!B242","v":0},{"$f":"Regr_Lineal!C242","v":0},{"$f":"Regr_Lineal!D242","v":0},0,0,0,"","","","","",""]
[{"$f":"Regr_Lineal!B243","v":0},{"$f":"Regr_Lineal!C243","v":0},{"$f":"Regr_Lineal!D243","v":0},0,0,0,"","","","","",""]
[{"$f":"Regr_Lineal!B244","v":0},{"$f":"Regr_Lineal!C244","v":0},{"$f":"Regr_Lineal!D244","v":0},0,0,0,"","","","","",""]
[{"$f":"Regr_Lineal!B245","v":0},{"$f":"Regr_Lineal!C245","v":0},{"$f":"Regr_Lineal!D245","v":0},0,0,0,"","","","","",""]
[{"$f":"Regr_Lineal!B246","v":0},{"$f":"Regr_Lineal!C246","v":0},{"$f":"Regr_Lineal!D246","v":0},0,0,0,"","","","","",""]
[{"$f":"Regr_Lineal!B247","v":0},{"$f":"Regr_Lineal!C247","v":0},{"$f":"Regr_Lineal!D247","v":0},0,0,0,"","","","","",""]
[{"$f":"Regr_Lineal!B248","v":0},{"$f":"Regr_Lineal!C248","v":0},{"$f":"Regr_Lineal!D248","v":0},0,0,0,"","","","","",""]
[{"$f":"Regr_Lineal!B249","v":0},{"$f":"Regr_Lineal!C249","v":0},{"$f":"Regr_Lineal!D249","v":0},0,0,0,"","","","","",""]
[{"$f":"Regr_Lineal!B250","v":0},{"$f":"Regr_Lineal!C250","v":0},{"$f":"Regr_Lineal!D250","v":0},0,0,0,"","","","","",""]
[{"$f":"Regr_Lineal!B251","v":0},{"$f":"Regr_Lineal!C251","v":0},{"$f":"Regr_Lineal!D251","v":0},0,0,0,"","","","","",""]
[{"$f":"Regr_Lineal!B252","v":0},{"$f":"Regr_Lineal!C252","v":0},{"$f":"Regr_Lineal!D252","v":0},0,0,0,"","","","","",""]
[{"$f":"Regr_Lineal!B253","v":0},{"$f":"Regr_Lineal!C253","v":0},{"$f":"Regr_Lineal!D253","v":0},0,0,0,"","","","","",""]
[{"$f":"Regr_Lineal!B254","v":0},{"$f":"Regr_Lineal!C254","v":0},{"$f":"Regr_Lineal!D254","v":0},0,0,0,"","","","","",""]
[{"$f":"Regr_Lineal!B255","v":0},{"$f":"Regr_Lineal!C255","v":0},{"$f":"Regr_Lineal!D255","v":0},0,0,0,"","","","","",""]
[{"$f":"Regr_Lineal!B256","v":0},{"$f":"Regr_Lineal!C256","v":0},{"$f":"Regr_Lineal!D256","v":0},0,0,0,"","","","","",""]
[{"$f":"Regr_Lineal!B257","v":0},{"$f":"Regr_Lineal!C257","v":0},{"$f":"Regr_Lineal!D257","v":0},0,0,0,"","","","","",""]
[{"$f":"Regr_Lineal!B258","v":0},{"$f":"Regr_Lineal!C258","v":0},{"$f":"Regr_Lineal!D258","v":0},0,0,0,"","","","","",""]
[{"$f":"Regr_Lineal!B259","v":0},{"$f":"Regr_Lineal!C259","v":0},{"$f":"Regr_Lineal!D259","v":0},0,0,0,"","","","","",""]
[{"$f":"Regr_Lineal!B260","v":0},{"$f":"Regr_Lineal!C260","v":0},{"$f":"Regr_Lineal!D260","v":0},0,0,0,"","","","","",""]
[{"$f":"Regr_Lineal!B261","v":0},{"$f":"Regr_Lineal!C261","v":0},{"$f":"Regr_Lineal!D261","v":0},0,0,0,"","","",{"$f":"IF(D258=0,\"\",D258)","v":""},"",""]
[{"$f":"Regr_Lineal!B262","v":0},{"$f":"Regr_Lineal!C262","v":0},{"$f":"Regr_Lineal!D262","v":0},{"$f":"B259^2","v":0},{"$f":"B259*C259","v":0},{"$f":"C259^2","v":0},{"$f":"IF(A259=0,\"\",A259)","v":""},"","","",{"$f":"IF(E259=0,\"\",E259)","v":""},""]
[{"$f":"Regr_Lineal!B263","v":0},{"$f":"Regr_Lineal!C263","v":0},{"$f":"Regr_Lineal!D263","v":0},0,0,0,"","","","","",""]
[{"$f":"Regr_Lineal!B264","v":0},{"$f":"Regr_Lineal!C264","v":0},{"$f":"Regr_Lineal!D264","v":0},0,0,0,"","","","","",""]
[{"$f":"Regr_Lineal!B265","v":0},{"$f":"Regr_Lineal!C265","v":0},{"$f":"Regr_Lineal!D265","v":0},0,0,0,"","","","","",""]
[{"$f":"Regr_Lineal!B266","v":0},{"$f":"Regr_Lineal!C266","v":0},{"$f":"Regr_Lineal!D266","v":0},0,0,0,"","","","","",""]
[{"$f":"Regr_Lineal!B267","v":0},{"$f":"Regr_Lineal!C267","v":0},{"$f":"Regr_Lineal!D267","v":0},0,0,0,"","","","","",""]
[{"$f":"Regr_Lineal!B268","v":0},{"$f":"Regr_Lineal!C268","v":0},{"$f":"Regr_Lineal!D268","v":0},0,0,0,"","","","","",""]
[{"$f":"Regr_Lineal!B269","v":0},{"$f":"Regr_Lineal!C269","v":0},{"$f":"Regr_Lineal!D269","v":0},0,0,0,"","","","","",""]
[{"$f":"Regr_Lineal!B270","v":0},{"$f":"Regr_Lineal!C270","v":0},{"$f":"Regr_Lineal!D270","v":0},0,0,0,"","","","","",""]
[{"$f":"Regr_Lineal!B271","v":0},{"$f":"Regr_Lineal!C271","v":0},{"$f":"Regr_Lineal!D271","v":0},0,0,0,"","","","","",""]
[{"$f":"Regr_Lineal!B272","v":0},{"$f":"Regr_Lineal!C272","v":0},{"$f":"Regr_Lineal!D272","v":0},0,0,0,"","","","","",""]
[{"$f":"Regr_Lineal!B273","v":0},{"$f":"Regr_Lineal!C273","v":0},{"$f":"Regr_Lineal!D273","v":0},0,0,0,"","","","","",""]
[{"$f":"Regr_Lineal!B274","v":0},{"$f":"Regr_Lineal!C274","v":0},{"$f":"Regr_Lineal!D274","v":0},0,0,0,"","","","","",""]
[{"$f":"Regr_Lineal!B275","v":0},{"$f":"Regr_Lineal!C275","v":0},{"$f":"Regr_Lineal!D275","v":0},0,0,0,"","","","","",""]
[{"$f":"Regr_Lineal!B276","v":0},{"$f":"Regr_Lineal!C276","v":0},{"$f":"Regr_Lineal!D276","v":0},0,0,0,"","","","","",""]
[{"$f":"Regr_Lineal!B277","v":0},{"$f":"Regr_Lineal!C277","v":0},{"$f":"Regr_Lineal!D277","v":0},0,0,0,"","","","","",""]
[{"$f":"Regr_Lineal!B278","v":0},{"$f":"Regr_Lineal!C278","v":0},{"$f":"Regr_Lineal!D278","v":0},0,0,0,"","","","","",""]
[{"$f":"Regr_Lineal!B279","v":0},{"$f":"Regr_Lineal!C279","v":0},{"$f":"Regr_Lineal!D279","v":0},0,0,0,"","","","","",""]
[{"$f":"Regr_Lineal!B280","v":0},{"$f":"Regr_Lineal!C280","v":0},{"$f":"Regr_Lineal!D280","v":0},0,0,0,"","","","","",""]
[{"$f":"Regr_Lineal!B281","v":0},{"$f":"Regr_Lineal!C281","v":0},{"$f":"Regr_Lineal!D281","v":0},0,0,0,"","","","","",""]
[{"$f":"Regr_Lineal!B282","v":0},{"$f":"Regr_Lineal!C282","v":0},{"$f":"Regr_Lineal!D282","v":0},0,0,0,"","","","","",""]
[{"$f":"Regr_Lineal!B283","v":0},{"$f":"Regr_Lineal!C283","v":0},{"$f":"Regr_Lineal!D283","v":0},0,0,0,"","","","","",""]
[{"$f":"Regr_Lineal!B284","v":0},{"$f":"Regr_Lineal!C284","v":0},{"$f":"Regr_Lineal!D284","v":0},0,0,0,"","","","","",""]
[{"$f":"Regr_Lineal!B285","v":0},{"$f":"Regr_Lineal!C285","v":0},{"$f":"Regr_Lineal!D285","v":0},0,0,0,"","","","","",""]
[{"$f":"Regr_Lineal!B286","v":0},{"$f":"Regr_Lineal!C286","v":0},{"$f":"Regr_Lineal!D286","v":0},0,0,0,"","","","","",""]
[{"$f":"Regr_Lineal!B287","v":0},{"$f":"Regr_Lineal!C287","v":0},{"$f":"Regr_Lineal!D287","v":0},0,0,0,"","","","","",""]
[{"$f":"Regr_Lineal!B288","v":0},{"$f":"Regr_Lineal!C288","v":0},{"$f":"Regr_Lineal!D288","v":0},0,0,0,"","","","","",""]
[{"$f":"Regr_Lineal!B289","v":0},{"$f":"Regr_Lineal!C289","v":0},{"$f":"Regr_Lineal!D289","v":0},0,0,0,"","","","","",""]
[{"$f":"Regr_Lineal!B290","v":0},{"$f":"Regr_Lineal!C290","v":0},{"$f":"Regr_Lineal!D290","v":0},0,0,0,"","","","","",""]
[{"$f":"Regr_Lineal!B291","v":0},{"$f":"Regr_Lineal!C291","v":0},{"$f":"Regr_Lineal!D291","v":0},0,0,0,"","","","","",""]
[{"$f":"Regr_Lineal!B292","v":0},{"$f":"Regr_Lineal!C292","v":0},{"$f":"Regr_Lineal!D292","v":0},0,0,0,"","","","","",""]
[{"$f":"Regr_Lineal!B293","v":0},{"$f":"Regr_Lineal!C293","v":0},{"$f":"Regr_Lineal!D293","v":0},0,0,0,"","","","","",""]
[{"$f":"Regr_Lineal!B294","v":0},{"$f":"Regr_Lineal!C294","v":0},{"$f":"Regr_Lineal!D294","v":0},0,0,0,"","","","","",""]
[{"$f":"Regr_Lineal!B295","v":0},{"$f":"Regr_Lineal!C295","v":0},{"$f":"Regr_Lineal!D295","v":0},0,0,0,"","","","","",""]
[{"$f":"Regr_Lineal!B296","v":0},{"$f":"Regr_Lineal!C296","v":0},{"$f":"Regr_Lineal!D296","v":0},0,0,0,"","","","","",""]
[{"$f":"Regr_Lineal!B297","v":0},{"$f":"Regr_Lineal!C297","v":0},{"$f":"Regr_Lineal!D297","v":0},0,0,0,"","","","","",""]
[{"$f":"Regr_Lineal!B298","v":0},{"$f":"Regr_Lineal!C298","v":0},{"$f":"Regr_Lineal!D298","v":0},0,0,0,"","","","","",""]
[{"$f":"Regr_Lineal!B299","v":0},{"$f":"Regr_Lineal!C299","v":0},{"$f":"Regr_Lineal!D299","v":0},0,0,0,"","","","","",""]
[{"$f":"Regr_Lineal!B300","v":0},{"$f":"Regr_Lineal!C300","v":0},{"$f":"Regr_Lineal!D300","v":0},0,0,0,"","","","","",""]
[{"$f":"Regr_Lineal!B301","v":0},{"$f":"Regr_Lineal!C301","v":0},{"$f":"Regr_Lineal!D301","v":0},0,0,0,"","","","","",""]
[{"$f":"Regr_Lineal!B302","v":0},{"$f":"Regr_Lineal!C302","v":0},{"$f":"Regr_Lineal!D302","v":0},0,0,0,"","","","","",""]
[{"$f":"Regr_Lineal!B303","v":0},{"$f":"Regr_Lineal!C303","v":0},{"$f":"Regr_Lineal!D303","v":0},0,0,0,"","","","","",""]
[{"$f":"Regr_Lineal!B304","v":0},{"$f":"Regr_Lineal!C304","v":0},{"$f":"Regr_Lineal!D304","v":0},0,0,0,"","","","","",""]
[{"$f":"Regr_Lineal!B305","v":0},{"$f":"Regr_Lineal!C305","v":0},{"$f":"Regr_Lineal!D305","v":0},0,0,0,"","","","","",""]
[{"$f":"Regr_Lineal!B306","v":0},{"$f":"Regr_Lineal!C306","v":0},{"$f":"Regr_Lineal!D306","v":0},0,0,0,"","","","","",""]
[{"$f":"Regr_Lineal!B307","v":0},{"$f":"Regr_Lineal!C307","v":0},{"$f":"Regr_Lineal!D307","v":0},0,0,0,"","","","","",""]
[{"$f":"Regr_Lineal!B308","v":0},{"$f":"Regr_Lineal!C308","v":0},{"$f":"Regr_Lineal!D308","v":0},0,0,0,"","","","","",""]
[{"$f":"Regr_Lineal!B309","v":0},{"$f":"Regr_Lineal!C309","v":0},{"$f":"Regr_Lineal!D309","v":0},0,0,0,"","","","","",""]
[{"$f":"Regr_Lineal!B310","v":0},{"$f":"Regr_Lineal!C310","v":0},{"$f":"Regr_Lineal!D310","v":0},0,0,0,"","","","","",""]
[{"$f":"Regr_Lineal!B311","v":0},{"$f":"Regr_Lineal!C311","v":0},{"$f":"Regr_Lineal!D311","v":0},0,0,0,"","","","","",""]
[{"$f":"Regr_Lineal!B312","v":0},{"$f":"Regr_Lineal!C312","v":0},{"$f":"Regr_Lineal!D312","v":0},0,0,0,"","","","","",""]
[{"$f":"Regr_Lineal!B313","v":0},{"$f":"Regr_Lineal!C313","v":0},{"$f":"Regr_Lineal!D313","v":0},0,0,0,"","","","","",""]
[{"$f":"Regr_Lineal!B314","v":0},{"$f":"Regr_Lineal!C314","v":0},{"$f":"Regr_Lineal!D314","v":0},0,0,0,"","","","","",""]
[{"$f":"Regr_Lineal!B315","v":0},{"$f":"Regr_Lineal!C315","v":0},{"$f":"Regr_Lineal!D315","v":0},0,0,0,"","","","","",""]
[{"$f":"Regr_Lineal!B316","v":0},{"$f":"Regr_Lineal!C316","v":0},{"$f":"Regr_Lineal!D316","v":0},0,0,0,"","","","","",""]
[{"$f":"Regr_Lineal!B317","v":0},{"$f":"Regr_Lineal!C317","v":0},{"$f":"Regr_Lineal!D317","v":0},0,0,0,"","","","","",""]
[{"$f":"Regr_Lineal!B318","v":0},{"$f":"Regr_Lineal!C318","v":0},{"$f":"Regr_Lineal!D318","v":0},0,0,0,"","","","","",""]
[{"$f":"Regr_Lineal!B319","v":0},{"$f":"Regr_Lineal!C319","v":0},{"$f":"Regr_Lineal!D319","v":0},0,0,0,"","","","","",""]
[{"$f":"Regr_Lineal!B320","v":0},{"$f":"Regr_Lineal!C320","v":0},{"$f":"Regr_Lineal!D320","v":0},0,0,0,"","","","","",""]
[{"$f":"Regr_Lineal!B321","v":0},{"$f":"Regr_Lineal!C321","v":0},{"$f":"Regr_Lineal!D321","v":0},0,0,0,"","","","","",""]
[{"$f":"Regr_Lineal!B322","v":0},{"$f":"Regr_Lineal!C322","v":0},{"$f":"Regr_Lineal!D322","v":0},0,0,0,"","","","","",""]
[{"$f":"Regr_Lineal!B323","v":0},{"$f":"Regr_Lineal!C323","v":0},{"$f":"Regr_Lineal!D323","v":0},0,0,0,"","","","","",""]
[{"$f":"Regr_Lineal!B324","v":0},{"$f":"Regr_Lineal!C324","v":0},{"$f":"Regr_Lineal!D324","v":0},0,0,0,"","","","","",""]
[{"$f":"Regr_Lineal!B325","v":0},{"$f":"Regr_Lineal!C325","v":0},{"$f":"Regr_Lineal!D325","v":0},0,0,0,"","","",{"$f":"IF(D322=0,\"\",D322)","v":""},"",""]
[{"$f":"Regr_Lineal!B326","v":0},{"$f":"Regr_Lineal!C326","v":0},{"$f":"Regr_Lineal!D326","v":0},{"$f":"B323^2","v":0},{"$f":"B323*C323","v":0},{"$f":"C323^2","v":0},{"$f":"IF(A323=0,\"\",A323)","v":""},"","","",{"$f":"IF(E323=0,\"\",E323)","v":""},""]
[{"$f":"Regr_Lineal!B327","v":0},{"$f":"Regr_Lineal!C327","v":0},{"$f":"Regr_Lineal!D327","v":0},0,0,0,"","","","","",""]
[{"$f":"Regr_Lineal!B328","v":0},{"$f":"Regr_Lineal!C328","v":0},{"$f":"Regr_Lineal!D328","v":0},0,0,0,"","","","","",""]
[{"$f":"Regr_Lineal!B329","v":0},{"$f":"Regr_Lineal!C329","v":0},{"$f":"Regr_Lineal!D329","v":0},0,0,0,"","","","","",""]
[{"$f":"Regr_Lineal!B330","v":0},{"$f":"Regr_Lineal!C330","v":0},{"$f":"Regr_Lineal!D330","v":0},0,0,0,"","","","","",""]
[{"$f":"Regr_Lineal!B331","v":0},{"$f":"Regr_Lineal!C331","v":0},{"$f":"Regr_Lineal!D331","v":0},0,0,0,"","","","","",""]
[{"$f":"Regr_Lineal!B332","v":0},{"$f":"Regr_Lineal!C332","v":0},{"$f":"Regr_Lineal!D332","v":0},0,0,0,"","","","","",""]
[{"$f":"Regr_Lineal!B333","v":0},{"$f":"Regr_Lineal!C333","v":0},{"$f":"Regr_Lineal!D333","v":0},0,0,0,"","","","","",""]
[{"$f":"Regr_Lineal!B334","v":0},{"$f":"Regr_Lineal!C334","v":0},{"$f":"Regr_Lineal!D334","v":0},0,0,0,"","","","","",""]
[{"$f":"Regr_Lineal!B335","v":0},{"$f":"Regr_Lineal!C335","v":0},{"$f":"Regr_Lineal!D335","v":0},0,0,0,"","","","","",""]
[{"$f":"Regr_Lineal!B336","v":0},{"$f":"Regr_Lineal!C336","v":0},{"$f":"Regr_Lineal!D336","v":0},0,0,0,"","","","","",""]
[{"$f":"Regr_Lineal!B337","v":0},{"$f":"Regr_Lineal!C337","v":0},{"$f":"Regr_Lineal!D337","v":0},0,0,0,"","","","","",""]
[{"$f":"Regr_Lineal!B338","v":0},{"$f":"Regr_Lineal!C338","v":0},{"$f":"Regr_Lineal!D338","v":0},0,0,0,"","","","","",""]
[{"$f":"Regr_Lineal!B339","v":0},{"$f":"Regr_Lineal!C339","v":0},{"$f":"Regr_Lineal!D339","v":0},0,0,0,"","","","","",""]
[{"$f":"Regr_Lineal!B340","v":0},{"$f":"Regr_Lineal!C340","v":0},{"$f":"Regr_Lineal!D340","v":0},0,0,0,"","","","","",""]
[{"$f":"Regr_Lineal!B341","v":0},{"$f":"Regr_Lineal!C341","v":0},{"$f":"Regr_Lineal!D341","v":0},0,0,0,"","","","","",""]
[{"$f":"Regr_Lineal!B342","v":0},{"$f":"Regr_Lineal!C342","v":0},{"$f":"Regr_Lineal!D342","v":0},0,0,0,"","","","","",""]
[{"$f":"Regr_Lineal!B343","v":0},{"$f":"Regr_Lineal!C343","v":0},{"$f":"Regr_Lineal!D343","v":0},0,0,0,"","","","","",""]
[{"$f":"Regr_Lineal!B344","v":0},{"$f":"Regr_Lineal!C344","v":0},{"$f":"Regr_Lineal!D344","v":0},0,0,0,"","","","","",""]
[{"$f":"Regr_Lineal!B345","v":0},{"$f":"Regr_Lineal!C345","v":0},{"$f":"Regr_Lineal!D345","v":0},0,0,0,"","","","","",""]
[{"$f":"Regr_Lineal!B346","v":0},{"$f":"Regr_Lineal!C346","v":0},{"$f":"Regr_Lineal!D346","v":0},0,0,0,"","","","","",""]
[{"$f":"Regr_Lineal!B347","v":0},{"$f":"Regr_Lineal!C347","v":0},{"$f":"Regr_Lineal!D347","v":0},0,0,0,"","","","","",""]
[{"$f":"Regr_Lineal!B348","v":0},{"$f":"Regr_Lineal!C348","v":0},{"$f":"Regr_Lineal!D348","v":0},0,0,0,"","","","","",""]
[{"$f":"Regr_Lineal!B349","v":0},{"$f":"Regr_Lineal!C349","v":0},{"$f":"Regr_Lineal!D349","v":0},0,0,0,"","","","","",""]
[{"$f":"Regr_Lineal!B350","v":0},{"$f":"Regr_Lineal!C350","v":0},{"$f":"Regr_Lineal!D350","v":0},0,0,0,"","","","","",""]
[{"$f":"Regr_Lineal!B351","v":0},{"$f":"Regr_Lineal!C351","v":0},{"$f":"Regr_Lineal!D351","v":0},0,0,0,"","","","","",""]
[{"$f":"Regr_Lineal!B352","v":0},{"$f":"Regr_Lineal!C352","v":0},{"$f":"Regr_Lineal!D352","v":0},0,0,0,"","","","","",""]
[{"$f":"Regr_Lineal!B353","v":0},{"$f":"Regr_Lineal!C353","v":0},{"$f":"Regr_Lineal!D353","v":0},0,0,0,"","","","","",""]
[{"$f":"Regr_Lineal!B354","v":0},{"$f":"Regr_Lineal!C354","v":0},{"$f":"Regr_Lineal!D354","v":0},0,0,0,"","","","","",""]
[{"$f":"Regr_Lineal!B355","v":0},{"$f":"Regr_Lineal!C355","v":0},{"$f":"Regr_Lineal!D355","v":0},0,0,0,"","","","","",""]
[{"$f":"Regr_Lineal!B356","v":0},{"$f":"Regr_Lineal!C356","v":0},{"$f":"Regr_Lineal!D356","v":0},0,0,0,"","","","","",""]
[{"$f":"Regr_Lineal!B357","v":0},{"$f":"Regr_Lineal!C357","v":0},{"$f":"Regr_Lineal!D357","v":0},0,0,0,"","","","","",""]
[{"$f":"Regr_Lineal!B358","v":0},{"$f":"Regr_Lineal!C358","v":0},{"$f":"Regr_Lineal!D358","v":0},0,0,0,"","","","","",""]
[{"$f":"Regr_Lineal!B359","v":0},{"$f":"Regr_Lineal!C359","v":0},{"$f":"Regr_Lineal!D359","v":0},0,0,0,"","","","","",""]
[{"$f":"Regr_Lineal!B360","v":0},{"$f":"Regr_Lineal!C360","v":0},{"$f":"Regr_Lineal!D360","v":0},0,0,0,"","","","","",""]
[{"$f":"Regr_Lineal!B361","v":0},{"$f":"Regr_Lineal!C361","v":0},{"$f":"Regr_Lineal!D361","v":0},0,0,0,"","","","","",""]
[{"$f":"Regr_Lineal!B362","v":0},{"$f":"Regr_Lineal!C362","v":0},{"$f":"Regr_Lineal!D362","v":0},0,0,0,"","","","","",""]
[{"$f":"Regr_Lineal!B363","v":0},{"$f":"Regr_Lineal!C363","v":0},{"$f":"Regr_Lineal!D363","v":0},0,0,0,"","","","","",""]
[{"$f":"Regr_Lineal!B364","v":0},{"$f":"Regr_Lineal!C364","v":0},{"$f":"Regr_Lineal!D364","v":0},0,0,0,"","","","","",""]
[{"$f":"Regr_Lineal!B365","v":0},{"$f":"Regr_Lineal!C365","v":0},{"$f":"Regr_Lineal!D365","v":0},0,0,0,"","","","","",""]
[{"$f":"Regr_Lineal!B366","v":0},{"$f":"Regr_Lineal!C366","v":0},{"$f":"Regr_Lineal!D366","v":0},0,0,0,"","","","","",""]
[{"$f":"Regr_Lineal!B367","v":0},{"$f":"Regr_Lineal!C367","v":0},{"$f":"Regr_Lineal!D367","v":0},0,0,0,"","","","","",""]
[{"$f":"Regr_Lineal!B368","v":0},{"$f":"Regr_Lineal!C368","v":0},{"$f":"Regr_Lineal!D368","v":0},0,0,0,"","","","","",""]
[{"$f":"Regr_Lineal!B369","v":0},{"$f":"Regr_Lineal!C369","v":0},{"$f":"Regr_Lineal!D369","v":0},0,0,0,"","","","","",""]
[{"$f":"Regr_Lineal!B370","v":0},{"$f":"Regr_Lineal!C370","v":0},{"$f":"Regr_Lineal!D370","v":0},0,0,0,"","","","","",""]
[{"$f":"Regr_Lineal!B371","v":0},{"$f":"Regr_Lineal!C371","v":0},{"$f":"Regr_Lineal!D371","v":0},0,0,0,"","","","","",""]
[{"$f":"Regr_Lineal!B372","v":0},{"$f":"Regr_Lineal!C372","v":0},{"$f":"Regr_Lineal!D372","v":0},0,0,0,"","","","","",""]
[{"$f":"Regr_Lineal!B373","v":0},{"$f":"Regr_Lineal!C373","v":0},{"$f":"Regr_Lineal!D373","v":0},0,0,0,"","","","","",""]
[{"$f":"Regr_Lineal!B374","v":0},{"$f":"Regr_Lineal!C374","v":0},{"$f":"Regr_Lineal!D374","v":0},0,0,0,"","","","","",""]
[{"$f":"Regr_Lineal!B375","v":0},{"$f":"Regr_Lineal!C375","v":0},{"$f":"Regr_Lineal!D375","v":0},0,0,0,"","","","","",""]
[{"$f":"Regr_Lineal!B376","v":0},{"$f":"Regr_Lineal!C376","v":0},{"$f":"Regr_Lineal!D376","v":0},0,0,0,"","","","","",""]
[{"$f":"Regr_Lineal!B377","v":0},{"$f":"Regr_Lineal!C377","v":0},{"$f":"Regr_Lineal!D377","v":0},0,0,0,"","","","","",""]
[{"$f":"Regr_Lineal!B378","v":0},{"$f":"Regr_Lineal!C378","v":0},{"$f":"Regr_Lineal!D378","v":0},0,0,0,"","","","","",""]
[{"$f":"Regr_Lineal!B379","v":0},{"$f":"Regr_Lineal!C379","v":0},{"$f":"Regr_Lineal!D379","v":0},0,0,0,"","","","","",""]
[{"$f":"Regr_Lineal!B380","v":0},{"$f":"Regr_Lineal!C380","v":0},{"$f":"Regr_Lineal!D380","v":0},0,0,0,"","","","","",""]
[{"$f":"Regr_Lineal!B381","v":0},{"$f":"Regr_Lineal!C381","v":0},{"$f":"Regr_Lineal!D381","v":0},0,0,0,"","","","","",""]
[{"$f":"Regr_Lineal!B382","v":0},{"$f":"Regr_Lineal!C382","v":0},{"$f":"Regr_Lineal!D382","v":0},0,0,0,"","","","","",""]
[{"$f":"Regr_Lineal!B383","v":0},{"$f":"Regr_Lineal!C383","v":0},{"$f":"Regr_Lineal!D383","v":0},0,0,0,"","","","","",""]
[{"$f":"Regr_Lineal!B384","v":0},{"$f":"Regr_Lineal!C384","v":0},{"$f":"Regr_Lineal!D384","v":0},0,0,0,"","","","","",""]
[{"$f":"Regr_Lineal!B385","v":0},{"$f":"Regr_Lineal!C385","v":0},{"$f":"Regr_Lineal!D385","v":0},0,0,0,"","","","","",""]
[{"$f":"Regr_Lineal!B386","v":0},{"$f":"Regr_Lineal!C386","v":0},{"$f":"Regr_Lineal!D386","v":0},0,0,0,"","","","","",""]
[{"$f":"Regr_Lineal!B387","v":0},{"$f":"Regr_Lineal!C387","v":0},{"$f":"Regr_Lineal!D387","v":0},0,0,0,"","","","","",""]
[{"$f":"Regr_Lineal!B388","v":0},{"$f":"Regr_Lineal!C388","v":0},{"$f":"Regr_Lineal!D388","v":0},0,0,0,"","","","","",""]
[{"$f":"Regr_Lineal!B389","v":0},{"$f":"Regr_Lineal!C389","v":0},{"$f":"Regr_Lineal!D389","v":0},0,0,0,"","","",{"$f":"IF(D386=0,\"\",D386)","v":""},"",""]
[{"$f":"Regr_Lineal!B390","v":0},{"$f":"Regr_Lineal!C390","v":0},{"$f":"Regr_Lineal!D390","v":0},{"$f":"B387^2","v":0},{"$f":"B387*C387","v":0},{"$f":"C387^2","v":0},{"$f":"IF(A387=0,\"\",A387)","v":""},"","","",{"$f":"IF(E387=0,\"\",E387)","v":""},""]
[{"$f":"Regr_Lineal!B391","v":0},{"$f":"Regr_Lineal!C391","v":0},{"$f":"Regr_Lineal!D391","v":0},0,0,0,"","","","","",""]
[{"$f":"Regr_Lineal!B392","v":0},{"$f":"Regr_Lineal!C392","v":0},{"$f":"Regr_Lineal!D392","v":0},0,0,0,"","","","","",""]
[{"$f":"Regr_Lineal!B393","v":0},{"$f":"Regr_Lineal!C393","v":0},{"$f":"Regr_Lineal!D393","v":0},0,0,0,"","","","","",""]
[{"$f":"Regr_Lineal!B394","v":0},{"$f":"Regr_Lineal!C394","v":0},{"$f":"Regr_Lineal!D394","v":0},0,0,0,"","","","","",""]
[{"$f":"Regr_Lineal!B395","v":0},{"$f":"Regr_Lineal!C395","v":0},{"$f":"Regr_Lineal!D395","v":0},0,0,0,"","","","","",""]
[{"$f":"Regr_Lineal!B396","v":0},{"$f":"Regr_Lineal!C396","v":0},{"$f":"Regr_Lineal!D396","v":0},0,0,0,"","","","","",""]
[{"$f":"Regr_Lineal!B397","v":0},{"$f":"Regr_Lineal!C397","v":0},{"$f":"Regr_Lineal!D397","v":0},0,0,0,"","","","","",""]
[{"$f":"Regr_Lineal!B398","v":0},{"$f":"Regr_Lineal!C398","v":0},{"$f":"Regr_Lineal!D398","v":0},0,0,0,"","","","","",""]
[{"$f":"Regr_Lineal!B399","v":0},{"$f":"Regr_Lineal!C399","v":0},{"$f":"Regr_Lineal!D399","v":0},0,0,0,"","","","","",""]
[{"$f":"Regr_Lineal!B400","v":0},{"$f":"Regr_Lineal!C400","v":0},{"$f":"Regr_Lineal!D400","v":0},0,0,0,"","","","","",""]
[{"$f":"Regr_Lineal!B401","v":0},{"$f":"Regr_Lineal!C401","v":0},{"$f":"Regr_Lineal!D401","v":0},0,0,0,"","","","","",""]
[{"$f":"Regr_Lineal!B402","v":0},{"$f":"Regr_Lineal!C402","v":0},{"$f":"Regr_Lineal!D402","v":0},0,0,0,"","","","","",""]
[{"$f":"Regr_Lineal!B403","v":0},{"$f":"Regr_Lineal!C403","v":0},{"$f":"Regr_Lineal!D403","v":0},0,0,0,"","","","","",""]
[{"$f":"Regr_Lineal!B404","v":0},{"$f":"Regr_Lineal!C404","v":0},{"$f":"Regr_Lineal!D404","v":0},0,0,0,"","","","","",""]
[{"$f":"Regr_Lineal!B405","v":0},{"$f":"Regr_Lineal!C405","v":0},{"$f":"Regr_Lineal!D405","v":0},0,0,0,"","","","","",""]
[{"$f":"Regr_Lineal!B406","v":0},{"$f":"Regr_Lineal!C406","v":0},{"$f":"Regr_Lineal!D406","v":0},0,0,0,"","","","","",""]
[{"$f":"Regr_Lineal!B407","v":0},{"$f":"Regr_Lineal!C407","v":0},{"$f":"Regr_Lineal!D407","v":0},0,0,0,"","","","","",""]
[{"$f":"Regr_Lineal!B408","v":0},{"$f":"Regr_Lineal!C408","v":0},{"$f":"Regr_Lineal!D408","v":0},0,0,0,"","","","","",""]
[{"$f":"Regr_Lineal!B409","v":0},{"$f":"Regr_Lineal!C409","v":0},{"$f":"Regr_Lineal!D409","v":0},0,0,0,"","","","","",""]
[{"$f":"Regr_Lineal!B410","v":0},{"$f":"Regr_Lineal!C410","v":0},{"$f":"Regr_Lineal!D410","v":0},0,0,0,"","","","","",""]
[{"$f":"Regr_Lineal!B411","v":0},{"$f":"Regr_Lineal!C411","v":0},{"$f":"Regr_Lineal!D411","v":0},0,0,0,"","","","","",""]
[{"$f":"Regr_Lineal!B412","v":0},{"$f":"Regr_Lineal!C412","v":0},{"$f":"Regr_Lineal!D412","v":0},0,0,0,"","","","","",""]
[{"$f":"Regr_Lineal!B413","v":0},{"$f":"Regr_Lineal!C413","v":0},{"$f":"Regr_Lineal!D413","v":0},0,0,0,"","","","","",""]
[{"$f":"Regr_Lineal!B414","v":0},{"$f":"Regr_Lineal!C414","v":0},{"$f":"Regr_Lineal!D414","v":0},0,0,0,"","","","","",""]
[{"$f":"Regr_Lineal!B415","v":0},{"$f":"Regr_Lineal!C415","v":0},{"$f":"Regr_Lineal!D415","v":0},0,0,0,"","","","","",""]
[{"$f":"Regr_Lineal!B416","v":0},{"$f":"Regr_Lineal!C416","v":0},{"$f":"Regr_Lineal!D416","v":0},0,0,0,"","","","","",""]
[{"$f":"Regr_Lineal!B417","v":0},{"$f":"Regr_Lineal!C417","v":0},{"$f":"Regr_Lineal!D417","v":0},0,0,0,"","","","","",""]
[{"$f":"Regr_Lineal!B418","v":0},{"$f":"Regr_Lineal!C418","v":0},{"$f":"Regr_Lineal!D418","v":0},0,0,0,"","","","","",""]
[{"$f":"Regr_Lineal!B419","v":0},{"$f":"Regr_Lineal!C419","v":0},{"$f":"Regr_Lineal!D419","v":0},0,0,0,"","","","","",""]
[{"$f":"Regr_Lineal!B420","v":0},{"$f":"Regr_Lineal!C420","v":0},{"$f":"Regr_Lineal!D420","v":0},0,0,0,"","","","","",""]
[{"$f":"Regr_Lineal!B421","v":0},{"$f":"Regr_Lineal!C421","v":0},{"$f":"Regr_Lineal!D421","v":0},0,0,0,"","","","","",""]
[{"$f":"Regr_Lineal!B422","v":0},{"$f":"Regr_Lineal!C422","v":0},{"$f":"Regr_Lineal!D422","v":0},0,0,0,"","","","","",""]
[{"$f":"Regr_Lineal!B423","v":0},{"$f":"Regr_Lineal!C423","v":0},{"$f":"Regr_Lineal!D423","v":0},0,0,0,"","","","","",""]
[{"$f":"Regr_Lineal!B424","v":0},{"$f":"Regr_Lineal!C424","v":0},{"$f":"Regr_Lineal!D424","v":0},0,0,0,"","","","","",""]
[{"$f":"Regr_Lineal!B425","v":0},{"$f":"Regr_Lineal!C425","v":0},{"$f":"Regr_Lineal!D425","v":0},0,0,0,"","","","","",""]
[{"$f":"Regr_Lineal!B426","v":0},{"$f":"Regr_Lineal!C426","v":0},{"$f":"Regr_Lineal!D426","v":0},0,0,0,"","","","","",""]
[{"$f":"Regr_Lineal!B427","v":0},{"$f":"Regr_Lineal!C427","v":0},{"$f":"Regr_Lineal!D427","v":0},0,0,0,"","","","","",""]
[{"$f":"Regr_Lineal!B428","v":0},{"$f":"Regr_Lineal!C428","v":0},{"$f":"Regr_Lineal!D428","v":0},0,0,0,"","","","","",""]
[{"$f":"Regr_Lineal!B429","v":0},{"$f":"Regr_Lineal!C429","v":0},{"$f":"Regr_Lineal!D429","v":0},0,0,0,"","","","","",""]
[{"$f":"Regr_Lineal!B430","v":0},{"$f":"Regr_Lineal!C430","v":0},{"$f":"Regr_Lineal!D430","v":0},0,0,0,"","","","","",""]
[{"$f":"Regr_Lineal!B431","v":0},{"$f":"Regr_Lineal!C431","v":0},{"$f":"Regr_Lineal!D431","v":0},0,0,0,"","","","","",""]
[{"$f":"Regr_Lineal!B432","v":0},{"$f":"Regr_Lineal!C432","v":0},{"$f":"Regr_Lineal!D432","v":0},0,0,0,"","","","","",""]
[{"$f":"Regr_Lineal!B433","v":0},{"$f":"Regr_Lineal!C433","v":0},{"$f":"Regr_Lineal!D433","v":0},0,0,0,"","","","","",""]
[{"$f":"Regr_Lineal!B434","v":0},{"$f":"Regr_Lineal!C434","v":0},{"$f":"Regr_Lineal!D434","v":0},0,0,0,"","","","","",""]
[{"$f":"Regr_Lineal!B435","v":0},{"$f":"Regr_Lineal!C435","v":0},{"$f":"Regr_Lineal!D435","v":0},0,0,0,"","","","","",""]
[{"$f":"Regr_Lineal!B436","v":0},{"$f":"Regr_Lineal!C436","v":0},{"$f":"Regr_Lineal!D436","v":0},0,0,0,"","","","","",""]
[{"$f":"Regr_Lineal!B437","v":0},{"$f":"Regr_Lineal!C437","v":0},{"$f":"Regr_Lineal!D437","v":0},0,0,0,"","","","","",""]
[{"$f":"Regr_Lineal!B438","v":0},{"$f":"Regr_Lineal!C438","v":0},{"$f":"Regr_Lineal!D438","v":0},0,0,0,"","","","","",""]
[{"$f":"Regr_Lineal!B439","v":0},{"$f":"Regr_Lineal!C439","v":0},{"$f":"Regr_Lineal!D439","v":0},0,0,0,"","","","","",""]
[{"$f":"Regr_Lineal!B440","v":0},{"$f":"Regr_Lineal!C440","v":0},{"$f":"Regr_Lineal!D440","v":0},0,0,0,"","","","","",""]
[{"$f":"Regr_Lineal!B441","v":0},{"$f":"Regr_Lineal!C441","v":0},{"$f":"Regr_Lineal!D441","v":0},0,0,0,"","","","","",""]
[{"$f":"Regr_Lineal!B442","v":0},{"$f":"Regr_Lineal!C442","v":0},{"$f":"Regr_Lineal!D442","v":0},0,0,0,"","","","","",""]
[{"$f":"Regr_Lineal!B443","v":0},{"$f":"Regr_Lineal!C443","v":0},{"$f":"Regr_Lineal!D443","v":0},0,0,0,"","","","","",""]
[{"$f":"Regr_Lineal!B444","v":0},{"$f":"Regr_Lineal!C444","v":0},{"$f":"Regr_Lineal!D444","v":0},0,0,0,"","","","","",""]
[{"$f":"Regr_Lineal!B445","v":0},{"$f":"Regr_Lineal!C445","v":0},{"$f":"Regr_Lineal!D445","v":0},0,0,0,"","","","","",""]
[{"$f":"Regr_Lineal!B446","v":0},{"$f":"Regr_Lineal!C446","v":0},{"$f":"Regr_Lineal!D446","v":0},0,0,0,"","","","","",""]
[{"$f":"Regr_Lineal!B447","v":0},{"$f":"Regr_Lineal!C447","v":0},{"$f":"Regr_Lineal!D447","v":0},0,0,0,"","","","","",""]
[{"$f":"Regr_Lineal!B448","v":0},{"$f":"Regr_Lineal!C448","v":0},{"$f":"Regr_Lineal!D448","v":0},0,0,0,"","","","","",""]
[{"$f":"Regr_Lineal!B449","v":0},{"$f":"Regr_Lineal!C449","v":0},{"$f":"Regr_Lineal!D449","v":0},0,0,0,"","","","","",""]
[{"$f":"Regr_Lineal!B450","v":0},{"$f":"Regr_Lineal!C450","v":0},{"$f":"Regr_Lineal!D450","v":0},0,0,0,"","","","","",""]
[{"$f":"Regr_Lineal!B451","v":0},{"$f":"Regr_Lineal!C451","v":0},{"$f":"Regr_Lineal!D451","v":0},0,0,0,"","","","","",""]
[{"$f":"Regr_Lineal!B452","v":0},{"$f":"Regr_Lineal!C452","v":0},{"$f":"Regr_Lineal!D452","v":0},0,0,0,"","","","","",""]
[{"$f":"Regr_Lineal!B453","v":0},{"$f":"Regr_Lineal!C453","v":0},{"$f":"Regr_Lineal!D453","v":0},0,0,0,"","","",{"$f":"IF(D450=0,\"\",D450)","v":""},"",""]
[{"$f":"Regr_Lineal!B454","v":0},{"$f":"Regr_Lineal!C454","v":0},{"$f":"Regr_Lineal!D454","v":0},{"$f":"B451^2","v":0},{"$f":"B451*C451","v":0},{"$f":"C451^2","v":0},{"$f":"IF(A451=0,\"\",A451)","v":""},"","","","",{"$f":"IF(F451=0,\"\",F451)","v":""}]
[{"$f":"Regr_Lineal!B455","v":0},{"$f":"Regr_Lineal!C455","v":0},{"$f":"Regr_Lineal!D455","v":0},0,0,0,"","","","","",""]
[{"$f":"Regr_Lineal!B456","v":0},{"$f":"Regr_Lineal!C456","v":0},{"$f":"Regr_Lineal!D456","v":0},0,0,0,"","","","","",""]
[{"$f":"Regr_Lineal!B457","v":0},{"$f":"Regr_Lineal!C457","v":0},{"$f":"Regr_Lineal!D457","v":0},0,0,0,"","","","","",""]
[{"$f":"Regr_Lineal!B458","v":0},{"$f":"Regr_Lineal!C458","v":0},{"$f":"Regr_Lineal!D458","v":0},0,0,0,"","","","","",""]
[{"$f":"Regr_Lineal!B459","v":0},{"$f":"Regr_Lineal!C459","v":0},{"$f":"Regr_Lineal!D459","v":0},0,0,0,"","","","","",""]
[{"$f":"Regr_Lineal!B460","v":0},{"$f":"Regr_Lineal!C460","v":0},{"$f":"Regr_Lineal!D460","v":0},0,0,0,"","","","","",""]
[{"$f":"Regr_Lineal!B461","v":0},{"$f":"Regr_Lineal!C461","v":0},{"$f":"Regr_Lineal!D461","v":0},0,0,0,"","","","","",""]
[{"$f":"Regr_Lineal!B462","v":0},{"$f":"Regr_Lineal!C462","v":0},{"$f":"Regr_Lineal!D462","v":0},0,0,0,"","","","","",""]
[{"$f":"Regr_Lineal!B463","v":0},{"$f":"Regr_Lineal!C463","v":0},{"$f":"Regr_Lineal!D463","v":0},0,0,0,"","","","","",""]
[{"$f":"Regr_Lineal!B464","v":0},{"$f":"Regr_Lineal!C464","v":0},{"$f":"Regr_Lineal!D464","v":0},0,0,0,"","","","","",""]
[{"$f":"Regr_Lineal!B465","v":0},{"$f":"Regr_Lineal!C465","v":0},{"$f":"Regr_Lineal!D465","v":0},0,0,0,"","","","","",""]
[{"$f":"Regr_Lineal!B466","v":0},{"$f":"Regr_Lineal!C466","v":0},{"$f":"Regr_Lineal!D466","v":0},0,0,0,"","","","","",""]
[{"$f":"Regr_Lineal!B467","v":0},{"$f":"Regr_Lineal!C467","v":0},{"$f":"Regr_Lineal!D467","v":0},0,0,0,"","","","","",""]
[{"$f":"Regr_Lineal!B468","v":0},{"$f":"Regr_Lineal!C468","v":0},{"$f":"Regr_Lineal!D468","v":0},0,0,0,"","","","","",""]
[{"$f":"Regr_Lineal!B469","v":0},{"$f":"Regr_Lineal!C469","v":0},{"$f":"Regr_Lineal!D469","v":0},0,0,0,"","","","","",""]
[{"$f":"Regr_Lineal!B470","v":0},{"$f":"Regr_Lineal!C470","v":0},{"$f":"Regr_Lineal!D470","v":0},0,0,0,"","","","","",""]
[{"$f":"Regr_Lineal!B471","v":0},{"$f":"Regr_Lineal!C471","v":0},{"$f":"Regr_Lineal!D471","v":0},0,0,0,"","","","","",""]
[{"$f":"Regr_Lineal!B472","v":0},{"$f":"Regr_Lineal!C472","v":0},{"$f":"Regr_Lineal!D472","v":0},0,0,0,"","","","","",""]
[{"$f":"Regr_Lineal!B473","v":0},{"$f":"Regr_Lineal!C473","v":0},{"$f":"Regr_Lineal!D473","v":0},0,0,0,"","","","","",""]
[{"$f":"Regr_Lineal!B474","v":0},{"$f":"Regr_Lineal!C474","v":0},{"$f":"Regr_Lineal!D474","v":0},0,0,0,"","","","","",""]
[{"$f":"Regr_Lineal!B475","v":0},{"$f":"Regr_Lineal!C475","v":0},{"$f":"Regr_Lineal!D475","v":0},0,0,0,"","","","","",""]
[{"$f":"Regr_Lineal!B476","v":0},{"$f":"Regr_Lineal!C476","v":0},{"$f":"Regr_Lineal!D476","v":0},0,0,0,"","","","","",""]
[{"$f":"Regr_Lineal!B477","v":0},{"$f":"Regr_Lineal!C477","v":0},{"$f":"Regr_Lineal!D477","v":0},0,0,0,"","","","","",""]
[{"$f":"Regr_Lineal!B478","v":0},{"$f":"Regr_Lineal!C478","v":0},{"$f":"Regr_Lineal!D478","v":0},0,0,0,"","","","","",""]
[{"$f":"Regr_Lineal!B479","v":0},{"$f":"Regr_Lineal!C479","v":0},{"$f":"Regr_Lineal!D479","v":0},0,0,0,"","","","","",""]
[{"$f":"Regr_Lineal!B480","v":0},{"$f":"Regr_Lineal!C480","v":0},{"$f":"Regr_Lineal!D480","v":0},0,0,0,"","","","","",""]
[{"$f":"Regr_Lineal!B481","v":0},{"$f":"Regr_Lineal!C481","v":0},{"$f":"Regr_Lineal!D481","v":0},0,0,0,"","","","","",""]
[{"$f":"Regr_Lineal!B482","v":0},{"$f":"Regr_Lineal!C482","v":0},{"$f":"Regr_Lineal!D482","v":0},0,0,0,"","","","","",""]
[{"$f":"Regr_Lineal!B483","v":0},{"$f":"Regr_Lineal!C483","v":0},{"$f":"Regr_Lineal!D483","v":0},0,0,0,"","","","","",""]
[{"$f":"Regr_Lineal!B484","v":0},{"$f":"Regr_Lineal!C484","v":0},{"$f":"Regr_Lineal!D484","v":0},0,0,0,"","","","","",""]
[{"$f":"Regr_Lineal!B485","v":0},{"$f":"Regr_Lineal!C485","v":0},{"$f":"Regr_Lineal!D485","v":0},0,0,0,"","","","","",""]
[{"$f":"Regr_Lineal!B486","v":0},{"$f":"Regr_Lineal!C486","v":0},{"$f":"Regr_Lineal!D486","v":0},0,0,0,"","","","","",""]
[{"$f":"Regr_Lineal!B487","v":0},{"$f":"Regr_Lineal!C487","v":0},{"$f":"Regr_Lineal!D487","v":0},0,0,0,"","","","","",""]
[{"$f":"Regr_Lineal!B488","v":0},{"$f":"Regr_Lineal!C488","v":0},{"$f":"Regr_Lineal!D488","v":0},0,0,0,"","","","","",""]
[{"$f":"Regr_Lineal!B489","v":0},{"$f":"Regr_Lineal!C489","v":0},{"$f":"Regr_Lineal!D489","v":0},0,0,0,"","","","","",""]
[{"$f":"Regr_Lineal!B490","v":0},{"$f":"Regr_Lineal!C490","v":0},{"$f":"Regr_Lineal!D490","v":0},0,0,0,"","","","","",""]
[{"$f":"Regr_Lineal!B491","v":0},{"$f":"Regr_Lineal!C491","v":0},{"$f":"Regr_Lineal!D491","v":0},0,0,0,"","","","","",""]
[{"$f":"Regr_Lineal!B492","v":0},{"$f":"Regr_Lineal!C492","v":0},{"$f":"Regr_Lineal!D492","v":0},0,0,0,"","","","","",""]
[{"$f":"Regr_Lineal!B493","v":0},{"$f":"Regr_Lineal!C493","v":0},{"$f":"Regr_Lineal!D493","v":0},0,0,0,"","","","","",""]
[{"$f":"Regr_Lineal!B494","v":0},{"$f":"Regr_Lineal!C494","v":0},{"$f":"Regr_Lineal!D494","v":0},0,0,0,"","","","","",""]
[{"$f":"Regr_Lineal!B495","v":0},{"$f":"Regr_Lineal!C495","v":0},{"$f":"Regr_Lineal!D495","v":0},0,0,0,"","","","","",""]
[{"$f":"Regr_Lineal!B496","v":0},{"$f":"Regr_Lineal!C496","v":0},{"$f":"Regr_Lineal!D496","v":0},0,0,0,"","","","","",""]
[{"$f":"Regr_Lineal!B497","v":0},{"$f":"Regr_Lineal!C497","v":0},{"$f":"Regr_Lineal!D497","v":0},0,0,0,"","","","","",""]
[{"$f":"Regr_Lineal!B498","v":0},{"$f":"Regr_Lineal!C498","v":0},{"$f":"Regr_Lineal!D498","v":0},0,0,0,"","","","","",""]
[{"$f":"Regr_Lineal!B499","v":0},{"$f":"Regr_Lineal!C499","v":0},{"$f":"Regr_Lineal!D499","v":0},0,0,0,"","","","","",""]
[{"$f":"Regr_Lineal!B500","v":0},{"$f":"Regr_Lineal!C500","v":0},{"$f":"Regr_Lineal!D500","v":0},0,0,0,"","","","","",""]
[{"$f":"Regr_Lineal!B501","v":0},{"$f":"Regr_Lineal!C501","v":0},{"$f":"Regr_Lineal!D501","v":0},0,0,0,"","","","","",""]
[{"$f":"Regr_Lineal!B502","v":0},{"$f":"Regr_Lineal!C502","v":0},{"$f":"Regr_Lineal!D502","v":0},0,0,0,"","","","","",""]
[{"$f":"Regr_Lineal!B503","v":0},{"$f":"Regr_Lineal!C503","v":0},{"$f":"Regr_Lineal!D503","v":0},0,0,0,"","","","","",""]
[{"$f":"Regr_Lineal!B504","v":0},{"$f":"Regr_Lineal!C504","v":0},{"$f":"Regr_Lineal!D504","v":0},0,0,0,"","","","","",""]